BEGIN:VCALENDAR
VERSION:2.0
PRODID:-//National Behavioral Health Association of Providers (NBHAP) - ECPv6.15.20//NONSGML v1.0//EN
CALSCALE:GREGORIAN
METHOD:PUBLISH
X-ORIGINAL-URL:https://nbhap.org
X-WR-CALDESC:Events for National Behavioral Health Association of Providers (NBHAP)
REFRESH-INTERVAL;VALUE=DURATION:PT1H
X-Robots-Tag:noindex
X-PUBLISHED-TTL:PT1H
BEGIN:VTIMEZONE
TZID:America/Los_Angeles
BEGIN:DAYLIGHT
TZOFFSETFROM:-0800
TZOFFSETTO:-0700
TZNAME:PDT
DTSTART:20240310T100000
END:DAYLIGHT
BEGIN:STANDARD
TZOFFSETFROM:-0700
TZOFFSETTO:-0800
TZNAME:PST
DTSTART:20241103T090000
END:STANDARD
BEGIN:DAYLIGHT
TZOFFSETFROM:-0800
TZOFFSETTO:-0700
TZNAME:PDT
DTSTART:20250309T100000
END:DAYLIGHT
BEGIN:STANDARD
TZOFFSETFROM:-0700
TZOFFSETTO:-0800
TZNAME:PST
DTSTART:20251102T090000
END:STANDARD
BEGIN:DAYLIGHT
TZOFFSETFROM:-0800
TZOFFSETTO:-0700
TZNAME:PDT
DTSTART:20260308T100000
END:DAYLIGHT
BEGIN:STANDARD
TZOFFSETFROM:-0700
TZOFFSETTO:-0800
TZNAME:PST
DTSTART:20261101T090000
END:STANDARD
END:VTIMEZONE
BEGIN:VEVENT
DTSTART;TZID=America/Los_Angeles:20250806T100000
DTEND;TZID=America/Los_Angeles:20250806T110000
DTSTAMP:20260420T164311
CREATED:20250725T212829Z
LAST-MODIFIED:20250725T212829Z
UID:4300001642-1754474400-1754478000@nbhap.org
SUMMARY:Webinar: Simple Tools for Running Your Practice: Understanding EMRs\, EHRs\, and Jane
DESCRIPTION:Not sure what an EMR or EHR actually is? You’re not alone. Jane – an all-in-one EMR/EHR and practice management platform—has partnered with NBHAP to deliver a free\, beginner-friendly webinar that breaks it all down. You’ll learn what EMRs and EHRs are\, how clinic software supports your private or group practice\, and how Jane is designed to simplify your entire workflow: from charting and scheduling to payments and telehealth.
URL:https://nbhap.org/event/webinar-simple-tools-for-running-your-practice-understanding-emrs-ehrs-and-jane/
LOCATION:online
CATEGORIES:NBHAP event,webinar or workshop
ATTACH;FMTTYPE=image/png:https://nbhap.org/wp-content/uploads/webinar-Simple-Tools-for-Running-Your-Practice-EHRs-event.png
ORGANIZER;CN="NBHAP (National Behavioral Health Association of Providers)":MAILTO:info@nbhap.org
END:VEVENT
BEGIN:VEVENT
DTSTART;TZID=America/Los_Angeles:20250806T100000
DTEND;TZID=America/Los_Angeles:20250806T130000
DTSTAMP:20260420T164311
CREATED:20250520T235827Z
LAST-MODIFIED:20250520T235827Z
UID:4300001558-1754474400-1754485200@nbhap.org
SUMMARY:Unveiling the Disconnected Mind: Understanding Dissociation
DESCRIPTION:
URL:https://nbhap.org/event/unveiling-the-disconnected-mind-understanding-dissociation-2/
LOCATION:online
CATEGORIES:webinar or workshop
END:VEVENT
BEGIN:VEVENT
DTSTART;TZID=America/Los_Angeles:20250806T100000
DTEND;TZID=America/Los_Angeles:20250806T131500
DTSTAMP:20260420T164311
CREATED:20250501T161502Z
LAST-MODIFIED:20250501T161502Z
UID:4300001434-1754474400-1754486100@nbhap.org
SUMMARY:Unveiling the Disconnected Mind: Understanding Dissociation
DESCRIPTION:
URL:https://nbhap.org/event/unveiling-the-disconnected-mind-understanding-dissociation/
LOCATION:online
CATEGORIES:webinar or workshop
END:VEVENT
BEGIN:VEVENT
DTSTART;TZID=America/Los_Angeles:20250806T120000
DTEND;TZID=America/Los_Angeles:20250806T133000
DTSTAMP:20260420T164311
CREATED:20250201T232820Z
LAST-MODIFIED:20250502T014130Z
UID:4300001137-1754481600-1754487000@nbhap.org
SUMMARY:The Power of Plasticity: Paving New Neural Pathways for Recovery
DESCRIPTION:
URL:https://nbhap.org/event/the-power-of-plasticity-paving-new-neural-pathways-for-recovery/
LOCATION:online
CATEGORIES:webinar or workshop
END:VEVENT
BEGIN:VEVENT
DTSTART;TZID=America/Los_Angeles:20250806T130000
DTEND;TZID=America/Los_Angeles:20250806T170000
DTSTAMP:20260420T164311
CREATED:20250502T032501Z
LAST-MODIFIED:20250502T032514Z
UID:4300001497-1754485200-1754499600@nbhap.org
SUMMARY:Responding to Intersectional Stigmatization: Strategies for Health Professionals
DESCRIPTION:
URL:https://nbhap.org/event/responding-to-intersectional-stigmatization-strategies-for-health-professionals-080625/
LOCATION:online
CATEGORIES:webinar or workshop
END:VEVENT
END:VCALENDAR