BEGIN:VCALENDAR
VERSION:2.0
PRODID:-//National Behavioral Health Association of Providers (NBHAP) - ECPv6.15.20//NONSGML v1.0//EN
CALSCALE:GREGORIAN
METHOD:PUBLISH
X-WR-CALNAME:National Behavioral Health Association of Providers (NBHAP)
X-ORIGINAL-URL:https://nbhap.org
X-WR-CALDESC:Events for National Behavioral Health Association of Providers (NBHAP)
REFRESH-INTERVAL;VALUE=DURATION:PT1H
X-Robots-Tag:noindex
X-PUBLISHED-TTL:PT1H
BEGIN:VTIMEZONE
TZID:America/Los_Angeles
BEGIN:DAYLIGHT
TZOFFSETFROM:-0800
TZOFFSETTO:-0700
TZNAME:PDT
DTSTART:20240310T100000
END:DAYLIGHT
BEGIN:STANDARD
TZOFFSETFROM:-0700
TZOFFSETTO:-0800
TZNAME:PST
DTSTART:20241103T090000
END:STANDARD
BEGIN:DAYLIGHT
TZOFFSETFROM:-0800
TZOFFSETTO:-0700
TZNAME:PDT
DTSTART:20250309T100000
END:DAYLIGHT
BEGIN:STANDARD
TZOFFSETFROM:-0700
TZOFFSETTO:-0800
TZNAME:PST
DTSTART:20251102T090000
END:STANDARD
BEGIN:DAYLIGHT
TZOFFSETFROM:-0800
TZOFFSETTO:-0700
TZNAME:PDT
DTSTART:20260308T100000
END:DAYLIGHT
BEGIN:STANDARD
TZOFFSETFROM:-0700
TZOFFSETTO:-0800
TZNAME:PST
DTSTART:20261101T090000
END:STANDARD
END:VTIMEZONE
BEGIN:VEVENT
DTSTART;VALUE=DATE:20250902
DTEND;VALUE=DATE:20251028
DTSTAMP:20260420T134023
CREATED:20250906T052908Z
LAST-MODIFIED:20250906T052908Z
UID:4300001789-1756771200-1761609599@nbhap.org
SUMMARY:Learning Disorders
DESCRIPTION:
URL:https://nbhap.org/event/learning-disorders/
LOCATION:online
CATEGORIES:webinar or workshop
END:VEVENT
BEGIN:VEVENT
DTSTART;VALUE=DATE:20250902
DTEND;VALUE=DATE:20251111
DTSTAMP:20260420T134023
CREATED:20250907T024210Z
LAST-MODIFIED:20250907T024210Z
UID:4300001841-1756771200-1762819199@nbhap.org
SUMMARY:Treatment Resistant Depression: Advances in Evaluation and Management
DESCRIPTION:
URL:https://nbhap.org/event/treatment-resistant-depression-advances-in-evaluation-and-management-2/
LOCATION:online
CATEGORIES:webinar or workshop
END:VEVENT
BEGIN:VEVENT
DTSTART;TZID=America/Los_Angeles:20250909T100000
DTEND;TZID=America/Los_Angeles:20250909T110000
DTSTAMP:20260420T134023
CREATED:20250907T013802Z
LAST-MODIFIED:20250907T013802Z
UID:4300001804-1757412000-1757415600@nbhap.org
SUMMARY:Compassion Across Generations: Meeting the Needs of Older Adults in Substance Use Disorder Treatment
DESCRIPTION:
URL:https://nbhap.org/event/compassion-across-generations-meeting-the-needs-of-older-adults-in-substance-use-disorder-treatment/
LOCATION:online
CATEGORIES:webinar or workshop
END:VEVENT
BEGIN:VEVENT
DTSTART;TZID=America/Los_Angeles:20250909T110000
DTEND;TZID=America/Los_Angeles:20250909T120000
DTSTAMP:20260420T134023
CREATED:20250907T032658Z
LAST-MODIFIED:20250907T032658Z
UID:4300001850-1757415600-1757419200@nbhap.org
SUMMARY:Getting the Right People in the Right Seats: How Strategic Talent Decisions Save You Money and Build Long-Term Success
DESCRIPTION:
URL:https://nbhap.org/event/getting-the-right-people-in-the-right-seats-how-strategic-talent-decisions-save-you-money-and-build-long-term-success/
LOCATION:online
CATEGORIES:webinar or workshop
END:VEVENT
BEGIN:VEVENT
DTSTART;TZID=America/Los_Angeles:20250909T140000
DTEND;TZID=America/Los_Angeles:20250909T150000
DTSTAMP:20260420T134023
CREATED:20250905T220848Z
LAST-MODIFIED:20250905T220848Z
UID:4300001677-1757426400-1757430000@nbhap.org
SUMMARY:[ORN] Community Health and Wellbeing Webinar Series: Recovery and Rural Communities
DESCRIPTION:
URL:https://nbhap.org/event/orn-community-health-and-wellbeing-webinar-series-recovery-and-rural-communities/
LOCATION:online
CATEGORIES:webinar or workshop
END:VEVENT
BEGIN:VEVENT
DTSTART;TZID=America/Los_Angeles:20250909T140000
DTEND;TZID=America/Los_Angeles:20250909T153000
DTSTAMP:20260420T134023
CREATED:20250907T011853Z
LAST-MODIFIED:20250907T011853Z
UID:4300001792-1757426400-1757431800@nbhap.org
SUMMARY:Holding Space While Staying Grounded: In-Session Support for Clinician Self-Regulation
DESCRIPTION:
URL:https://nbhap.org/event/holding-space-while-staying-grounded-in-session-support-for-clinician-self-regulation/
LOCATION:online
CATEGORIES:webinar or workshop
END:VEVENT
END:VCALENDAR