BEGIN:VCALENDAR
VERSION:2.0
PRODID:-//National Behavioral Health Association of Providers (NBHAP) - ECPv6.15.20//NONSGML v1.0//EN
CALSCALE:GREGORIAN
METHOD:PUBLISH
X-WR-CALNAME:National Behavioral Health Association of Providers (NBHAP)
X-ORIGINAL-URL:https://nbhap.org
X-WR-CALDESC:Events for National Behavioral Health Association of Providers (NBHAP)
REFRESH-INTERVAL;VALUE=DURATION:PT1H
X-Robots-Tag:noindex
X-PUBLISHED-TTL:PT1H
BEGIN:VTIMEZONE
TZID:America/Los_Angeles
BEGIN:DAYLIGHT
TZOFFSETFROM:-0800
TZOFFSETTO:-0700
TZNAME:PDT
DTSTART:20240310T100000
END:DAYLIGHT
BEGIN:STANDARD
TZOFFSETFROM:-0700
TZOFFSETTO:-0800
TZNAME:PST
DTSTART:20241103T090000
END:STANDARD
BEGIN:DAYLIGHT
TZOFFSETFROM:-0800
TZOFFSETTO:-0700
TZNAME:PDT
DTSTART:20250309T100000
END:DAYLIGHT
BEGIN:STANDARD
TZOFFSETFROM:-0700
TZOFFSETTO:-0800
TZNAME:PST
DTSTART:20251102T090000
END:STANDARD
BEGIN:DAYLIGHT
TZOFFSETFROM:-0800
TZOFFSETTO:-0700
TZNAME:PDT
DTSTART:20260308T100000
END:DAYLIGHT
BEGIN:STANDARD
TZOFFSETFROM:-0700
TZOFFSETTO:-0800
TZNAME:PST
DTSTART:20261101T090000
END:STANDARD
END:VTIMEZONE
BEGIN:VEVENT
DTSTART;VALUE=DATE:20250902
DTEND;VALUE=DATE:20251028
DTSTAMP:20260420T133912
CREATED:20250906T052908Z
LAST-MODIFIED:20250906T052908Z
UID:4300001789-1756771200-1761609599@nbhap.org
SUMMARY:Learning Disorders
DESCRIPTION:
URL:https://nbhap.org/event/learning-disorders/
LOCATION:online
CATEGORIES:webinar or workshop
END:VEVENT
BEGIN:VEVENT
DTSTART;VALUE=DATE:20250902
DTEND;VALUE=DATE:20251111
DTSTAMP:20260420T133912
CREATED:20250907T024210Z
LAST-MODIFIED:20250907T024210Z
UID:4300001841-1756771200-1762819199@nbhap.org
SUMMARY:Treatment Resistant Depression: Advances in Evaluation and Management
DESCRIPTION:
URL:https://nbhap.org/event/treatment-resistant-depression-advances-in-evaluation-and-management-2/
LOCATION:online
CATEGORIES:webinar or workshop
END:VEVENT
BEGIN:VEVENT
DTSTART;VALUE=DATE:20250910
DTEND;VALUE=DATE:20250925
DTSTAMP:20260420T133912
CREATED:20250906T033939Z
LAST-MODIFIED:20250906T033939Z
UID:4300001753-1757462400-1758758399@nbhap.org
SUMMARY:Build a Better Brain: Tools to Empower Clients and Enhance Therapy Outcomes
DESCRIPTION:
URL:https://nbhap.org/event/build-a-better-brain-tools-to-empower-clients-and-enhance-therapy-outcomes/
LOCATION:online
CATEGORIES:webinar or workshop
END:VEVENT
BEGIN:VEVENT
DTSTART;VALUE=DATE:20250912
DTEND;VALUE=DATE:20250929
DTSTAMP:20260420T133912
CREATED:20250906T034033Z
LAST-MODIFIED:20250906T034033Z
UID:4300001754-1757635200-1759103999@nbhap.org
SUMMARY:Clinical Hypnotherapy Certification Program: Levels 2 & 3
DESCRIPTION:
URL:https://nbhap.org/event/clinical-hypnotherapy-certification-program-levels-2-3/
LOCATION:online
CATEGORIES:webinar or workshop
END:VEVENT
BEGIN:VEVENT
DTSTART;TZID=America/Los_Angeles:20250917T080000
DTEND;TZID=America/Los_Angeles:20250917T090000
DTSTAMP:20260420T133912
CREATED:20250907T032101Z
LAST-MODIFIED:20250907T032101Z
UID:4300001849-1758096000-1758099600@nbhap.org
SUMMARY:Competencies in Focus: Assessment
DESCRIPTION:
URL:https://nbhap.org/event/competencies-in-focus-assessment/
LOCATION:online
CATEGORIES:webinar or workshop
END:VEVENT
BEGIN:VEVENT
DTSTART;TZID=America/Los_Angeles:20250917T090000
DTEND;TZID=America/Los_Angeles:20250917T100000
DTSTAMP:20260420T133912
CREATED:20250205T213635Z
LAST-MODIFIED:20250823T160135Z
UID:4300001197-1758099600-1758103200@nbhap.org
SUMMARY:Behavioral Health Care and Human Services Accreditation Webinar Series: Information Management (IM)\, Record of Care (RC)
DESCRIPTION:
URL:https://nbhap.org/event/behavioral-health-care-and-human-services-accreditation-webinar-series-information-management-im-record-of-care-rc/
LOCATION:online
CATEGORIES:webinar or workshop
END:VEVENT
BEGIN:VEVENT
DTSTART;TZID=America/Los_Angeles:20250917T090000
DTEND;TZID=America/Los_Angeles:20250917T100000
DTSTAMP:20260420T133912
CREATED:20250907T014711Z
LAST-MODIFIED:20250907T014711Z
UID:4300001810-1758099600-1758103200@nbhap.org
SUMMARY:Discovering the Unknown: Chronic Dissociative Processes in People with Eating Disorders
DESCRIPTION:
URL:https://nbhap.org/event/discovering-the-unknown-chronic-dissociative-processes-in-people-with-eating-disorders/
LOCATION:online
CATEGORIES:webinar or workshop
END:VEVENT
BEGIN:VEVENT
DTSTART;TZID=America/Los_Angeles:20250917T090000
DTEND;TZID=America/Los_Angeles:20250917T103000
DTSTAMP:20260420T133912
CREATED:20250907T012155Z
LAST-MODIFIED:20250907T012155Z
UID:4300001795-1758099600-1758105000@nbhap.org
SUMMARY:Tangled Roots: The Importance of Treating Eating and Anxiety Disorder Concurrently
DESCRIPTION:
URL:https://nbhap.org/event/tangled-roots-the-importance-of-treating-eating-and-anxiety-disorder-concurrently/
LOCATION:online
CATEGORIES:webinar or workshop
END:VEVENT
BEGIN:VEVENT
DTSTART;TZID=America/Los_Angeles:20250917T100000
DTEND;TZID=America/Los_Angeles:20250917T110000
DTSTAMP:20260420T133912
CREATED:20250801T212651Z
LAST-MODIFIED:20250801T212651Z
UID:4300001643-1758103200-1758106800@nbhap.org
SUMMARY:Lead the Change\, Keep the Trust: Change Management Strategies for Navigating Transitions in Behavioral Health Organizations
DESCRIPTION:
URL:https://nbhap.org/event/lead-the-change-keep-the-trust-change-management-strategies-for-navigating-transitions-in-behavioral-health-organizations/
LOCATION:online
CATEGORIES:NBHAP event,webinar or workshop
ATTACH;FMTTYPE=image/png:https://nbhap.org/wp-content/uploads/2025_0917-webinar-Lead-the-Change-Keep-the-Trust.png
ORGANIZER;CN="NBHAP (National Behavioral Health Association of Providers)":MAILTO:info@nbhap.org
END:VEVENT
BEGIN:VEVENT
DTSTART;TZID=America/Los_Angeles:20250917T120000
DTEND;TZID=America/Los_Angeles:20250917T130000
DTSTAMP:20260420T133912
CREATED:20250906T041234Z
LAST-MODIFIED:20250906T041234Z
UID:4300001767-1758110400-1758114000@nbhap.org
SUMMARY:Credentialing Without Compromise: How Automation Reduces Compliance Risk in Behavioral Health
DESCRIPTION:
URL:https://nbhap.org/event/credentialing-without-compromise-how-automation-reduces-compliance-risk-in-behavioral-health/
LOCATION:online
CATEGORIES:webinar or workshop
END:VEVENT
BEGIN:VEVENT
DTSTART;TZID=America/Los_Angeles:20250917T120000
DTEND;TZID=America/Los_Angeles:20250917T130000
DTSTAMP:20260420T133912
CREATED:20250906T045324Z
LAST-MODIFIED:20250906T045324Z
UID:4300001774-1758110400-1758114000@nbhap.org
SUMMARY:Introduction to DBT
DESCRIPTION:
URL:https://nbhap.org/event/introduction-to-dbt/
LOCATION:online
CATEGORIES:webinar or workshop
END:VEVENT
BEGIN:VEVENT
DTSTART;TZID=America/Los_Angeles:20250917T120000
DTEND;TZID=America/Los_Angeles:20250917T130000
DTSTAMP:20260420T133912
CREATED:20250907T012254Z
LAST-MODIFIED:20250907T012254Z
UID:4300001796-1758110400-1758114000@nbhap.org
SUMMARY:Building a Resilient Clinician
DESCRIPTION:
URL:https://nbhap.org/event/building-a-resilient-clinician/
LOCATION:online
CATEGORIES:webinar or workshop
END:VEVENT
BEGIN:VEVENT
DTSTART;TZID=America/Los_Angeles:20250917T160000
DTEND;TZID=America/Los_Angeles:20250917T170000
DTSTAMP:20260420T133912
CREATED:20250905T221123Z
LAST-MODIFIED:20250905T221123Z
UID:4300001682-1758124800-1758128400@nbhap.org
SUMMARY:[ORN] VLC Promoting Access to Youth Recovery Support Programs
DESCRIPTION:
URL:https://nbhap.org/event/orn-vlc-promoting-access-to-youth-recovery-support-programs/
LOCATION:online
CATEGORIES:webinar or workshop
END:VEVENT
END:VCALENDAR