BEGIN:VCALENDAR
VERSION:2.0
PRODID:-//National Behavioral Health Association of Providers (NBHAP) - ECPv6.15.20//NONSGML v1.0//EN
CALSCALE:GREGORIAN
METHOD:PUBLISH
X-ORIGINAL-URL:https://nbhap.org
X-WR-CALDESC:Events for National Behavioral Health Association of Providers (NBHAP)
REFRESH-INTERVAL;VALUE=DURATION:PT1H
X-Robots-Tag:noindex
X-PUBLISHED-TTL:PT1H
BEGIN:VTIMEZONE
TZID:America/Los_Angeles
BEGIN:DAYLIGHT
TZOFFSETFROM:-0800
TZOFFSETTO:-0700
TZNAME:PDT
DTSTART:20240310T100000
END:DAYLIGHT
BEGIN:STANDARD
TZOFFSETFROM:-0700
TZOFFSETTO:-0800
TZNAME:PST
DTSTART:20241103T090000
END:STANDARD
BEGIN:DAYLIGHT
TZOFFSETFROM:-0800
TZOFFSETTO:-0700
TZNAME:PDT
DTSTART:20250309T100000
END:DAYLIGHT
BEGIN:STANDARD
TZOFFSETFROM:-0700
TZOFFSETTO:-0800
TZNAME:PST
DTSTART:20251102T090000
END:STANDARD
BEGIN:DAYLIGHT
TZOFFSETFROM:-0800
TZOFFSETTO:-0700
TZNAME:PDT
DTSTART:20260308T100000
END:DAYLIGHT
BEGIN:STANDARD
TZOFFSETFROM:-0700
TZOFFSETTO:-0800
TZNAME:PST
DTSTART:20261101T090000
END:STANDARD
END:VTIMEZONE
BEGIN:VEVENT
DTSTART;VALUE=DATE:20250902
DTEND;VALUE=DATE:20251028
DTSTAMP:20260420T134246
CREATED:20250906T052908Z
LAST-MODIFIED:20250906T052908Z
UID:4300001789-1756771200-1761609599@nbhap.org
SUMMARY:Learning Disorders
DESCRIPTION:
URL:https://nbhap.org/event/learning-disorders/
LOCATION:online
CATEGORIES:webinar or workshop
END:VEVENT
BEGIN:VEVENT
DTSTART;VALUE=DATE:20250902
DTEND;VALUE=DATE:20251111
DTSTAMP:20260420T134246
CREATED:20250907T024210Z
LAST-MODIFIED:20250907T024210Z
UID:4300001841-1756771200-1762819199@nbhap.org
SUMMARY:Treatment Resistant Depression: Advances in Evaluation and Management
DESCRIPTION:
URL:https://nbhap.org/event/treatment-resistant-depression-advances-in-evaluation-and-management-2/
LOCATION:online
CATEGORIES:webinar or workshop
END:VEVENT
BEGIN:VEVENT
DTSTART;VALUE=DATE:20250910
DTEND;VALUE=DATE:20250925
DTSTAMP:20260420T134246
CREATED:20250906T033939Z
LAST-MODIFIED:20250906T033939Z
UID:4300001753-1757462400-1758758399@nbhap.org
SUMMARY:Build a Better Brain: Tools to Empower Clients and Enhance Therapy Outcomes
DESCRIPTION:
URL:https://nbhap.org/event/build-a-better-brain-tools-to-empower-clients-and-enhance-therapy-outcomes/
LOCATION:online
CATEGORIES:webinar or workshop
END:VEVENT
BEGIN:VEVENT
DTSTART;VALUE=DATE:20250912
DTEND;VALUE=DATE:20250929
DTSTAMP:20260420T134246
CREATED:20250906T034033Z
LAST-MODIFIED:20250906T034033Z
UID:4300001754-1757635200-1759103999@nbhap.org
SUMMARY:Clinical Hypnotherapy Certification Program: Levels 2 & 3
DESCRIPTION:
URL:https://nbhap.org/event/clinical-hypnotherapy-certification-program-levels-2-3/
LOCATION:online
CATEGORIES:webinar or workshop
END:VEVENT
BEGIN:VEVENT
DTSTART;VALUE=DATE:20250918
DTEND;VALUE=DATE:20251003
DTSTAMP:20260420T134246
CREATED:20250905T215840Z
LAST-MODIFIED:20250905T215840Z
UID:4300001675-1758153600-1759449599@nbhap.org
SUMMARY:Cognitive-Behavioral Therapy (Rational Living Therapy) Level-One Certification
DESCRIPTION:Dates: September 18\, 2025 (Day One)\n                September 25\, 2025 (Day Two)\n                October 2\, 2025 (Day Three)\nTime: 10:30 am – 6:00 pm Eastern Time
URL:https://nbhap.org/event/cognitive-behavioral-therapy-rational-living-therapy-level-one-certification/
LOCATION:online
CATEGORIES:webinar or workshop
END:VEVENT
BEGIN:VEVENT
DTSTART;TZID=America/Los_Angeles:20250919T060000
DTEND;TZID=America/Los_Angeles:20250919T150000
DTSTAMP:20260420T134246
CREATED:20250907T012503Z
LAST-MODIFIED:20250907T012503Z
UID:4300001798-1758261600-1758294000@nbhap.org
SUMMARY:Trauma Specialist Qualification: Core-Focused Treatment for Evidence-Based Outcomes
DESCRIPTION:
URL:https://nbhap.org/event/trauma-specialist-qualification-core-focused-treatment-for-evidence-based-outcomes/
LOCATION:online
CATEGORIES:webinar or workshop
END:VEVENT
BEGIN:VEVENT
DTSTART;TZID=America/Los_Angeles:20250919T090000
DTEND;TZID=America/Los_Angeles:20250919T100000
DTSTAMP:20260420T134246
CREATED:20250906T052642Z
LAST-MODIFIED:20250906T052642Z
UID:4300001788-1758272400-1758276000@nbhap.org
SUMMARY:Radical Self-Care: How to Protect Yourself and Your Clients from Compassion Fatigue
DESCRIPTION:
URL:https://nbhap.org/event/radical-self-care-how-to-protect-yourself-and-your-clients-from-compassion-fatigue/
LOCATION:online
CATEGORIES:webinar or workshop
END:VEVENT
BEGIN:VEVENT
DTSTART;TZID=America/Los_Angeles:20250919T090000
DTEND;TZID=America/Los_Angeles:20250919T100000
DTSTAMP:20260420T134246
CREATED:20250907T012354Z
LAST-MODIFIED:20250907T012354Z
UID:4300001797-1758272400-1758276000@nbhap.org
SUMMARY:Best Practice in Moving the Eating Disorder Field Forward with Virtual Care
DESCRIPTION:
URL:https://nbhap.org/event/best-practice-in-moving-the-eating-disorder-field-forward-with-virtual-care/
LOCATION:online
CATEGORIES:webinar or workshop
END:VEVENT
BEGIN:VEVENT
DTSTART;TZID=America/Los_Angeles:20250919T100000
DTEND;TZID=America/Los_Angeles:20250919T120000
DTSTAMP:20260420T134246
CREATED:20250918T191200Z
LAST-MODIFIED:20250918T191200Z
UID:4300001890-1758276000-1758283200@nbhap.org
SUMMARY:Addicted to Chaos\, Starving for Control: Understanding Eating Disorders in the Treatment of Substance Abuse
DESCRIPTION:
URL:https://nbhap.org/event/addicted-to-chaos-starving-for-control-understanding-eating-disorders-in-the-treatment-of-substance-abuse/
LOCATION:online
CATEGORIES:webinar or workshop
END:VEVENT
BEGIN:VEVENT
DTSTART;TZID=America/Los_Angeles:20250919T103000
DTEND;TZID=America/Los_Angeles:20250919T173000
DTSTAMP:20260420T134246
CREATED:20250906T034123Z
LAST-MODIFIED:20250906T034123Z
UID:4300001755-1758277800-1758303000@nbhap.org
SUMMARY:Integrating Somatic Work\, RO DBT\, and Polyvagal Theory: The Embodied Principle
DESCRIPTION:
URL:https://nbhap.org/event/integrating-somatic-work-ro-dbt-and-polyvagal-theory-the-embodied-principle/
LOCATION:online
CATEGORIES:webinar or workshop
END:VEVENT
BEGIN:VEVENT
DTSTART;TZID=America/Los_Angeles:20250919T110000
DTEND;TZID=America/Los_Angeles:20250919T141500
DTSTAMP:20260420T134246
CREATED:20250907T054346Z
LAST-MODIFIED:20250907T054346Z
UID:4300001858-1758279600-1758291300@nbhap.org
SUMMARY:Supporting Parental Bereavement and the Postpartum Period
DESCRIPTION:
URL:https://nbhap.org/event/supporting-parental-bereavement-and-the-postpartum-period/
LOCATION:online
CATEGORIES:webinar or workshop
END:VEVENT
BEGIN:VEVENT
DTSTART;TZID=America/Los_Angeles:20250919T113000
DTEND;TZID=America/Los_Angeles:20250919T140000
DTSTAMP:20260420T134246
CREATED:20250907T015253Z
LAST-MODIFIED:20250907T015253Z
UID:4300001814-1758281400-1758290400@nbhap.org
SUMMARY:Invisible Bags: Substance Abuse Treatment Through a Trauma-Informed Lens
DESCRIPTION:
URL:https://nbhap.org/event/invisible-bags-substance-abuse-treatment-through-a-trauma-informed-lens/
LOCATION:Kansas City\, MO\, Kansas City\, MO\, United States
CATEGORIES:webinar or workshop
END:VEVENT
END:VCALENDAR