BEGIN:VCALENDAR
VERSION:2.0
PRODID:-//National Behavioral Health Association of Providers (NBHAP) - ECPv6.15.20//NONSGML v1.0//EN
CALSCALE:GREGORIAN
METHOD:PUBLISH
X-ORIGINAL-URL:https://nbhap.org
X-WR-CALDESC:Events for National Behavioral Health Association of Providers (NBHAP)
REFRESH-INTERVAL;VALUE=DURATION:PT1H
X-Robots-Tag:noindex
X-PUBLISHED-TTL:PT1H
BEGIN:VTIMEZONE
TZID:America/Los_Angeles
BEGIN:DAYLIGHT
TZOFFSETFROM:-0800
TZOFFSETTO:-0700
TZNAME:PDT
DTSTART:20240310T100000
END:DAYLIGHT
BEGIN:STANDARD
TZOFFSETFROM:-0700
TZOFFSETTO:-0800
TZNAME:PST
DTSTART:20241103T090000
END:STANDARD
BEGIN:DAYLIGHT
TZOFFSETFROM:-0800
TZOFFSETTO:-0700
TZNAME:PDT
DTSTART:20250309T100000
END:DAYLIGHT
BEGIN:STANDARD
TZOFFSETFROM:-0700
TZOFFSETTO:-0800
TZNAME:PST
DTSTART:20251102T090000
END:STANDARD
BEGIN:DAYLIGHT
TZOFFSETFROM:-0800
TZOFFSETTO:-0700
TZNAME:PDT
DTSTART:20260308T100000
END:DAYLIGHT
BEGIN:STANDARD
TZOFFSETFROM:-0700
TZOFFSETTO:-0800
TZNAME:PST
DTSTART:20261101T090000
END:STANDARD
END:VTIMEZONE
BEGIN:VEVENT
DTSTART;VALUE=DATE:20250902
DTEND;VALUE=DATE:20251028
DTSTAMP:20260420T134242
CREATED:20250906T052908Z
LAST-MODIFIED:20250906T052908Z
UID:4300001789-1756771200-1761609599@nbhap.org
SUMMARY:Learning Disorders
DESCRIPTION:
URL:https://nbhap.org/event/learning-disorders/
LOCATION:online
CATEGORIES:webinar or workshop
END:VEVENT
BEGIN:VEVENT
DTSTART;VALUE=DATE:20250902
DTEND;VALUE=DATE:20251111
DTSTAMP:20260420T134242
CREATED:20250907T024210Z
LAST-MODIFIED:20250907T024210Z
UID:4300001841-1756771200-1762819199@nbhap.org
SUMMARY:Treatment Resistant Depression: Advances in Evaluation and Management
DESCRIPTION:
URL:https://nbhap.org/event/treatment-resistant-depression-advances-in-evaluation-and-management-2/
LOCATION:online
CATEGORIES:webinar or workshop
END:VEVENT
BEGIN:VEVENT
DTSTART;VALUE=DATE:20250912
DTEND;VALUE=DATE:20250929
DTSTAMP:20260420T134242
CREATED:20250906T034033Z
LAST-MODIFIED:20250906T034033Z
UID:4300001754-1757635200-1759103999@nbhap.org
SUMMARY:Clinical Hypnotherapy Certification Program: Levels 2 & 3
DESCRIPTION:
URL:https://nbhap.org/event/clinical-hypnotherapy-certification-program-levels-2-3/
LOCATION:online
CATEGORIES:webinar or workshop
END:VEVENT
BEGIN:VEVENT
DTSTART;VALUE=DATE:20250918
DTEND;VALUE=DATE:20251003
DTSTAMP:20260420T134242
CREATED:20250905T215840Z
LAST-MODIFIED:20250905T215840Z
UID:4300001675-1758153600-1759449599@nbhap.org
SUMMARY:Cognitive-Behavioral Therapy (Rational Living Therapy) Level-One Certification
DESCRIPTION:Dates: September 18\, 2025 (Day One)\n                September 25\, 2025 (Day Two)\n                October 2\, 2025 (Day Three)\nTime: 10:30 am – 6:00 pm Eastern Time
URL:https://nbhap.org/event/cognitive-behavioral-therapy-rational-living-therapy-level-one-certification/
LOCATION:online
CATEGORIES:webinar or workshop
END:VEVENT
BEGIN:VEVENT
DTSTART;VALUE=DATE:20250925
DTEND;VALUE=DATE:20250928
DTSTAMP:20260420T134242
CREATED:20250906T013509Z
LAST-MODIFIED:20250906T013509Z
UID:4300001719-1758758400-1759017599@nbhap.org
SUMMARY:GACA Adolescent Addiction Counselors Training Summit
DESCRIPTION:
URL:https://nbhap.org/event/gaca-adolescent-addiction-counselors-training-summit-2/
LOCATION:online
CATEGORIES:webinar or workshop
END:VEVENT
BEGIN:VEVENT
DTSTART;TZID=America/Los_Angeles:20250925T083000
DTEND;TZID=America/Los_Angeles:20250925T123000
DTSTAMP:20260420T134242
CREATED:20250502T032938Z
LAST-MODIFIED:20250502T032938Z
UID:4300001503-1758789000-1758803400@nbhap.org
SUMMARY:Teachable Moment Brief Intervention: Moving Forward Following a Medically Serious Suicide Attempt
DESCRIPTION:
URL:https://nbhap.org/event/teachable-moment-brief-intervention-moving-forward-following-a-medically-serious-suicide-attempt/
LOCATION:online
CATEGORIES:webinar or workshop
END:VEVENT
BEGIN:VEVENT
DTSTART;TZID=America/Los_Angeles:20250925T090000
DTEND;TZID=America/Los_Angeles:20250925T103000
DTSTAMP:20260420T134243
CREATED:20250907T015621Z
LAST-MODIFIED:20250907T015621Z
UID:4300001816-1758790800-1758796200@nbhap.org
SUMMARY:Carrying Vulnerability and Hope: Eating Disorders and Pregnancy
DESCRIPTION:
URL:https://nbhap.org/event/carrying-vulnerability-and-hope-eating-disorders-and-pregnancy/
LOCATION:online
CATEGORIES:webinar or workshop
END:VEVENT
BEGIN:VEVENT
DTSTART;TZID=America/Los_Angeles:20250925T090000
DTEND;TZID=America/Los_Angeles:20250925T120000
DTSTAMP:20260420T134243
CREATED:20250907T015727Z
LAST-MODIFIED:20250907T015727Z
UID:4300001817-1758790800-1758801600@nbhap.org
SUMMARY:Coaching & Consulting for Psychologists: The Who\, What\, Where\, & Why
DESCRIPTION:
URL:https://nbhap.org/event/coaching-consulting-for-psychologists-the-who-what-where-why/
LOCATION:online
CATEGORIES:webinar or workshop
END:VEVENT
END:VCALENDAR