BEGIN:VCALENDAR
VERSION:2.0
PRODID:-//National Behavioral Health Association of Providers (NBHAP) - ECPv6.15.20//NONSGML v1.0//EN
CALSCALE:GREGORIAN
METHOD:PUBLISH
X-WR-CALNAME:National Behavioral Health Association of Providers (NBHAP)
X-ORIGINAL-URL:https://nbhap.org
X-WR-CALDESC:Events for National Behavioral Health Association of Providers (NBHAP)
REFRESH-INTERVAL;VALUE=DURATION:PT1H
X-Robots-Tag:noindex
X-PUBLISHED-TTL:PT1H
BEGIN:VTIMEZONE
TZID:America/Los_Angeles
BEGIN:DAYLIGHT
TZOFFSETFROM:-0800
TZOFFSETTO:-0700
TZNAME:PDT
DTSTART:20240310T100000
END:DAYLIGHT
BEGIN:STANDARD
TZOFFSETFROM:-0700
TZOFFSETTO:-0800
TZNAME:PST
DTSTART:20241103T090000
END:STANDARD
BEGIN:DAYLIGHT
TZOFFSETFROM:-0800
TZOFFSETTO:-0700
TZNAME:PDT
DTSTART:20250309T100000
END:DAYLIGHT
BEGIN:STANDARD
TZOFFSETFROM:-0700
TZOFFSETTO:-0800
TZNAME:PST
DTSTART:20251102T090000
END:STANDARD
BEGIN:DAYLIGHT
TZOFFSETFROM:-0800
TZOFFSETTO:-0700
TZNAME:PDT
DTSTART:20260308T100000
END:DAYLIGHT
BEGIN:STANDARD
TZOFFSETFROM:-0700
TZOFFSETTO:-0800
TZNAME:PST
DTSTART:20261101T090000
END:STANDARD
END:VTIMEZONE
BEGIN:VEVENT
DTSTART;VALUE=DATE:20250902
DTEND;VALUE=DATE:20251028
DTSTAMP:20260420T120808
CREATED:20250906T052908Z
LAST-MODIFIED:20250906T052908Z
UID:4300001789-1756771200-1761609599@nbhap.org
SUMMARY:Learning Disorders
DESCRIPTION:
URL:https://nbhap.org/event/learning-disorders/
LOCATION:online
CATEGORIES:webinar or workshop
END:VEVENT
BEGIN:VEVENT
DTSTART;VALUE=DATE:20250902
DTEND;VALUE=DATE:20251111
DTSTAMP:20260420T120808
CREATED:20250907T024210Z
LAST-MODIFIED:20250907T024210Z
UID:4300001841-1756771200-1762819199@nbhap.org
SUMMARY:Treatment Resistant Depression: Advances in Evaluation and Management
DESCRIPTION:
URL:https://nbhap.org/event/treatment-resistant-depression-advances-in-evaluation-and-management-2/
LOCATION:online
CATEGORIES:webinar or workshop
END:VEVENT
BEGIN:VEVENT
DTSTART;TZID=America/Los_Angeles:20251004T110000
DTEND;TZID=America/Los_Angeles:20251004T141500
DTSTAMP:20260420T120808
CREATED:20250907T194406Z
LAST-MODIFIED:20250907T194406Z
UID:4300001862-1759575600-1759587300@nbhap.org
SUMMARY:Addressing Social Isolation: Identifying High-Risk Individuals and Effective Interventions for Mental Health Professionals
DESCRIPTION:
URL:https://nbhap.org/event/addressing-social-isolation-identifying-high-risk-individuals-and-effective-interventions-for-mental-health-professionals/
LOCATION:online
CATEGORIES:webinar or workshop
END:VEVENT
END:VCALENDAR