BEGIN:VCALENDAR
VERSION:2.0
PRODID:-//National Behavioral Health Association of Providers (NBHAP) - ECPv6.15.20//NONSGML v1.0//EN
CALSCALE:GREGORIAN
METHOD:PUBLISH
X-WR-CALNAME:National Behavioral Health Association of Providers (NBHAP)
X-ORIGINAL-URL:https://nbhap.org
X-WR-CALDESC:Events for National Behavioral Health Association of Providers (NBHAP)
REFRESH-INTERVAL;VALUE=DURATION:PT1H
X-Robots-Tag:noindex
X-PUBLISHED-TTL:PT1H
BEGIN:VTIMEZONE
TZID:America/Los_Angeles
BEGIN:DAYLIGHT
TZOFFSETFROM:-0800
TZOFFSETTO:-0700
TZNAME:PDT
DTSTART:20240310T100000
END:DAYLIGHT
BEGIN:STANDARD
TZOFFSETFROM:-0700
TZOFFSETTO:-0800
TZNAME:PST
DTSTART:20241103T090000
END:STANDARD
BEGIN:DAYLIGHT
TZOFFSETFROM:-0800
TZOFFSETTO:-0700
TZNAME:PDT
DTSTART:20250309T100000
END:DAYLIGHT
BEGIN:STANDARD
TZOFFSETFROM:-0700
TZOFFSETTO:-0800
TZNAME:PST
DTSTART:20251102T090000
END:STANDARD
BEGIN:DAYLIGHT
TZOFFSETFROM:-0800
TZOFFSETTO:-0700
TZNAME:PDT
DTSTART:20260308T100000
END:DAYLIGHT
BEGIN:STANDARD
TZOFFSETFROM:-0700
TZOFFSETTO:-0800
TZNAME:PST
DTSTART:20261101T090000
END:STANDARD
END:VTIMEZONE
BEGIN:VEVENT
DTSTART;VALUE=DATE:20250902
DTEND;VALUE=DATE:20251111
DTSTAMP:20260420T103221
CREATED:20250907T024210Z
LAST-MODIFIED:20250907T024210Z
UID:4300001841-1756771200-1762819199@nbhap.org
SUMMARY:Treatment Resistant Depression: Advances in Evaluation and Management
DESCRIPTION:
URL:https://nbhap.org/event/treatment-resistant-depression-advances-in-evaluation-and-management-2/
LOCATION:online
CATEGORIES:webinar or workshop
END:VEVENT
BEGIN:VEVENT
DTSTART;VALUE=DATE:20251017
DTEND;VALUE=DATE:20251122
DTSTAMP:20260420T103221
CREATED:20250918T190211Z
LAST-MODIFIED:20250918T190211Z
UID:4300001882-1760659200-1763769599@nbhap.org
SUMMARY:NMC Key Concepts: Basics
DESCRIPTION:
URL:https://nbhap.org/event/nmc-key-concepts-basics/
LOCATION:online
CATEGORIES:webinar or workshop
END:VEVENT
BEGIN:VEVENT
DTSTART;TZID=America/Los_Angeles:20251030T090000
DTEND;TZID=America/Los_Angeles:20251030T100000
DTSTAMP:20260420T103221
CREATED:20250907T022828Z
LAST-MODIFIED:20250907T022828Z
UID:4300001834-1761814800-1761818400@nbhap.org
SUMMARY:Equitable and Affirming End-of-Life Care for LGBTQIA+ Individuals
DESCRIPTION:
URL:https://nbhap.org/event/equitable-and-affirming-end-of-life-care-for-lgbtqia-individuals/
LOCATION:online
CATEGORIES:webinar or workshop
END:VEVENT
BEGIN:VEVENT
DTSTART;TZID=America/Los_Angeles:20251030T110000
DTEND;TZID=America/Los_Angeles:20251030T141500
DTSTAMP:20260420T103221
CREATED:20250907T195304Z
LAST-MODIFIED:20250907T195304Z
UID:4300001868-1761822000-1761833700@nbhap.org
SUMMARY:Now We See You: Understanding Adolescent Depression
DESCRIPTION:
URL:https://nbhap.org/event/now-we-see-you-understanding-adolescent-depression/
LOCATION:online
CATEGORIES:webinar or workshop
END:VEVENT
BEGIN:VEVENT
DTSTART;TZID=America/Los_Angeles:20251030T120000
DTEND;TZID=America/Los_Angeles:20251030T130000
DTSTAMP:20260420T103221
CREATED:20250906T035952Z
LAST-MODIFIED:20250906T035952Z
UID:4300001761-1761825600-1761829200@nbhap.org
SUMMARY:Interoceptive Exposures for Sensory-Based Anxieties: A Detailed Guide for Implementation
DESCRIPTION:
URL:https://nbhap.org/event/interoceptive-exposures-for-sensory-based-anxieties-a-detailed-guide-for-implementation/
LOCATION:online
CATEGORIES:webinar or workshop
END:VEVENT
BEGIN:VEVENT
DTSTART;TZID=America/Los_Angeles:20251030T120000
DTEND;TZID=America/Los_Angeles:20251030T130000
DTSTAMP:20260420T103221
CREATED:20250918T190837Z
LAST-MODIFIED:20250918T190837Z
UID:4300001887-1761825600-1761829200@nbhap.org
SUMMARY:Family Systems\, Parental Anxiety\, and Clinical Practice: Tools for Supporting Families in Crisis
DESCRIPTION:
URL:https://nbhap.org/event/family-systems-parental-anxiety-and-clinical-practice-tools-for-supporting-families-in-crisis/
LOCATION:online
CATEGORIES:webinar or workshop
END:VEVENT
END:VCALENDAR