BEGIN:VCALENDAR
VERSION:2.0
PRODID:-//National Behavioral Health Association of Providers (NBHAP) - ECPv6.15.20//NONSGML v1.0//EN
CALSCALE:GREGORIAN
METHOD:PUBLISH
X-ORIGINAL-URL:https://nbhap.org
X-WR-CALDESC:Events for National Behavioral Health Association of Providers (NBHAP)
REFRESH-INTERVAL;VALUE=DURATION:PT1H
X-Robots-Tag:noindex
X-PUBLISHED-TTL:PT1H
BEGIN:VTIMEZONE
TZID:America/Los_Angeles
BEGIN:DAYLIGHT
TZOFFSETFROM:-0800
TZOFFSETTO:-0700
TZNAME:PDT
DTSTART:20240310T100000
END:DAYLIGHT
BEGIN:STANDARD
TZOFFSETFROM:-0700
TZOFFSETTO:-0800
TZNAME:PST
DTSTART:20241103T090000
END:STANDARD
BEGIN:DAYLIGHT
TZOFFSETFROM:-0800
TZOFFSETTO:-0700
TZNAME:PDT
DTSTART:20250309T100000
END:DAYLIGHT
BEGIN:STANDARD
TZOFFSETFROM:-0700
TZOFFSETTO:-0800
TZNAME:PST
DTSTART:20251102T090000
END:STANDARD
BEGIN:DAYLIGHT
TZOFFSETFROM:-0800
TZOFFSETTO:-0700
TZNAME:PDT
DTSTART:20260308T100000
END:DAYLIGHT
BEGIN:STANDARD
TZOFFSETFROM:-0700
TZOFFSETTO:-0800
TZNAME:PST
DTSTART:20261101T090000
END:STANDARD
END:VTIMEZONE
BEGIN:VEVENT
DTSTART;VALUE=DATE:20250902
DTEND;VALUE=DATE:20251111
DTSTAMP:20260420T121223
CREATED:20250907T024210Z
LAST-MODIFIED:20250907T024210Z
UID:4300001841-1756771200-1762819199@nbhap.org
SUMMARY:Treatment Resistant Depression: Advances in Evaluation and Management
DESCRIPTION:
URL:https://nbhap.org/event/treatment-resistant-depression-advances-in-evaluation-and-management-2/
LOCATION:online
CATEGORIES:webinar or workshop
END:VEVENT
BEGIN:VEVENT
DTSTART;VALUE=DATE:20251017
DTEND;VALUE=DATE:20251122
DTSTAMP:20260420T121223
CREATED:20250918T190211Z
LAST-MODIFIED:20250918T190211Z
UID:4300001882-1760659200-1763769599@nbhap.org
SUMMARY:NMC Key Concepts: Basics
DESCRIPTION:
URL:https://nbhap.org/event/nmc-key-concepts-basics/
LOCATION:online
CATEGORIES:webinar or workshop
END:VEVENT
BEGIN:VEVENT
DTSTART;VALUE=DATE:20251105
DTEND;VALUE=DATE:20251107
DTSTAMP:20260420T121223
CREATED:20250419T041803Z
LAST-MODIFIED:20250906T030716Z
UID:4300001385-1762300800-1762473599@nbhap.org
SUMMARY:Adult Treatment Provider Training
DESCRIPTION:
URL:https://nbhap.org/event/adult-treatment-provider-training-110525/
LOCATION:online
CATEGORIES:webinar or workshop
END:VEVENT
BEGIN:VEVENT
DTSTART;VALUE=DATE:20251105
DTEND;VALUE=DATE:20251107
DTSTAMP:20260420T121223
CREATED:20250906T031838Z
LAST-MODIFIED:20250906T031838Z
UID:4300001751-1762300800-1762473599@nbhap.org
SUMMARY:Culturally Responsive Therapist Certification Training
DESCRIPTION:
URL:https://nbhap.org/event/culturally-responsive-therapist-certification-training/
LOCATION:online
CATEGORIES:webinar or workshop
END:VEVENT
BEGIN:VEVENT
DTSTART;VALUE=DATE:20251106
DTEND;VALUE=DATE:20251109
DTSTAMP:20260420T121223
CREATED:20250906T041621Z
LAST-MODIFIED:20250906T041621Z
UID:4300001768-1762387200-1762646399@nbhap.org
SUMMARY:National CAC Test Preparation Class
DESCRIPTION:
URL:https://nbhap.org/event/national-cac-test-preparation-class/
LOCATION:online
CATEGORIES:webinar or workshop
END:VEVENT
BEGIN:VEVENT
DTSTART;VALUE=DATE:20251106
DTEND;VALUE=DATE:20251121
DTSTAMP:20260420T121223
CREATED:20250907T195600Z
LAST-MODIFIED:20250907T195600Z
UID:4300001870-1762387200-1763683199@nbhap.org
SUMMARY:Supervising with Integrity: A Series on Navigating Ethics in Clinical Supervision
DESCRIPTION:
URL:https://nbhap.org/event/supervising-with-integrity-a-series-on-navigating-ethics-in-clinical-supervision/
LOCATION:online
CATEGORIES:webinar or workshop
END:VEVENT
BEGIN:VEVENT
DTSTART;TZID=America/Los_Angeles:20251106T090000
DTEND;TZID=America/Los_Angeles:20251106T120000
DTSTAMP:20260420T121223
CREATED:20250907T023044Z
LAST-MODIFIED:20250907T023044Z
UID:4300001836-1762419600-1762430400@nbhap.org
SUMMARY:How Dangerous is this Person... this Client?
DESCRIPTION:
URL:https://nbhap.org/event/how-dangerous-is-this-person-this-client/
LOCATION:online
CATEGORIES:webinar or workshop
END:VEVENT
BEGIN:VEVENT
DTSTART;TZID=America/Los_Angeles:20251106T120000
DTEND;TZID=America/Los_Angeles:20251106T130000
DTSTAMP:20260420T121223
CREATED:20250918T190954Z
LAST-MODIFIED:20250918T190954Z
UID:4300001888-1762430400-1762434000@nbhap.org
SUMMARY:Holiday Stress and Seasonal Anxiety: A Winter Wellness Primer
DESCRIPTION:
URL:https://nbhap.org/event/holiday-stress-and-seasonal-anxiety-a-winter-wellness-primer/
LOCATION:online
CATEGORIES:webinar or workshop
END:VEVENT
END:VCALENDAR