BEGIN:VCALENDAR
VERSION:2.0
PRODID:-//National Behavioral Health Association of Providers (NBHAP) - ECPv6.15.20//NONSGML v1.0//EN
CALSCALE:GREGORIAN
METHOD:PUBLISH
X-WR-CALNAME:National Behavioral Health Association of Providers (NBHAP)
X-ORIGINAL-URL:https://nbhap.org
X-WR-CALDESC:Events for National Behavioral Health Association of Providers (NBHAP)
REFRESH-INTERVAL;VALUE=DURATION:PT1H
X-Robots-Tag:noindex
X-PUBLISHED-TTL:PT1H
BEGIN:VTIMEZONE
TZID:America/Los_Angeles
BEGIN:DAYLIGHT
TZOFFSETFROM:-0800
TZOFFSETTO:-0700
TZNAME:PDT
DTSTART:20240310T100000
END:DAYLIGHT
BEGIN:STANDARD
TZOFFSETFROM:-0700
TZOFFSETTO:-0800
TZNAME:PST
DTSTART:20241103T090000
END:STANDARD
BEGIN:DAYLIGHT
TZOFFSETFROM:-0800
TZOFFSETTO:-0700
TZNAME:PDT
DTSTART:20250309T100000
END:DAYLIGHT
BEGIN:STANDARD
TZOFFSETFROM:-0700
TZOFFSETTO:-0800
TZNAME:PST
DTSTART:20251102T090000
END:STANDARD
BEGIN:DAYLIGHT
TZOFFSETFROM:-0800
TZOFFSETTO:-0700
TZNAME:PDT
DTSTART:20260308T100000
END:DAYLIGHT
BEGIN:STANDARD
TZOFFSETFROM:-0700
TZOFFSETTO:-0800
TZNAME:PST
DTSTART:20261101T090000
END:STANDARD
END:VTIMEZONE
BEGIN:VEVENT
DTSTART;VALUE=DATE:20251017
DTEND;VALUE=DATE:20251122
DTSTAMP:20260420T103215
CREATED:20250918T190211Z
LAST-MODIFIED:20250918T190211Z
UID:4300001882-1760659200-1763769599@nbhap.org
SUMMARY:NMC Key Concepts: Basics
DESCRIPTION:
URL:https://nbhap.org/event/nmc-key-concepts-basics/
LOCATION:online
CATEGORIES:webinar or workshop
END:VEVENT
BEGIN:VEVENT
DTSTART;TZID=America/Los_Angeles:20251121T083000
DTEND;TZID=America/Los_Angeles:20251121T170000
DTSTAMP:20260420T103215
CREATED:20250502T030255Z
LAST-MODIFIED:20250906T030716Z
UID:4300001474-1763713800-1763744400@nbhap.org
SUMMARY:Adult Mental Health First Aid
DESCRIPTION:
URL:https://nbhap.org/event/adult-mental-health-first-aid-112125/
LOCATION:Manchester\, NH\, Manchester\, NH\, United States
CATEGORIES:webinar or workshop
END:VEVENT
BEGIN:VEVENT
DTSTART;TZID=America/Los_Angeles:20251121T090000
DTEND;TZID=America/Los_Angeles:20251121T161500
DTSTAMP:20260420T103215
CREATED:20251120T024316Z
LAST-MODIFIED:20251120T024316Z
UID:4300001960-1763715600-1763741700@nbhap.org
SUMMARY:Models of Supervision
DESCRIPTION:
URL:https://nbhap.org/event/models-of-supervision/
LOCATION:online
CATEGORIES:webinar or workshop
END:VEVENT
BEGIN:VEVENT
DTSTART;TZID=America/Los_Angeles:20251121T110000
DTEND;TZID=America/Los_Angeles:20251121T141500
DTSTAMP:20260420T103215
CREATED:20250907T200121Z
LAST-MODIFIED:20250907T200121Z
UID:4300001874-1763722800-1763734500@nbhap.org
SUMMARY:Beyond Self-Care: Tending to the Wounded Healer
DESCRIPTION:
URL:https://nbhap.org/event/beyond-self-care-tending-to-the-wounded-healer/
LOCATION:online
CATEGORIES:webinar or workshop
END:VEVENT
BEGIN:VEVENT
DTSTART;TZID=America/Los_Angeles:20251121T120000
DTEND;TZID=America/Los_Angeles:20251121T170000
DTSTAMP:20260420T103215
CREATED:20250906T040154Z
LAST-MODIFIED:20250906T040154Z
UID:4300001763-1763726400-1763744400@nbhap.org
SUMMARY:Neurodivergent (ND) Clients & ND Somatics 4-Workshop Bundle!!!
DESCRIPTION:
URL:https://nbhap.org/event/neurodivergent-nd-clients-nd-somatics-4-workshop-bundle/
LOCATION:online
CATEGORIES:webinar or workshop
END:VEVENT
END:VCALENDAR