BEGIN:VCALENDAR
VERSION:2.0
PRODID:-//National Behavioral Health Association of Providers (NBHAP) - ECPv6.15.20//NONSGML v1.0//EN
CALSCALE:GREGORIAN
METHOD:PUBLISH
X-WR-CALNAME:National Behavioral Health Association of Providers (NBHAP)
X-ORIGINAL-URL:https://nbhap.org
X-WR-CALDESC:Events for National Behavioral Health Association of Providers (NBHAP)
REFRESH-INTERVAL;VALUE=DURATION:PT1H
X-Robots-Tag:noindex
X-PUBLISHED-TTL:PT1H
BEGIN:VTIMEZONE
TZID:America/Los_Angeles
BEGIN:DAYLIGHT
TZOFFSETFROM:-0800
TZOFFSETTO:-0700
TZNAME:PDT
DTSTART:20240310T100000
END:DAYLIGHT
BEGIN:STANDARD
TZOFFSETFROM:-0700
TZOFFSETTO:-0800
TZNAME:PST
DTSTART:20241103T090000
END:STANDARD
BEGIN:DAYLIGHT
TZOFFSETFROM:-0800
TZOFFSETTO:-0700
TZNAME:PDT
DTSTART:20250309T100000
END:DAYLIGHT
BEGIN:STANDARD
TZOFFSETFROM:-0700
TZOFFSETTO:-0800
TZNAME:PST
DTSTART:20251102T090000
END:STANDARD
BEGIN:DAYLIGHT
TZOFFSETFROM:-0800
TZOFFSETTO:-0700
TZNAME:PDT
DTSTART:20260308T100000
END:DAYLIGHT
BEGIN:STANDARD
TZOFFSETFROM:-0700
TZOFFSETTO:-0800
TZNAME:PST
DTSTART:20261101T090000
END:STANDARD
BEGIN:DAYLIGHT
TZOFFSETFROM:-0800
TZOFFSETTO:-0700
TZNAME:PDT
DTSTART:20270314T100000
END:DAYLIGHT
BEGIN:STANDARD
TZOFFSETFROM:-0700
TZOFFSETTO:-0800
TZNAME:PST
DTSTART:20271107T090000
END:STANDARD
END:VTIMEZONE
BEGIN:VEVENT
DTSTART;VALUE=DATE:20251201
DTEND;VALUE=DATE:20260120
DTSTAMP:20260420T085307
CREATED:20251124T163824Z
LAST-MODIFIED:20251124T163824Z
UID:4300002001-1764547200-1768867199@nbhap.org
SUMMARY:Building Resiliency through Cognitive Reappraisal and Lifestyle Modification
DESCRIPTION:
URL:https://nbhap.org/event/building-resiliency-through-cognitive-reappraisal-and-lifestyle-modification-2/
LOCATION:online
CATEGORIES:webinar or workshop
END:VEVENT
BEGIN:VEVENT
DTSTART;VALUE=DATE:20251203
DTEND;VALUE=DATE:20251206
DTSTAMP:20260420T085307
CREATED:20250823T153826Z
LAST-MODIFIED:20250906T030716Z
UID:4300001666-1764720000-1764979199@nbhap.org
SUMMARY:Litigation and Evaluation involving Abuse Allegations in Family Court Cases (LEFCC)
DESCRIPTION:
URL:https://nbhap.org/event/litigation-and-evaluation-involving-abuse-allegations-in-family-court-cases-lefcc-120325/
LOCATION:Tampa\, FL\, Tampa\, FL\, United States
CATEGORIES:webinar or workshop
END:VEVENT
BEGIN:VEVENT
DTSTART;VALUE=DATE:20251204
DTEND;VALUE=DATE:20251206
DTSTAMP:20260420T085307
CREATED:20250627T205842Z
LAST-MODIFIED:20250906T030716Z
UID:4300001624-1764806400-1764979199@nbhap.org
SUMMARY:High Conflict Communications Certification Training
DESCRIPTION:
URL:https://nbhap.org/event/high-conflict-communications-certification-training/
LOCATION:online
CATEGORIES:webinar or workshop
END:VEVENT
BEGIN:VEVENT
DTSTART;TZID=America/Los_Angeles:20251205T090000
DTEND;TZID=America/Los_Angeles:20251205T161500
DTSTAMP:20260420T085307
CREATED:20251120T032220Z
LAST-MODIFIED:20251120T032220Z
UID:4300001967-1764925200-1764951300@nbhap.org
SUMMARY:Pharmacology of Psychoactive Chemicals: Psychoactive Chemical Use\, Abuse and Dependence
DESCRIPTION:
URL:https://nbhap.org/event/pharmacology-of-psychoactive-chemicals-psychoactive-chemical-use-abuse-and-dependence-2/
LOCATION:online
CATEGORIES:webinar or workshop
END:VEVENT
BEGIN:VEVENT
DTSTART;TZID=America/Los_Angeles:20251205T110000
DTEND;TZID=America/Los_Angeles:20251205T141500
DTSTAMP:20260420T085307
CREATED:20250907T200315Z
LAST-MODIFIED:20250907T200315Z
UID:4300001875-1764932400-1764944100@nbhap.org
SUMMARY:Attuned to the Rhythm! The Roots of Rhythm\, Regulation\, and Connection
DESCRIPTION:
URL:https://nbhap.org/event/attuned-to-the-rhythm-the-roots-of-rhythm-regulation-and-connection/
LOCATION:online
CATEGORIES:webinar or workshop
END:VEVENT
BEGIN:VEVENT
DTSTART;TZID=America/Los_Angeles:20251205T110000
DTEND;TZID=America/Los_Angeles:20251205T170000
DTSTAMP:20260420T085307
CREATED:20250906T040249Z
LAST-MODIFIED:20250906T040249Z
UID:4300001764-1764932400-1764954000@nbhap.org
SUMMARY:Narcissism and Emotional Abuse in Couples Therapy
DESCRIPTION:
URL:https://nbhap.org/event/narcissism-and-emotional-abuse-in-couples-therapy/
LOCATION:online
CATEGORIES:webinar or workshop
END:VEVENT
BEGIN:VEVENT
DTSTART;TZID=America/Los_Angeles:20251205T130000
DTEND;TZID=America/Los_Angeles:20251205T170000
DTSTAMP:20260420T085307
CREATED:20250502T032547Z
LAST-MODIFIED:20250502T032547Z
UID:4300001498-1764939600-1764954000@nbhap.org
SUMMARY:Responding to Intersectional Stigmatization: Strategies for Health Professionals
DESCRIPTION:
URL:https://nbhap.org/event/responding-to-intersectional-stigmatization-strategies-for-health-professionals-120525/
LOCATION:online
CATEGORIES:webinar or workshop
END:VEVENT
END:VCALENDAR