BEGIN:VCALENDAR
VERSION:2.0
PRODID:-//National Behavioral Health Association of Providers (NBHAP) - ECPv6.15.20//NONSGML v1.0//EN
CALSCALE:GREGORIAN
METHOD:PUBLISH
X-ORIGINAL-URL:https://nbhap.org
X-WR-CALDESC:Events for National Behavioral Health Association of Providers (NBHAP)
REFRESH-INTERVAL;VALUE=DURATION:PT1H
X-Robots-Tag:noindex
X-PUBLISHED-TTL:PT1H
BEGIN:VTIMEZONE
TZID:America/Los_Angeles
BEGIN:DAYLIGHT
TZOFFSETFROM:-0800
TZOFFSETTO:-0700
TZNAME:PDT
DTSTART:20240310T100000
END:DAYLIGHT
BEGIN:STANDARD
TZOFFSETFROM:-0700
TZOFFSETTO:-0800
TZNAME:PST
DTSTART:20241103T090000
END:STANDARD
BEGIN:DAYLIGHT
TZOFFSETFROM:-0800
TZOFFSETTO:-0700
TZNAME:PDT
DTSTART:20250309T100000
END:DAYLIGHT
BEGIN:STANDARD
TZOFFSETFROM:-0700
TZOFFSETTO:-0800
TZNAME:PST
DTSTART:20251102T090000
END:STANDARD
BEGIN:DAYLIGHT
TZOFFSETFROM:-0800
TZOFFSETTO:-0700
TZNAME:PDT
DTSTART:20260308T100000
END:DAYLIGHT
BEGIN:STANDARD
TZOFFSETFROM:-0700
TZOFFSETTO:-0800
TZNAME:PST
DTSTART:20261101T090000
END:STANDARD
BEGIN:DAYLIGHT
TZOFFSETFROM:-0800
TZOFFSETTO:-0700
TZNAME:PDT
DTSTART:20270314T100000
END:DAYLIGHT
BEGIN:STANDARD
TZOFFSETFROM:-0700
TZOFFSETTO:-0800
TZNAME:PST
DTSTART:20271107T090000
END:STANDARD
END:VTIMEZONE
BEGIN:VEVENT
DTSTART;VALUE=DATE:20251201
DTEND;VALUE=DATE:20260120
DTSTAMP:20260420T085524
CREATED:20251124T163824Z
LAST-MODIFIED:20251124T163824Z
UID:4300002001-1764547200-1768867199@nbhap.org
SUMMARY:Building Resiliency through Cognitive Reappraisal and Lifestyle Modification
DESCRIPTION:
URL:https://nbhap.org/event/building-resiliency-through-cognitive-reappraisal-and-lifestyle-modification-2/
LOCATION:online
CATEGORIES:webinar or workshop
END:VEVENT
BEGIN:VEVENT
DTSTART;TZID=America/Los_Angeles:20251209T090000
DTEND;TZID=America/Los_Angeles:20251209T160000
DTSTAMP:20260420T085524
CREATED:20250627T210000Z
LAST-MODIFIED:20250906T030715Z
UID:4300001625-1765270800-1765296000@nbhap.org
SUMMARY:Pharmacology of Medications in the Treatment of Substance Use Disorders
DESCRIPTION:
URL:https://nbhap.org/event/pharmacology-of-medications-in-the-treatment-of-substance-use-disorders/
LOCATION:online
CATEGORIES:webinar or workshop
END:VEVENT
BEGIN:VEVENT
DTSTART;TZID=America/Los_Angeles:20251209T100000
DTEND;TZID=America/Los_Angeles:20251209T133000
DTSTAMP:20260420T085524
CREATED:20251120T025655Z
LAST-MODIFIED:20251120T025655Z
UID:4300001962-1765274400-1765287000@nbhap.org
SUMMARY:MDD UNWRAPPED Evidence\, Insights\, & Emerging Directions
DESCRIPTION:
URL:https://nbhap.org/event/mdd-unwrapped-evidence-insights-emerging-directions/
LOCATION:online
CATEGORIES:webinar or workshop
END:VEVENT
BEGIN:VEVENT
DTSTART;TZID=America/Los_Angeles:20251209T120000
DTEND;TZID=America/Los_Angeles:20251209T130000
DTSTAMP:20260420T085524
CREATED:20251120T032903Z
LAST-MODIFIED:20251120T032903Z
UID:4300001970-1765281600-1765285200@nbhap.org
SUMMARY:SUD in Transition: 2026 Policy and Operational Priorities
DESCRIPTION:
URL:https://nbhap.org/event/sud-in-transition-2026-policy-and-operational-priorities/
LOCATION:online
CATEGORIES:webinar or workshop
END:VEVENT
BEGIN:VEVENT
DTSTART;TZID=America/Los_Angeles:20251209T140000
DTEND;TZID=America/Los_Angeles:20251209T150000
DTSTAMP:20260420T085524
CREATED:20251124T163301Z
LAST-MODIFIED:20251124T163301Z
UID:4300002000-1765288800-1765292400@nbhap.org
SUMMARY:Introducing Heads Up: The First Intelligent Front Door in Behavioral Health
DESCRIPTION:
URL:https://nbhap.org/event/introducing-heads-up-the-first-intelligent-front-door-in-behavioral-health/
LOCATION:online
CATEGORIES:webinar or workshop
END:VEVENT
END:VCALENDAR