BEGIN:VCALENDAR
VERSION:2.0
PRODID:-//National Behavioral Health Association of Providers (NBHAP) - ECPv6.15.20//NONSGML v1.0//EN
CALSCALE:GREGORIAN
METHOD:PUBLISH
X-WR-CALNAME:National Behavioral Health Association of Providers (NBHAP)
X-ORIGINAL-URL:https://nbhap.org
X-WR-CALDESC:Events for National Behavioral Health Association of Providers (NBHAP)
REFRESH-INTERVAL;VALUE=DURATION:PT1H
X-Robots-Tag:noindex
X-PUBLISHED-TTL:PT1H
BEGIN:VTIMEZONE
TZID:America/Los_Angeles
BEGIN:DAYLIGHT
TZOFFSETFROM:-0800
TZOFFSETTO:-0700
TZNAME:PDT
DTSTART:20240310T100000
END:DAYLIGHT
BEGIN:STANDARD
TZOFFSETFROM:-0700
TZOFFSETTO:-0800
TZNAME:PST
DTSTART:20241103T090000
END:STANDARD
BEGIN:DAYLIGHT
TZOFFSETFROM:-0800
TZOFFSETTO:-0700
TZNAME:PDT
DTSTART:20250309T100000
END:DAYLIGHT
BEGIN:STANDARD
TZOFFSETFROM:-0700
TZOFFSETTO:-0800
TZNAME:PST
DTSTART:20251102T090000
END:STANDARD
BEGIN:DAYLIGHT
TZOFFSETFROM:-0800
TZOFFSETTO:-0700
TZNAME:PDT
DTSTART:20260308T100000
END:DAYLIGHT
BEGIN:STANDARD
TZOFFSETFROM:-0700
TZOFFSETTO:-0800
TZNAME:PST
DTSTART:20261101T090000
END:STANDARD
BEGIN:DAYLIGHT
TZOFFSETFROM:-0800
TZOFFSETTO:-0700
TZNAME:PDT
DTSTART:20270314T100000
END:DAYLIGHT
BEGIN:STANDARD
TZOFFSETFROM:-0700
TZOFFSETTO:-0800
TZNAME:PST
DTSTART:20271107T090000
END:STANDARD
END:VTIMEZONE
BEGIN:VEVENT
DTSTART;VALUE=DATE:20251201
DTEND;VALUE=DATE:20260120
DTSTAMP:20260420T085307
CREATED:20251124T163824Z
LAST-MODIFIED:20251124T163824Z
UID:4300002001-1764547200-1768867199@nbhap.org
SUMMARY:Building Resiliency through Cognitive Reappraisal and Lifestyle Modification
DESCRIPTION:
URL:https://nbhap.org/event/building-resiliency-through-cognitive-reappraisal-and-lifestyle-modification-2/
LOCATION:online
CATEGORIES:webinar or workshop
END:VEVENT
BEGIN:VEVENT
DTSTART;VALUE=DATE:20251210
DTEND;VALUE=DATE:20251213
DTSTAMP:20260420T085307
CREATED:20250220T234238Z
LAST-MODIFIED:20250906T030715Z
UID:4300001232-1765324800-1765583999@nbhap.org
SUMMARY:Impaired Driving Treatment Court Foundational Workshop - December 2025
DESCRIPTION:
URL:https://nbhap.org/event/impaired-driving-treatment-court-foundational-workshop-december-2025/
LOCATION:Athens\, GA\, Athens\, GA\, United States
CATEGORIES:webinar or workshop
END:VEVENT
BEGIN:VEVENT
DTSTART;TZID=America/Los_Angeles:20251210T090000
DTEND;TZID=America/Los_Angeles:20251210T100000
DTSTAMP:20260420T085307
CREATED:20250907T023307Z
LAST-MODIFIED:20250907T023307Z
UID:4300001838-1765357200-1765360800@nbhap.org
SUMMARY:Eating Disorders in Later Life: Clinical Considerations for Midlife and Older Adults
DESCRIPTION:
URL:https://nbhap.org/event/eating-disorders-in-later-life-clinical-considerations-for-midlife-and-older-adults/
LOCATION:online
CATEGORIES:webinar or workshop
END:VEVENT
BEGIN:VEVENT
DTSTART;TZID=America/Los_Angeles:20251210T100000
DTEND;TZID=America/Los_Angeles:20251210T110000
DTSTAMP:20260420T085307
CREATED:20251113T222424Z
LAST-MODIFIED:20251113T222424Z
UID:4300001946-1765360800-1765364400@nbhap.org
SUMMARY:Universal Outcome in Substance Use Treatment\, Prevention\, and Recovery
DESCRIPTION:The journey to recovery is far from linear and everyone. From the people looking to begin their journey to those looking to support someone in recovery\, individuals struggle with the question of where to start and what it means to be in recovery. In this CE webinar\, NBHAP CEO Pete Nielsen will analyze the way to build and sustain recovery.
URL:https://nbhap.org/event/universal-outcome-in-substance-use-treatment-prevention-and-recovery/
LOCATION:online
CATEGORIES:NBHAP event,webinar or workshop
ATTACH;FMTTYPE=image/png:https://nbhap.org/wp-content/uploads/2025_1210-webinar-Universal-Outcome-in-SUD-main.png
ORGANIZER;CN="NBHAP (National Behavioral Health Association of Providers)":MAILTO:info@nbhap.org
END:VEVENT
BEGIN:VEVENT
DTSTART;TZID=America/Los_Angeles:20251210T120000
DTEND;TZID=America/Los_Angeles:20251210T140000
DTSTAMP:20260420T085307
CREATED:20251120T023402Z
LAST-MODIFIED:20251120T023402Z
UID:4300001957-1765368000-1765375200@nbhap.org
SUMMARY:Building a Successful Weight Loss and Smoking Cessation Practice
DESCRIPTION:
URL:https://nbhap.org/event/building-a-successful-weight-loss-and-smoking-cessation-practice/
LOCATION:online
CATEGORIES:webinar or workshop
END:VEVENT
END:VCALENDAR