BEGIN:VCALENDAR
VERSION:2.0
PRODID:-//National Behavioral Health Association of Providers (NBHAP) - ECPv6.15.20//NONSGML v1.0//EN
CALSCALE:GREGORIAN
METHOD:PUBLISH
X-WR-CALNAME:National Behavioral Health Association of Providers (NBHAP)
X-ORIGINAL-URL:https://nbhap.org
X-WR-CALDESC:Events for National Behavioral Health Association of Providers (NBHAP)
REFRESH-INTERVAL;VALUE=DURATION:PT1H
X-Robots-Tag:noindex
X-PUBLISHED-TTL:PT1H
BEGIN:VTIMEZONE
TZID:America/Los_Angeles
BEGIN:DAYLIGHT
TZOFFSETFROM:-0800
TZOFFSETTO:-0700
TZNAME:PDT
DTSTART:20240310T100000
END:DAYLIGHT
BEGIN:STANDARD
TZOFFSETFROM:-0700
TZOFFSETTO:-0800
TZNAME:PST
DTSTART:20241103T090000
END:STANDARD
BEGIN:DAYLIGHT
TZOFFSETFROM:-0800
TZOFFSETTO:-0700
TZNAME:PDT
DTSTART:20250309T100000
END:DAYLIGHT
BEGIN:STANDARD
TZOFFSETFROM:-0700
TZOFFSETTO:-0800
TZNAME:PST
DTSTART:20251102T090000
END:STANDARD
BEGIN:DAYLIGHT
TZOFFSETFROM:-0800
TZOFFSETTO:-0700
TZNAME:PDT
DTSTART:20260308T100000
END:DAYLIGHT
BEGIN:STANDARD
TZOFFSETFROM:-0700
TZOFFSETTO:-0800
TZNAME:PST
DTSTART:20261101T090000
END:STANDARD
BEGIN:DAYLIGHT
TZOFFSETFROM:-0800
TZOFFSETTO:-0700
TZNAME:PDT
DTSTART:20270314T100000
END:DAYLIGHT
BEGIN:STANDARD
TZOFFSETFROM:-0700
TZOFFSETTO:-0800
TZNAME:PST
DTSTART:20271107T090000
END:STANDARD
END:VTIMEZONE
BEGIN:VEVENT
DTSTART;VALUE=DATE:20251201
DTEND;VALUE=DATE:20260120
DTSTAMP:20260420T085306
CREATED:20251124T163824Z
LAST-MODIFIED:20251124T163824Z
UID:4300002001-1764547200-1768867199@nbhap.org
SUMMARY:Building Resiliency through Cognitive Reappraisal and Lifestyle Modification
DESCRIPTION:
URL:https://nbhap.org/event/building-resiliency-through-cognitive-reappraisal-and-lifestyle-modification-2/
LOCATION:online
CATEGORIES:webinar or workshop
END:VEVENT
BEGIN:VEVENT
DTSTART;VALUE=DATE:20251210
DTEND;VALUE=DATE:20251213
DTSTAMP:20260420T085306
CREATED:20250220T234238Z
LAST-MODIFIED:20250906T030715Z
UID:4300001232-1765324800-1765583999@nbhap.org
SUMMARY:Impaired Driving Treatment Court Foundational Workshop - December 2025
DESCRIPTION:
URL:https://nbhap.org/event/impaired-driving-treatment-court-foundational-workshop-december-2025/
LOCATION:Athens\, GA\, Athens\, GA\, United States
CATEGORIES:webinar or workshop
END:VEVENT
BEGIN:VEVENT
DTSTART;VALUE=DATE:20251211
DTEND;VALUE=DATE:20251213
DTSTAMP:20260420T085306
CREATED:20250303T202952Z
LAST-MODIFIED:20250906T030715Z
UID:4300001262-1765411200-1765583999@nbhap.org
SUMMARY:Substance Abuse Professional's U.S. DOT Alcohol and Drug Testing Regulation Qualification & Requalification Live Trainings: Virtual Requalification Training
DESCRIPTION:
URL:https://nbhap.org/event/substance-abuse-professionals-u-s-dot-alcohol-and-drug-testing-regulation-qualification-requalification-live-trainings-virtual-requalification-training-2/
LOCATION:online
CATEGORIES:webinar or workshop
END:VEVENT
BEGIN:VEVENT
DTSTART;TZID=America/Los_Angeles:20251211T140000
DTEND;TZID=America/Los_Angeles:20251211T143000
DTSTAMP:20260420T085306
CREATED:20251210T000837Z
LAST-MODIFIED:20251210T000837Z
UID:4300002004-1765461600-1765463400@nbhap.org
SUMMARY:NCSACW Ready-to-Use Resources Webinar Series
DESCRIPTION:
URL:https://nbhap.org/event/ncsacw-ready-to-use-resources-webinar-series/
LOCATION:online
CATEGORIES:webinar or workshop
END:VEVENT
BEGIN:VEVENT
DTSTART;TZID=America/Los_Angeles:20251211T170000
DTEND;TZID=America/Los_Angeles:20251211T201500
DTSTAMP:20260420T085306
CREATED:20250907T200419Z
LAST-MODIFIED:20250907T200419Z
UID:4300001876-1765472400-1765484100@nbhap.org
SUMMARY:Compassion Fatigue for Clinicians and Mental Health Providers
DESCRIPTION:
URL:https://nbhap.org/event/compassion-fatigue-for-clinicians-and-mental-health-providers/
LOCATION:online
CATEGORIES:webinar or workshop
END:VEVENT
END:VCALENDAR