BEGIN:VCALENDAR
VERSION:2.0
PRODID:-//National Behavioral Health Association of Providers (NBHAP) - ECPv6.15.20//NONSGML v1.0//EN
CALSCALE:GREGORIAN
METHOD:PUBLISH
X-ORIGINAL-URL:https://nbhap.org
X-WR-CALDESC:Events for National Behavioral Health Association of Providers (NBHAP)
REFRESH-INTERVAL;VALUE=DURATION:PT1H
X-Robots-Tag:noindex
X-PUBLISHED-TTL:PT1H
BEGIN:VTIMEZONE
TZID:America/Los_Angeles
BEGIN:DAYLIGHT
TZOFFSETFROM:-0800
TZOFFSETTO:-0700
TZNAME:PDT
DTSTART:20240310T100000
END:DAYLIGHT
BEGIN:STANDARD
TZOFFSETFROM:-0700
TZOFFSETTO:-0800
TZNAME:PST
DTSTART:20241103T090000
END:STANDARD
BEGIN:DAYLIGHT
TZOFFSETFROM:-0800
TZOFFSETTO:-0700
TZNAME:PDT
DTSTART:20250309T100000
END:DAYLIGHT
BEGIN:STANDARD
TZOFFSETFROM:-0700
TZOFFSETTO:-0800
TZNAME:PST
DTSTART:20251102T090000
END:STANDARD
BEGIN:DAYLIGHT
TZOFFSETFROM:-0800
TZOFFSETTO:-0700
TZNAME:PDT
DTSTART:20260308T100000
END:DAYLIGHT
BEGIN:STANDARD
TZOFFSETFROM:-0700
TZOFFSETTO:-0800
TZNAME:PST
DTSTART:20261101T090000
END:STANDARD
BEGIN:DAYLIGHT
TZOFFSETFROM:-0800
TZOFFSETTO:-0700
TZNAME:PDT
DTSTART:20270314T100000
END:DAYLIGHT
BEGIN:STANDARD
TZOFFSETFROM:-0700
TZOFFSETTO:-0800
TZNAME:PST
DTSTART:20271107T090000
END:STANDARD
END:VTIMEZONE
BEGIN:VEVENT
DTSTART;VALUE=DATE:20251201
DTEND;VALUE=DATE:20260120
DTSTAMP:20260420T085417
CREATED:20251124T163824Z
LAST-MODIFIED:20251124T163824Z
UID:4300002001-1764547200-1768867199@nbhap.org
SUMMARY:Building Resiliency through Cognitive Reappraisal and Lifestyle Modification
DESCRIPTION:
URL:https://nbhap.org/event/building-resiliency-through-cognitive-reappraisal-and-lifestyle-modification-2/
LOCATION:online
CATEGORIES:webinar or workshop
END:VEVENT
BEGIN:VEVENT
DTSTART;TZID=America/Los_Angeles:20251217T103000
DTEND;TZID=America/Los_Angeles:20251217T173000
DTSTAMP:20260420T085417
CREATED:20251120T021727Z
LAST-MODIFIED:20251120T021727Z
UID:4300001950-1765967400-1765992600@nbhap.org
SUMMARY:The Hidden Dynamics of Abuse: Identifying and Treating Intimate Partner Violence
DESCRIPTION:
URL:https://nbhap.org/event/the-hidden-dynamics-of-abuse-identifying-and-treating-intimate-partner-violence/
LOCATION:online
CATEGORIES:webinar or workshop
END:VEVENT
BEGIN:VEVENT
DTSTART;TZID=America/Los_Angeles:20251217T120000
DTEND;TZID=America/Los_Angeles:20251217T130000
DTSTAMP:20260420T085417
CREATED:20251214T175818Z
LAST-MODIFIED:20251214T175818Z
UID:4300002025-1765972800-1765976400@nbhap.org
SUMMARY:Attending to Spiritual and Religious Concerns
DESCRIPTION:
URL:https://nbhap.org/event/attending-to-spiritual-and-religious-concerns-2/
LOCATION:online
CATEGORIES:webinar or workshop
END:VEVENT
BEGIN:VEVENT
DTSTART;TZID=America/Los_Angeles:20251217T140000
DTEND;TZID=America/Los_Angeles:20251217T150000
DTSTAMP:20260420T085417
CREATED:20251124T190220Z
LAST-MODIFIED:20251124T190220Z
UID:4300002002-1765980000-1765983600@nbhap.org
SUMMARY:Substance Use Trends: The Effects on Child Safety and Family Risk Factors
DESCRIPTION:
URL:https://nbhap.org/event/substance-use-trends-the-effects-on-child-safety-and-family-risk-factors/
LOCATION:online
CATEGORIES:webinar or workshop
END:VEVENT
END:VCALENDAR