BEGIN:VCALENDAR
VERSION:2.0
PRODID:-//National Behavioral Health Association of Providers (NBHAP) - ECPv6.15.20//NONSGML v1.0//EN
CALSCALE:GREGORIAN
METHOD:PUBLISH
X-ORIGINAL-URL:https://nbhap.org
X-WR-CALDESC:Events for National Behavioral Health Association of Providers (NBHAP)
REFRESH-INTERVAL;VALUE=DURATION:PT1H
X-Robots-Tag:noindex
X-PUBLISHED-TTL:PT1H
BEGIN:VTIMEZONE
TZID:America/Los_Angeles
BEGIN:DAYLIGHT
TZOFFSETFROM:-0800
TZOFFSETTO:-0700
TZNAME:PDT
DTSTART:20240310T100000
END:DAYLIGHT
BEGIN:STANDARD
TZOFFSETFROM:-0700
TZOFFSETTO:-0800
TZNAME:PST
DTSTART:20241103T090000
END:STANDARD
BEGIN:DAYLIGHT
TZOFFSETFROM:-0800
TZOFFSETTO:-0700
TZNAME:PDT
DTSTART:20250309T100000
END:DAYLIGHT
BEGIN:STANDARD
TZOFFSETFROM:-0700
TZOFFSETTO:-0800
TZNAME:PST
DTSTART:20251102T090000
END:STANDARD
BEGIN:DAYLIGHT
TZOFFSETFROM:-0800
TZOFFSETTO:-0700
TZNAME:PDT
DTSTART:20260308T100000
END:DAYLIGHT
BEGIN:STANDARD
TZOFFSETFROM:-0700
TZOFFSETTO:-0800
TZNAME:PST
DTSTART:20261101T090000
END:STANDARD
BEGIN:DAYLIGHT
TZOFFSETFROM:-0800
TZOFFSETTO:-0700
TZNAME:PDT
DTSTART:20270314T100000
END:DAYLIGHT
BEGIN:STANDARD
TZOFFSETFROM:-0700
TZOFFSETTO:-0800
TZNAME:PST
DTSTART:20271107T090000
END:STANDARD
END:VTIMEZONE
BEGIN:VEVENT
DTSTART;VALUE=DATE:20251201
DTEND;VALUE=DATE:20260120
DTSTAMP:20260420T085504
CREATED:20251124T163824Z
LAST-MODIFIED:20251124T163824Z
UID:4300002001-1764547200-1768867199@nbhap.org
SUMMARY:Building Resiliency through Cognitive Reappraisal and Lifestyle Modification
DESCRIPTION:
URL:https://nbhap.org/event/building-resiliency-through-cognitive-reappraisal-and-lifestyle-modification-2/
LOCATION:online
CATEGORIES:webinar or workshop
END:VEVENT
BEGIN:VEVENT
DTSTART;TZID=America/Los_Angeles:20251218T120000
DTEND;TZID=America/Los_Angeles:20251218T140000
DTSTAMP:20260420T085504
CREATED:20251210T000604Z
LAST-MODIFIED:20251210T000604Z
UID:4300002003-1766059200-1766066400@nbhap.org
SUMMARY:Mastering Schizophrenia Treatment: Optimal Use of Oral Antipsychotics Based on Neurobiological and Clinical Evidence
DESCRIPTION:
URL:https://nbhap.org/event/mastering-schizophrenia-treatment-optimal-use-of-oral-antipsychotics-based-on-neurobiological-and-clinical-evidence/
LOCATION:online
CATEGORIES:webinar or workshop
END:VEVENT
BEGIN:VEVENT
DTSTART;TZID=America/Los_Angeles:20251218T130000
DTEND;TZID=America/Los_Angeles:20251218T140000
DTSTAMP:20260420T085504
CREATED:20251214T194944Z
LAST-MODIFIED:20251214T194944Z
UID:4300002052-1766062800-1766066400@nbhap.org
SUMMARY:Doing More with Less: New Freedom's Leap into AI-Powered Behavioral Health
DESCRIPTION:
URL:https://nbhap.org/event/doing-more-with-less-new-freedoms-leap-into-ai-powered-behavioral-health/
LOCATION:online
CATEGORIES:webinar or workshop
END:VEVENT
END:VCALENDAR