BEGIN:VCALENDAR
VERSION:2.0
PRODID:-//National Behavioral Health Association of Providers (NBHAP) - ECPv6.15.20//NONSGML v1.0//EN
CALSCALE:GREGORIAN
METHOD:PUBLISH
X-ORIGINAL-URL:https://nbhap.org
X-WR-CALDESC:Events for National Behavioral Health Association of Providers (NBHAP)
REFRESH-INTERVAL;VALUE=DURATION:PT1H
X-Robots-Tag:noindex
X-PUBLISHED-TTL:PT1H
BEGIN:VTIMEZONE
TZID:America/Los_Angeles
BEGIN:DAYLIGHT
TZOFFSETFROM:-0800
TZOFFSETTO:-0700
TZNAME:PDT
DTSTART:20240310T100000
END:DAYLIGHT
BEGIN:STANDARD
TZOFFSETFROM:-0700
TZOFFSETTO:-0800
TZNAME:PST
DTSTART:20241103T090000
END:STANDARD
BEGIN:DAYLIGHT
TZOFFSETFROM:-0800
TZOFFSETTO:-0700
TZNAME:PDT
DTSTART:20250309T100000
END:DAYLIGHT
BEGIN:STANDARD
TZOFFSETFROM:-0700
TZOFFSETTO:-0800
TZNAME:PST
DTSTART:20251102T090000
END:STANDARD
BEGIN:DAYLIGHT
TZOFFSETFROM:-0800
TZOFFSETTO:-0700
TZNAME:PDT
DTSTART:20260308T100000
END:DAYLIGHT
BEGIN:STANDARD
TZOFFSETFROM:-0700
TZOFFSETTO:-0800
TZNAME:PST
DTSTART:20261101T090000
END:STANDARD
BEGIN:DAYLIGHT
TZOFFSETFROM:-0800
TZOFFSETTO:-0700
TZNAME:PDT
DTSTART:20270314T100000
END:DAYLIGHT
BEGIN:STANDARD
TZOFFSETFROM:-0700
TZOFFSETTO:-0800
TZNAME:PST
DTSTART:20271107T090000
END:STANDARD
END:VTIMEZONE
BEGIN:VEVENT
DTSTART;VALUE=DATE:20251201
DTEND;VALUE=DATE:20260120
DTSTAMP:20260420T071443
CREATED:20251124T163824Z
LAST-MODIFIED:20251124T163824Z
UID:4300002001-1764547200-1768867199@nbhap.org
SUMMARY:Building Resiliency through Cognitive Reappraisal and Lifestyle Modification
DESCRIPTION:
URL:https://nbhap.org/event/building-resiliency-through-cognitive-reappraisal-and-lifestyle-modification-2/
LOCATION:online
CATEGORIES:webinar or workshop
END:VEVENT
BEGIN:VEVENT
DTSTART;TZID=America/Los_Angeles:20260106T100000
DTEND;TZID=America/Los_Angeles:20260106T120000
DTSTAMP:20260420T071443
CREATED:20251120T035508Z
LAST-MODIFIED:20251120T035508Z
UID:4300001977-1767693600-1767700800@nbhap.org
SUMMARY:Serving Those Who Serve: Introduction to Military Culture & Mental Health
DESCRIPTION:
URL:https://nbhap.org/event/serving-those-who-serve-introduction-to-military-culture-mental-health/
LOCATION:online
CATEGORIES:webinar or workshop
END:VEVENT
BEGIN:VEVENT
DTSTART;TZID=America/Los_Angeles:20260106T140000
DTEND;TZID=America/Los_Angeles:20260106T150000
DTSTAMP:20260420T071443
CREATED:20251224T214523Z
LAST-MODIFIED:20251224T214523Z
UID:4300002074-1767708000-1767711600@nbhap.org
SUMMARY:[ORN] Words Matter Language and Stigma Reduction
DESCRIPTION:
URL:https://nbhap.org/event/orn-words-matter-language-and-stigma-reduction/
LOCATION:online
CATEGORIES:webinar or workshop
END:VEVENT
END:VCALENDAR