BEGIN:VCALENDAR
VERSION:2.0
PRODID:-//National Behavioral Health Association of Providers (NBHAP) - ECPv6.15.20//NONSGML v1.0//EN
CALSCALE:GREGORIAN
METHOD:PUBLISH
X-ORIGINAL-URL:https://nbhap.org
X-WR-CALDESC:Events for National Behavioral Health Association of Providers (NBHAP)
REFRESH-INTERVAL;VALUE=DURATION:PT1H
X-Robots-Tag:noindex
X-PUBLISHED-TTL:PT1H
BEGIN:VTIMEZONE
TZID:America/Los_Angeles
BEGIN:DAYLIGHT
TZOFFSETFROM:-0800
TZOFFSETTO:-0700
TZNAME:PDT
DTSTART:20240310T100000
END:DAYLIGHT
BEGIN:STANDARD
TZOFFSETFROM:-0700
TZOFFSETTO:-0800
TZNAME:PST
DTSTART:20241103T090000
END:STANDARD
BEGIN:DAYLIGHT
TZOFFSETFROM:-0800
TZOFFSETTO:-0700
TZNAME:PDT
DTSTART:20250309T100000
END:DAYLIGHT
BEGIN:STANDARD
TZOFFSETFROM:-0700
TZOFFSETTO:-0800
TZNAME:PST
DTSTART:20251102T090000
END:STANDARD
BEGIN:DAYLIGHT
TZOFFSETFROM:-0800
TZOFFSETTO:-0700
TZNAME:PDT
DTSTART:20260308T100000
END:DAYLIGHT
BEGIN:STANDARD
TZOFFSETFROM:-0700
TZOFFSETTO:-0800
TZNAME:PST
DTSTART:20261101T090000
END:STANDARD
BEGIN:DAYLIGHT
TZOFFSETFROM:-0800
TZOFFSETTO:-0700
TZNAME:PDT
DTSTART:20270314T100000
END:DAYLIGHT
BEGIN:STANDARD
TZOFFSETFROM:-0700
TZOFFSETTO:-0800
TZNAME:PST
DTSTART:20271107T090000
END:STANDARD
END:VTIMEZONE
BEGIN:VEVENT
DTSTART;VALUE=DATE:20251201
DTEND;VALUE=DATE:20260120
DTSTAMP:20260420T071524
CREATED:20251124T163824Z
LAST-MODIFIED:20251124T163824Z
UID:4300002001-1764547200-1768867199@nbhap.org
SUMMARY:Building Resiliency through Cognitive Reappraisal and Lifestyle Modification
DESCRIPTION:
URL:https://nbhap.org/event/building-resiliency-through-cognitive-reappraisal-and-lifestyle-modification-2/
LOCATION:online
CATEGORIES:webinar or workshop
END:VEVENT
BEGIN:VEVENT
DTSTART;VALUE=DATE:20260112
DTEND;VALUE=DATE:20260115
DTSTAMP:20260420T071524
CREATED:20251120T034951Z
LAST-MODIFIED:20251120T034951Z
UID:4300001974-1768176000-1768435199@nbhap.org
SUMMARY:National Coalition Academy - Cohort 1
DESCRIPTION:Week 1: January 12-14\nWeek 2: March 2-5\nWeek 3: May 4-7
URL:https://nbhap.org/event/national-coalition-academy-cohort-1/
LOCATION:online
CATEGORIES:webinar or workshop
END:VEVENT
BEGIN:VEVENT
DTSTART;VALUE=DATE:20260113
DTEND;VALUE=DATE:20260115
DTSTAMP:20260420T071524
CREATED:20251217T231823Z
LAST-MODIFIED:20251217T231823Z
UID:4300002061-1768262400-1768435199@nbhap.org
SUMMARY:Trauma\, Trends\, & Treatment
DESCRIPTION:
URL:https://nbhap.org/event/trauma-trends-treatment/
LOCATION:online
CATEGORIES:webinar or workshop
END:VEVENT
BEGIN:VEVENT
DTSTART;VALUE=DATE:20260114
DTEND;VALUE=DATE:20260117
DTSTAMP:20260420T071524
CREATED:20251017T220358Z
LAST-MODIFIED:20251017T220358Z
UID:4300001938-1768348800-1768607999@nbhap.org
SUMMARY:Anger Management Certification Training
DESCRIPTION:
URL:https://nbhap.org/event/anger-management-certification-training-2/
LOCATION:online
CATEGORIES:webinar or workshop
END:VEVENT
BEGIN:VEVENT
DTSTART;TZID=America/Los_Angeles:20260114T120000
DTEND;TZID=America/Los_Angeles:20260114T140000
DTSTAMP:20260420T071524
CREATED:20251214T190102Z
LAST-MODIFIED:20251214T190102Z
UID:4300002042-1768392000-1768399200@nbhap.org
SUMMARY:Treating Anger: A Cognitive-Behavioral Approach
DESCRIPTION:
URL:https://nbhap.org/event/treating-anger-a-cognitive-behavioral-approach/
LOCATION:online
CATEGORIES:webinar or workshop
END:VEVENT
BEGIN:VEVENT
DTSTART;TZID=America/Los_Angeles:20260114T130000
DTEND;TZID=America/Los_Angeles:20260114T161500
DTSTAMP:20260420T071524
CREATED:20251120T022017Z
LAST-MODIFIED:20251120T022017Z
UID:4300001953-1768395600-1768407300@nbhap.org
SUMMARY:Turning Clinical Insight into School Support: A Practical Guide to IEPs and 504s
DESCRIPTION:
URL:https://nbhap.org/event/turning-clinical-insight-into-school-support-a-practical-guide-to-ieps-and-504s/
LOCATION:online
CATEGORIES:webinar or workshop
END:VEVENT
END:VCALENDAR