BEGIN:VCALENDAR
VERSION:2.0
PRODID:-//National Behavioral Health Association of Providers (NBHAP) - ECPv6.15.20//NONSGML v1.0//EN
CALSCALE:GREGORIAN
METHOD:PUBLISH
X-ORIGINAL-URL:https://nbhap.org
X-WR-CALDESC:Events for National Behavioral Health Association of Providers (NBHAP)
REFRESH-INTERVAL;VALUE=DURATION:PT1H
X-Robots-Tag:noindex
X-PUBLISHED-TTL:PT1H
BEGIN:VTIMEZONE
TZID:America/Los_Angeles
BEGIN:DAYLIGHT
TZOFFSETFROM:-0800
TZOFFSETTO:-0700
TZNAME:PDT
DTSTART:20250309T100000
END:DAYLIGHT
BEGIN:STANDARD
TZOFFSETFROM:-0700
TZOFFSETTO:-0800
TZNAME:PST
DTSTART:20251102T090000
END:STANDARD
BEGIN:DAYLIGHT
TZOFFSETFROM:-0800
TZOFFSETTO:-0700
TZNAME:PDT
DTSTART:20260308T100000
END:DAYLIGHT
BEGIN:STANDARD
TZOFFSETFROM:-0700
TZOFFSETTO:-0800
TZNAME:PST
DTSTART:20261101T090000
END:STANDARD
BEGIN:DAYLIGHT
TZOFFSETFROM:-0800
TZOFFSETTO:-0700
TZNAME:PDT
DTSTART:20270314T100000
END:DAYLIGHT
BEGIN:STANDARD
TZOFFSETFROM:-0700
TZOFFSETTO:-0800
TZNAME:PST
DTSTART:20271107T090000
END:STANDARD
END:VTIMEZONE
BEGIN:VEVENT
DTSTART;VALUE=DATE:20260119
DTEND;VALUE=DATE:20260321
DTSTAMP:20260420T071529
CREATED:20251214T184437Z
LAST-MODIFIED:20251214T184437Z
UID:4300002039-1768780800-1774051199@nbhap.org
SUMMARY:Equity & Justice in Gerontology
DESCRIPTION:
URL:https://nbhap.org/event/equity-justice-in-gerontology/
LOCATION:online
CATEGORIES:webinar or workshop
END:VEVENT
BEGIN:VEVENT
DTSTART;TZID=America/Los_Angeles:20260120T090000
DTEND;TZID=America/Los_Angeles:20260120T100000
DTSTAMP:20260420T071529
CREATED:20260120T033522Z
LAST-MODIFIED:20260120T033522Z
UID:4300002133-1768899600-1768903200@nbhap.org
SUMMARY:Competencies in Focus: Coalition Structure
DESCRIPTION:
URL:https://nbhap.org/event/competencies-in-focus-coalition-structure/
LOCATION:online
CATEGORIES:webinar or workshop
END:VEVENT
BEGIN:VEVENT
DTSTART;TZID=America/Los_Angeles:20260120T090000
DTEND;TZID=America/Los_Angeles:20260120T120000
DTSTAMP:20260420T071529
CREATED:20251121T001906Z
LAST-MODIFIED:20251121T001906Z
UID:4300001989-1768899600-1768910400@nbhap.org
SUMMARY:The 'Grey Area' Client
DESCRIPTION:
URL:https://nbhap.org/event/the-grey-area-client/
LOCATION:online
CATEGORIES:webinar or workshop
END:VEVENT
BEGIN:VEVENT
DTSTART;TZID=America/Los_Angeles:20260120T110000
DTEND;TZID=America/Los_Angeles:20260120T120000
DTSTAMP:20260420T071529
CREATED:20251214T195700Z
LAST-MODIFIED:20251214T195700Z
UID:4300002054-1768906800-1768910400@nbhap.org
SUMMARY:Criminal or Victim? Understanding the Evolution of Domestic Minor Sex Trafficking and the Unjust Criminalization of Trafficked Youth
DESCRIPTION:
URL:https://nbhap.org/event/criminal-or-victim-understanding-the-evolution-of-domestic-minor-sex-trafficking-and-the-unjust-criminalization-of-trafficked-youth/
LOCATION:online
CATEGORIES:webinar or workshop
END:VEVENT
BEGIN:VEVENT
DTSTART;TZID=America/Los_Angeles:20260120T110000
DTEND;TZID=America/Los_Angeles:20260120T120000
DTSTAMP:20260420T071529
CREATED:20260120T022837Z
LAST-MODIFIED:20260120T022837Z
UID:4300002102-1768906800-1768910400@nbhap.org
SUMMARY:Criminal or Victim? Understanding the Evolution of Domestic Minor Sex Trafficking and the Unjust Criminalization of Trafficked Youth
DESCRIPTION:
URL:https://nbhap.org/event/criminal-or-victim-understanding-the-evolution-of-domestic-minor-sex-trafficking-and-the-unjust-criminalization-of-trafficked-youth-2/
LOCATION:online
CATEGORIES:webinar or workshop
END:VEVENT
BEGIN:VEVENT
DTSTART;TZID=America/Los_Angeles:20260120T140000
DTEND;TZID=America/Los_Angeles:20260120T150000
DTSTAMP:20260420T071529
CREATED:20251017T220436Z
LAST-MODIFIED:20251017T220436Z
UID:4300001939-1768917600-1768921200@nbhap.org
SUMMARY:Drugs + Age = Diversity
DESCRIPTION:
URL:https://nbhap.org/event/drugs-age-diversity/
LOCATION:online
CATEGORIES:webinar or workshop
END:VEVENT
BEGIN:VEVENT
DTSTART;TZID=America/Los_Angeles:20260120T140000
DTEND;TZID=America/Los_Angeles:20260120T150000
DTSTAMP:20260420T071529
CREATED:20251224T214635Z
LAST-MODIFIED:20251224T214635Z
UID:4300002076-1768917600-1768921200@nbhap.org
SUMMARY:[ORN] The Value of Lived Experience in Addressing Stigma
DESCRIPTION:
URL:https://nbhap.org/event/orn-the-value-of-lived-experience-in-addressing-stigma/
LOCATION:online
CATEGORIES:webinar or workshop
END:VEVENT
BEGIN:VEVENT
DTSTART;TZID=America/Los_Angeles:20260120T190000
DTEND;TZID=America/Los_Angeles:20260120T210000
DTSTAMP:20260420T071529
CREATED:20260120T025655Z
LAST-MODIFIED:20260120T025655Z
UID:4300002103-1768935600-1768942800@nbhap.org
SUMMARY:How to Manage That Pain in the Butt: Sciatica Solutions
DESCRIPTION:
URL:https://nbhap.org/event/how-to-manage-that-pain-in-the-butt-sciatica-solutions/
LOCATION:online
CATEGORIES:webinar or workshop
END:VEVENT
END:VCALENDAR