BEGIN:VCALENDAR
VERSION:2.0
PRODID:-//National Behavioral Health Association of Providers (NBHAP) - ECPv6.15.20//NONSGML v1.0//EN
CALSCALE:GREGORIAN
METHOD:PUBLISH
X-WR-CALNAME:National Behavioral Health Association of Providers (NBHAP)
X-ORIGINAL-URL:https://nbhap.org
X-WR-CALDESC:Events for National Behavioral Health Association of Providers (NBHAP)
REFRESH-INTERVAL;VALUE=DURATION:PT1H
X-Robots-Tag:noindex
X-PUBLISHED-TTL:PT1H
BEGIN:VTIMEZONE
TZID:America/Los_Angeles
BEGIN:DAYLIGHT
TZOFFSETFROM:-0800
TZOFFSETTO:-0700
TZNAME:PDT
DTSTART:20250309T100000
END:DAYLIGHT
BEGIN:STANDARD
TZOFFSETFROM:-0700
TZOFFSETTO:-0800
TZNAME:PST
DTSTART:20251102T090000
END:STANDARD
BEGIN:DAYLIGHT
TZOFFSETFROM:-0800
TZOFFSETTO:-0700
TZNAME:PDT
DTSTART:20260308T100000
END:DAYLIGHT
BEGIN:STANDARD
TZOFFSETFROM:-0700
TZOFFSETTO:-0800
TZNAME:PST
DTSTART:20261101T090000
END:STANDARD
BEGIN:DAYLIGHT
TZOFFSETFROM:-0800
TZOFFSETTO:-0700
TZNAME:PDT
DTSTART:20270314T100000
END:DAYLIGHT
BEGIN:STANDARD
TZOFFSETFROM:-0700
TZOFFSETTO:-0800
TZNAME:PST
DTSTART:20271107T090000
END:STANDARD
END:VTIMEZONE
BEGIN:VEVENT
DTSTART;VALUE=DATE:20260119
DTEND;VALUE=DATE:20260321
DTSTAMP:20260420T071354
CREATED:20251214T184437Z
LAST-MODIFIED:20251214T184437Z
UID:4300002039-1768780800-1774051199@nbhap.org
SUMMARY:Equity & Justice in Gerontology
DESCRIPTION:
URL:https://nbhap.org/event/equity-justice-in-gerontology/
LOCATION:online
CATEGORIES:webinar or workshop
END:VEVENT
BEGIN:VEVENT
DTSTART;TZID=America/Los_Angeles:20260122T090000
DTEND;TZID=America/Los_Angeles:20260122T100000
DTSTAMP:20260420T071354
CREATED:20260120T043240Z
LAST-MODIFIED:20260120T043240Z
UID:4300002152-1769072400-1769076000@nbhap.org
SUMMARY:Opioid & Tobacco Settlement Funding: How Communities Use the Screenagers Films
DESCRIPTION:
URL:https://nbhap.org/event/opioid-tobacco-settlement-funding-how-communities-use-the-screenagers-films/
LOCATION:online
CATEGORIES:webinar or workshop
END:VEVENT
BEGIN:VEVENT
DTSTART;TZID=America/Los_Angeles:20260122T110000
DTEND;TZID=America/Los_Angeles:20260122T120000
DTSTAMP:20260420T071354
CREATED:20251120T234056Z
LAST-MODIFIED:20251120T234056Z
UID:4300001983-1769079600-1769083200@nbhap.org
SUMMARY:GLP-1s and the Psychology of Eating: Implications for Eating Disorder Recovery
DESCRIPTION:
URL:https://nbhap.org/event/glp-1s-and-the-psychology-of-eating-implications-for-eating-disorder-recovery/
LOCATION:online
CATEGORIES:webinar or workshop
END:VEVENT
BEGIN:VEVENT
DTSTART;TZID=America/Los_Angeles:20260122T173000
DTEND;TZID=America/Los_Angeles:20260122T193000
DTSTAMP:20260420T071354
CREATED:20260120T032730Z
LAST-MODIFIED:20260120T032730Z
UID:4300002130-1769103000-1769110200@nbhap.org
SUMMARY:Ready\, Set\, GROW: A Workshop for Healers\, Helpers + Wayfinders
DESCRIPTION:
URL:https://nbhap.org/event/ready-set-grow-a-workshop-for-healers-helpers-wayfinders/
LOCATION:Los Angeles\, CA\, Los Angeles\, California
CATEGORIES:webinar or workshop
END:VEVENT
BEGIN:VEVENT
DTSTART;TZID=America/Los_Angeles:20260122T180000
DTEND;TZID=America/Los_Angeles:20260122T200000
DTSTAMP:20260420T071354
CREATED:20260120T025801Z
LAST-MODIFIED:20260120T025801Z
UID:4300002104-1769104800-1769112000@nbhap.org
SUMMARY:Who Are You Calling Complex : Essential Pharmacology for Treating Medically Complex Dental Patients
DESCRIPTION:
URL:https://nbhap.org/event/who-are-you-calling-complex-essential-pharmacology-for-treating-medically-complex-dental-patients/
LOCATION:online
CATEGORIES:webinar or workshop
END:VEVENT
END:VCALENDAR