BEGIN:VCALENDAR
VERSION:2.0
PRODID:-//National Behavioral Health Association of Providers (NBHAP) - ECPv6.15.20//NONSGML v1.0//EN
CALSCALE:GREGORIAN
METHOD:PUBLISH
X-WR-CALNAME:National Behavioral Health Association of Providers (NBHAP)
X-ORIGINAL-URL:https://nbhap.org
X-WR-CALDESC:Events for National Behavioral Health Association of Providers (NBHAP)
REFRESH-INTERVAL;VALUE=DURATION:PT1H
X-Robots-Tag:noindex
X-PUBLISHED-TTL:PT1H
BEGIN:VTIMEZONE
TZID:America/Los_Angeles
BEGIN:DAYLIGHT
TZOFFSETFROM:-0800
TZOFFSETTO:-0700
TZNAME:PDT
DTSTART:20250309T100000
END:DAYLIGHT
BEGIN:STANDARD
TZOFFSETFROM:-0700
TZOFFSETTO:-0800
TZNAME:PST
DTSTART:20251102T090000
END:STANDARD
BEGIN:DAYLIGHT
TZOFFSETFROM:-0800
TZOFFSETTO:-0700
TZNAME:PDT
DTSTART:20260308T100000
END:DAYLIGHT
BEGIN:STANDARD
TZOFFSETFROM:-0700
TZOFFSETTO:-0800
TZNAME:PST
DTSTART:20261101T090000
END:STANDARD
BEGIN:DAYLIGHT
TZOFFSETFROM:-0800
TZOFFSETTO:-0700
TZNAME:PDT
DTSTART:20270314T100000
END:DAYLIGHT
BEGIN:STANDARD
TZOFFSETFROM:-0700
TZOFFSETTO:-0800
TZNAME:PST
DTSTART:20271107T090000
END:STANDARD
END:VTIMEZONE
BEGIN:VEVENT
DTSTART;VALUE=DATE:20260119
DTEND;VALUE=DATE:20260321
DTSTAMP:20260420T053633
CREATED:20251214T184437Z
LAST-MODIFIED:20251214T184437Z
UID:4300002039-1768780800-1774051199@nbhap.org
SUMMARY:Equity & Justice in Gerontology
DESCRIPTION:
URL:https://nbhap.org/event/equity-justice-in-gerontology/
LOCATION:online
CATEGORIES:webinar or workshop
END:VEVENT
BEGIN:VEVENT
DTSTART;TZID=America/Los_Angeles:20260128T090000
DTEND;TZID=America/Los_Angeles:20260128T170000
DTSTAMP:20260420T053633
CREATED:20260120T040511Z
LAST-MODIFIED:20260120T040511Z
UID:4300002138-1769590800-1769619600@nbhap.org
SUMMARY:Mental Health First Aid Training
DESCRIPTION:
URL:https://nbhap.org/event/mental-health-first-aid-training-012826/
LOCATION:Jacksonville\, NC\, Jacksonville\, NC\, United States
CATEGORIES:webinar or workshop
END:VEVENT
BEGIN:VEVENT
DTSTART;TZID=America/Los_Angeles:20260128T090000
DTEND;TZID=America/Los_Angeles:20260128T170000
DTSTAMP:20260420T053633
CREATED:20260120T040554Z
LAST-MODIFIED:20260120T040554Z
UID:4300002139-1769590800-1769619600@nbhap.org
SUMMARY:Mental Health First Aid Training
DESCRIPTION:
URL:https://nbhap.org/event/mental-health-first-aid-training-020426/
LOCATION:online
CATEGORIES:webinar or workshop
END:VEVENT
BEGIN:VEVENT
DTSTART;TZID=America/Los_Angeles:20260128T113000
DTEND;TZID=America/Los_Angeles:20260128T123000
DTSTAMP:20260420T053633
CREATED:20260120T035916Z
LAST-MODIFIED:20260120T035916Z
UID:4300002136-1769599800-1769603400@nbhap.org
SUMMARY:Under Pressure: A 2026 Leadership Guide to Workforce Stability\, AI\, and Regulatory Change
DESCRIPTION:
URL:https://nbhap.org/event/under-pressure-a-2026-leadership-guide-to-workforce-stability-ai-and-regulatory-change/
LOCATION:online
CATEGORIES:webinar or workshop
END:VEVENT
BEGIN:VEVENT
DTSTART;TZID=America/Los_Angeles:20260128T140000
DTEND;TZID=America/Los_Angeles:20260128T150000
DTSTAMP:20260420T053633
CREATED:20260120T020937Z
LAST-MODIFIED:20260120T020937Z
UID:4300002094-1769608800-1769612400@nbhap.org
SUMMARY:The Operational Reality Check of Value-Based Care Contracting
DESCRIPTION:
URL:https://nbhap.org/event/the-operational-reality-check-of-value-based-care-contracting/
LOCATION:online
CATEGORIES:webinar or workshop
END:VEVENT
END:VCALENDAR