BEGIN:VCALENDAR
VERSION:2.0
PRODID:-//National Behavioral Health Association of Providers (NBHAP) - ECPv6.15.20//NONSGML v1.0//EN
CALSCALE:GREGORIAN
METHOD:PUBLISH
X-ORIGINAL-URL:https://nbhap.org
X-WR-CALDESC:Events for National Behavioral Health Association of Providers (NBHAP)
REFRESH-INTERVAL;VALUE=DURATION:PT1H
X-Robots-Tag:noindex
X-PUBLISHED-TTL:PT1H
BEGIN:VTIMEZONE
TZID:America/Los_Angeles
BEGIN:DAYLIGHT
TZOFFSETFROM:-0800
TZOFFSETTO:-0700
TZNAME:PDT
DTSTART:20250309T100000
END:DAYLIGHT
BEGIN:STANDARD
TZOFFSETFROM:-0700
TZOFFSETTO:-0800
TZNAME:PST
DTSTART:20251102T090000
END:STANDARD
BEGIN:DAYLIGHT
TZOFFSETFROM:-0800
TZOFFSETTO:-0700
TZNAME:PDT
DTSTART:20260308T100000
END:DAYLIGHT
BEGIN:STANDARD
TZOFFSETFROM:-0700
TZOFFSETTO:-0800
TZNAME:PST
DTSTART:20261101T090000
END:STANDARD
BEGIN:DAYLIGHT
TZOFFSETFROM:-0800
TZOFFSETTO:-0700
TZNAME:PDT
DTSTART:20270314T100000
END:DAYLIGHT
BEGIN:STANDARD
TZOFFSETFROM:-0700
TZOFFSETTO:-0800
TZNAME:PST
DTSTART:20271107T090000
END:STANDARD
END:VTIMEZONE
BEGIN:VEVENT
DTSTART;VALUE=DATE:20260119
DTEND;VALUE=DATE:20260321
DTSTAMP:20260420T053645
CREATED:20251214T184437Z
LAST-MODIFIED:20251214T184437Z
UID:4300002039-1768780800-1774051199@nbhap.org
SUMMARY:Equity & Justice in Gerontology
DESCRIPTION:
URL:https://nbhap.org/event/equity-justice-in-gerontology/
LOCATION:online
CATEGORIES:webinar or workshop
END:VEVENT
BEGIN:VEVENT
DTSTART;VALUE=DATE:20260130
DTEND;VALUE=DATE:20260201
DTSTAMP:20260420T053645
CREATED:20251224T213744Z
LAST-MODIFIED:20251224T213744Z
UID:4300002073-1769731200-1769903999@nbhap.org
SUMMARY:2026 Sex Addiction Summit
DESCRIPTION:
URL:https://nbhap.org/event/2026-sex-addiction-summit/
LOCATION:online
CATEGORIES:webinar or workshop
END:VEVENT
BEGIN:VEVENT
DTSTART;TZID=America/Los_Angeles:20260130T090000
DTEND;TZID=America/Los_Angeles:20260130T110000
DTSTAMP:20260420T053645
CREATED:20260128T010307Z
LAST-MODIFIED:20260128T010307Z
UID:4300002158-1769763600-1769770800@nbhap.org
SUMMARY:Emotional Mirrors: Understanding Transference & Countertransference in MH & SUD Treatment
DESCRIPTION:We often think we’re reacting to people — but many times\, we’re responding to reflections of our own past. Transference and countertransference act as emotional mirrors\, quietly shaping attraction\, resistance\, and misunderstanding. When we learn to recognize them\, relationships stop being reactive and start becoming revealing. Explore how these hidden dynamics show up — and how awareness can change the way we understand and engage with others.
URL:https://nbhap.org/event/emotional-mirrors-understanding-transference-countertransference-in-mh-sud-treatment/
LOCATION:online
CATEGORIES:partner event,webinar or workshop
END:VEVENT
BEGIN:VEVENT
DTSTART;TZID=America/Los_Angeles:20260130T100000
DTEND;TZID=America/Los_Angeles:20260130T131500
DTSTAMP:20260420T053645
CREATED:20251214T185809Z
LAST-MODIFIED:20251214T185809Z
UID:4300002041-1769767200-1769778900@nbhap.org
SUMMARY:Essential Guidelines & Updates for Work with Transgender and Gender Diverse (TGD) Adults – Focus on Their Life Settings
DESCRIPTION:
URL:https://nbhap.org/event/essential-guidelines-updates-for-work-with-transgender-and-gender-diverse-tgd-adults-focus-on-their-life-settings/
LOCATION:online
CATEGORIES:webinar or workshop
END:VEVENT
END:VCALENDAR