BEGIN:VCALENDAR
VERSION:2.0
PRODID:-//National Behavioral Health Association of Providers (NBHAP) - ECPv6.15.20//NONSGML v1.0//EN
CALSCALE:GREGORIAN
METHOD:PUBLISH
X-WR-CALNAME:National Behavioral Health Association of Providers (NBHAP)
X-ORIGINAL-URL:https://nbhap.org
X-WR-CALDESC:Events for National Behavioral Health Association of Providers (NBHAP)
REFRESH-INTERVAL;VALUE=DURATION:PT1H
X-Robots-Tag:noindex
X-PUBLISHED-TTL:PT1H
BEGIN:VTIMEZONE
TZID:America/Los_Angeles
BEGIN:DAYLIGHT
TZOFFSETFROM:-0800
TZOFFSETTO:-0700
TZNAME:PDT
DTSTART:20250309T100000
END:DAYLIGHT
BEGIN:STANDARD
TZOFFSETFROM:-0700
TZOFFSETTO:-0800
TZNAME:PST
DTSTART:20251102T090000
END:STANDARD
BEGIN:DAYLIGHT
TZOFFSETFROM:-0800
TZOFFSETTO:-0700
TZNAME:PDT
DTSTART:20260308T100000
END:DAYLIGHT
BEGIN:STANDARD
TZOFFSETFROM:-0700
TZOFFSETTO:-0800
TZNAME:PST
DTSTART:20261101T090000
END:STANDARD
BEGIN:DAYLIGHT
TZOFFSETFROM:-0800
TZOFFSETTO:-0700
TZNAME:PDT
DTSTART:20270314T100000
END:DAYLIGHT
BEGIN:STANDARD
TZOFFSETFROM:-0700
TZOFFSETTO:-0800
TZNAME:PST
DTSTART:20271107T090000
END:STANDARD
END:VTIMEZONE
BEGIN:VEVENT
DTSTART;VALUE=DATE:20260119
DTEND;VALUE=DATE:20260321
DTSTAMP:20260420T040248
CREATED:20251214T184437Z
LAST-MODIFIED:20251214T184437Z
UID:4300002039-1768780800-1774051199@nbhap.org
SUMMARY:Equity & Justice in Gerontology
DESCRIPTION:
URL:https://nbhap.org/event/equity-justice-in-gerontology/
LOCATION:online
CATEGORIES:webinar or workshop
END:VEVENT
BEGIN:VEVENT
DTSTART;VALUE=DATE:20260202
DTEND;VALUE=DATE:20260331
DTSTAMP:20260420T040248
CREATED:20260201T031026Z
LAST-MODIFIED:20260201T031026Z
UID:4300002169-1769990400-1774915199@nbhap.org
SUMMARY:Learning Disorders
DESCRIPTION:
URL:https://nbhap.org/event/learning-disorders-2/
LOCATION:online
CATEGORIES:webinar or workshop
END:VEVENT
BEGIN:VEVENT
DTSTART;VALUE=DATE:20260204
DTEND;VALUE=DATE:20260423
DTSTAMP:20260420T040248
CREATED:20260120T015845Z
LAST-MODIFIED:20260120T015845Z
UID:4300002091-1770163200-1776902399@nbhap.org
SUMMARY:Financial Skills for Recovery
DESCRIPTION:Wednesdays only
URL:https://nbhap.org/event/financial-skills-for-recovery/
LOCATION:online
CATEGORIES:webinar or workshop
END:VEVENT
BEGIN:VEVENT
DTSTART;VALUE=DATE:20260212
DTEND;VALUE=DATE:20260227
DTSTAMP:20260420T040248
CREATED:20251120T024604Z
LAST-MODIFIED:20251120T024604Z
UID:4300001961-1770854400-1772150399@nbhap.org
SUMMARY:CBT (Rational Living Therapy Level) 1.5 Certification
DESCRIPTION:
URL:https://nbhap.org/event/cbt-rational-living-therapy-level-1-5-certification/
LOCATION:online
CATEGORIES:webinar or workshop
END:VEVENT
BEGIN:VEVENT
DTSTART;VALUE=DATE:20260223
DTEND;VALUE=DATE:20260227
DTSTAMP:20260420T040248
CREATED:20251120T035046Z
LAST-MODIFIED:20251120T035046Z
UID:4300001975-1771804800-1772150399@nbhap.org
SUMMARY:National Coalition Academy - Cohort 2
DESCRIPTION:Week 1: February 23-26\nWeek 2: April 13-16\nWeek 3: June 8-11
URL:https://nbhap.org/event/national-coalition-academy-cohort-2/
LOCATION:online
CATEGORIES:webinar or workshop
END:VEVENT
BEGIN:VEVENT
DTSTART;VALUE=DATE:20260224
DTEND;VALUE=DATE:20260226
DTSTAMP:20260420T040248
CREATED:20260214T001736Z
LAST-MODIFIED:20260214T001736Z
UID:4300002221-1771891200-1772063999@nbhap.org
SUMMARY:Specialist Supportive Clinical Management for Anorexia Nervosa
DESCRIPTION:
URL:https://nbhap.org/event/specialist-supportive-clinical-management-for-anorexia-nervosa/
LOCATION:online
CATEGORIES:webinar or workshop
END:VEVENT
BEGIN:VEVENT
DTSTART;TZID=America/Los_Angeles:20260225T090000
DTEND;TZID=America/Los_Angeles:20260225T170000
DTSTAMP:20260420T040248
CREATED:20260120T040756Z
LAST-MODIFIED:20260120T040756Z
UID:4300002142-1772010000-1772038800@nbhap.org
SUMMARY:Mental Health First Aid Training
DESCRIPTION:
URL:https://nbhap.org/event/mental-health-first-aid-training-022526/
LOCATION:online
CATEGORIES:webinar or workshop
END:VEVENT
BEGIN:VEVENT
DTSTART;TZID=America/Los_Angeles:20260225T100000
DTEND;TZID=America/Los_Angeles:20260225T120000
DTSTAMP:20260420T040248
CREATED:20251121T002212Z
LAST-MODIFIED:20251121T002212Z
UID:4300001993-1772013600-1772020800@nbhap.org
SUMMARY:Bridging Program and Practice: Clinical Integration of 12-Step Recovery
DESCRIPTION:
URL:https://nbhap.org/event/bridging-program-and-practice-clinical-integration-of-12-step-recovery/
LOCATION:online
CATEGORIES:webinar or workshop
END:VEVENT
BEGIN:VEVENT
DTSTART;TZID=America/Los_Angeles:20260225T110000
DTEND;TZID=America/Los_Angeles:20260225T130000
DTSTAMP:20260420T040248
CREATED:20260120T031154Z
LAST-MODIFIED:20260120T031154Z
UID:4300002117-1772017200-1772024400@nbhap.org
SUMMARY:Making the Decision to Report Suspected Child Maltreatment: Updated NYS Mandated Reporter Training 2026
DESCRIPTION:
URL:https://nbhap.org/event/making-the-decision-to-report-suspected-child-maltreatment-updated-nys-mandated-reporter-training-2026/
LOCATION:online
CATEGORIES:webinar or workshop
END:VEVENT
BEGIN:VEVENT
DTSTART;TZID=America/Los_Angeles:20260225T120000
DTEND;TZID=America/Los_Angeles:20260225T130000
DTSTAMP:20260420T040248
CREATED:20251214T180018Z
LAST-MODIFIED:20251214T180018Z
UID:4300002029-1772020800-1772024400@nbhap.org
SUMMARY:Ecopsychology Framework & Applications of Ecotherapy
DESCRIPTION:
URL:https://nbhap.org/event/ecopsychology-framework-applications-of-ecotherapy/
LOCATION:online
CATEGORIES:webinar or workshop
END:VEVENT
BEGIN:VEVENT
DTSTART;TZID=America/Los_Angeles:20260225T120000
DTEND;TZID=America/Los_Angeles:20260225T133000
DTSTAMP:20260420T040248
CREATED:20260120T022003Z
LAST-MODIFIED:20260120T022003Z
UID:4300002097-1772020800-1772026200@nbhap.org
SUMMARY:Process Addictions: Maladaptive Coping Across the Ages
DESCRIPTION:
URL:https://nbhap.org/event/process-addictions-maladaptive-coping-across-the-ages/
LOCATION:online
CATEGORIES:webinar or workshop
END:VEVENT
BEGIN:VEVENT
DTSTART;TZID=America/Los_Angeles:20260225T190000
DTEND;TZID=America/Los_Angeles:20260225T220000
DTSTAMP:20260420T040248
CREATED:20260120T031245Z
LAST-MODIFIED:20260120T031245Z
UID:4300002118-1772046000-1772056800@nbhap.org
SUMMARY:Cupping Therapy- Soft Tissue Mobilization for Rapid Results
DESCRIPTION:
URL:https://nbhap.org/event/cupping-therapy-soft-tissue-mobilization-for-rapid-results/
LOCATION:online
CATEGORIES:webinar or workshop
END:VEVENT
END:VCALENDAR