BEGIN:VCALENDAR
VERSION:2.0
PRODID:-//National Behavioral Health Association of Providers (NBHAP) - ECPv6.15.20//NONSGML v1.0//EN
CALSCALE:GREGORIAN
METHOD:PUBLISH
X-WR-CALNAME:National Behavioral Health Association of Providers (NBHAP)
X-ORIGINAL-URL:https://nbhap.org
X-WR-CALDESC:Events for National Behavioral Health Association of Providers (NBHAP)
REFRESH-INTERVAL;VALUE=DURATION:PT1H
X-Robots-Tag:noindex
X-PUBLISHED-TTL:PT1H
BEGIN:VTIMEZONE
TZID:America/Los_Angeles
BEGIN:DAYLIGHT
TZOFFSETFROM:-0800
TZOFFSETTO:-0700
TZNAME:PDT
DTSTART:20250309T100000
END:DAYLIGHT
BEGIN:STANDARD
TZOFFSETFROM:-0700
TZOFFSETTO:-0800
TZNAME:PST
DTSTART:20251102T090000
END:STANDARD
BEGIN:DAYLIGHT
TZOFFSETFROM:-0800
TZOFFSETTO:-0700
TZNAME:PDT
DTSTART:20260308T100000
END:DAYLIGHT
BEGIN:STANDARD
TZOFFSETFROM:-0700
TZOFFSETTO:-0800
TZNAME:PST
DTSTART:20261101T090000
END:STANDARD
BEGIN:DAYLIGHT
TZOFFSETFROM:-0800
TZOFFSETTO:-0700
TZNAME:PDT
DTSTART:20270314T100000
END:DAYLIGHT
BEGIN:STANDARD
TZOFFSETFROM:-0700
TZOFFSETTO:-0800
TZNAME:PST
DTSTART:20271107T090000
END:STANDARD
END:VTIMEZONE
BEGIN:VEVENT
DTSTART;VALUE=DATE:20260119
DTEND;VALUE=DATE:20260321
DTSTAMP:20260420T040248
CREATED:20251214T184437Z
LAST-MODIFIED:20251214T184437Z
UID:4300002039-1768780800-1774051199@nbhap.org
SUMMARY:Equity & Justice in Gerontology
DESCRIPTION:
URL:https://nbhap.org/event/equity-justice-in-gerontology/
LOCATION:online
CATEGORIES:webinar or workshop
END:VEVENT
BEGIN:VEVENT
DTSTART;VALUE=DATE:20260202
DTEND;VALUE=DATE:20260331
DTSTAMP:20260420T040248
CREATED:20260201T031026Z
LAST-MODIFIED:20260201T031026Z
UID:4300002169-1769990400-1774915199@nbhap.org
SUMMARY:Learning Disorders
DESCRIPTION:
URL:https://nbhap.org/event/learning-disorders-2/
LOCATION:online
CATEGORIES:webinar or workshop
END:VEVENT
BEGIN:VEVENT
DTSTART;VALUE=DATE:20260204
DTEND;VALUE=DATE:20260423
DTSTAMP:20260420T040248
CREATED:20260120T015845Z
LAST-MODIFIED:20260120T015845Z
UID:4300002091-1770163200-1776902399@nbhap.org
SUMMARY:Financial Skills for Recovery
DESCRIPTION:Wednesdays only
URL:https://nbhap.org/event/financial-skills-for-recovery/
LOCATION:online
CATEGORIES:webinar or workshop
END:VEVENT
BEGIN:VEVENT
DTSTART;VALUE=DATE:20260301
DTEND;VALUE=DATE:20260306
DTSTAMP:20260420T040248
CREATED:20250823T154408Z
LAST-MODIFIED:20250823T154408Z
UID:4300001667-1772323200-1772755199@nbhap.org
SUMMARY:23rd Annual Hawai'i International Summit
DESCRIPTION:
URL:https://nbhap.org/event/23rd-annual-hawaii-international-summit/
LOCATION:Honolulu\, HI\, Honolulu\, HI\, United States
CATEGORIES:webinar or workshop
END:VEVENT
BEGIN:VEVENT
DTSTART;VALUE=DATE:20260304
DTEND;VALUE=DATE:20260326
DTSTAMP:20260420T040248
CREATED:20260201T050955Z
LAST-MODIFIED:20260201T050955Z
UID:4300002198-1772582400-1774483199@nbhap.org
SUMMARY:CBT Foundations Series
DESCRIPTION:Wednesdays only
URL:https://nbhap.org/event/cbt-foundations-series/
LOCATION:online
CATEGORIES:webinar or workshop
END:VEVENT
BEGIN:VEVENT
DTSTART;TZID=America/Los_Angeles:20260305T100000
DTEND;TZID=America/Los_Angeles:20260305T120000
DTSTAMP:20260420T040248
CREATED:20260201T050442Z
LAST-MODIFIED:20260201T050442Z
UID:4300002197-1772704800-1772712000@nbhap.org
SUMMARY:Everyday Ethics: Tough Calls in Real Time
DESCRIPTION:
URL:https://nbhap.org/event/everyday-ethics-tough-calls-in-real-time/
LOCATION:online
CATEGORIES:webinar or workshop
END:VEVENT
BEGIN:VEVENT
DTSTART;TZID=America/Los_Angeles:20260305T110000
DTEND;TZID=America/Los_Angeles:20260305T120000
DTSTAMP:20260420T040248
CREATED:20260214T002901Z
LAST-MODIFIED:20260214T002901Z
UID:4300002226-1772708400-1772712000@nbhap.org
SUMMARY:Critical Complications in Eating Disorder Treatment: Refeeding Syndrome\, Pseudo-Bartter Syndrome\, and More
DESCRIPTION:
URL:https://nbhap.org/event/critical-complications-in-eating-disorder-treatment-refeeding-syndrome-pseudo-bartter-syndrome-and-more/
LOCATION:online
CATEGORIES:webinar or workshop
END:VEVENT
BEGIN:VEVENT
DTSTART;TZID=America/Los_Angeles:20260305T140000
DTEND;TZID=America/Los_Angeles:20260305T150000
DTSTAMP:20260420T040248
CREATED:20260214T003158Z
LAST-MODIFIED:20260214T003158Z
UID:4300002227-1772719200-1772722800@nbhap.org
SUMMARY:Innovation in Behavioral Health (IBH) Model Cohort II Notice of Funding Opportunity (NOFO)
DESCRIPTION:
URL:https://nbhap.org/event/innovation-in-behavioral-health-ibh-model-cohort-ii-notice-of-funding-opportunity-nofo/
LOCATION:online
CATEGORIES:webinar or workshop
END:VEVENT
BEGIN:VEVENT
DTSTART;TZID=America/Los_Angeles:20260305T140000
DTEND;TZID=America/Los_Angeles:20260305T153000
DTSTAMP:20260420T040248
CREATED:20260201T021212Z
LAST-MODIFIED:20260201T021212Z
UID:4300002161-1772719200-1772724600@nbhap.org
SUMMARY:A Conversation with NC-SARA
DESCRIPTION:
URL:https://nbhap.org/event/a-conversation-with-nc-sara/
LOCATION:online
CATEGORIES:webinar or workshop
END:VEVENT
BEGIN:VEVENT
DTSTART;TZID=America/Los_Angeles:20260305T180000
DTEND;TZID=America/Los_Angeles:20260305T200000
DTSTAMP:20260420T040248
CREATED:20260120T031505Z
LAST-MODIFIED:20260120T031505Z
UID:4300002121-1772733600-1772740800@nbhap.org
SUMMARY:Have You Ever Had Déjà-vu? Will Vaping Be Dentistry's Next Tobacco?
DESCRIPTION:
URL:https://nbhap.org/event/have-you-ever-had-deja-vu-will-vaping-be-dentistrys-next-tobacco/
LOCATION:online
CATEGORIES:webinar or workshop
END:VEVENT
END:VCALENDAR