BEGIN:VCALENDAR
VERSION:2.0
PRODID:-//National Behavioral Health Association of Providers (NBHAP) - ECPv6.15.20//NONSGML v1.0//EN
CALSCALE:GREGORIAN
METHOD:PUBLISH
X-WR-CALNAME:National Behavioral Health Association of Providers (NBHAP)
X-ORIGINAL-URL:https://nbhap.org
X-WR-CALDESC:Events for National Behavioral Health Association of Providers (NBHAP)
REFRESH-INTERVAL;VALUE=DURATION:PT1H
X-Robots-Tag:noindex
X-PUBLISHED-TTL:PT1H
BEGIN:VTIMEZONE
TZID:America/Los_Angeles
BEGIN:DAYLIGHT
TZOFFSETFROM:-0800
TZOFFSETTO:-0700
TZNAME:PDT
DTSTART:20250309T100000
END:DAYLIGHT
BEGIN:STANDARD
TZOFFSETFROM:-0700
TZOFFSETTO:-0800
TZNAME:PST
DTSTART:20251102T090000
END:STANDARD
BEGIN:DAYLIGHT
TZOFFSETFROM:-0800
TZOFFSETTO:-0700
TZNAME:PDT
DTSTART:20260308T100000
END:DAYLIGHT
BEGIN:STANDARD
TZOFFSETFROM:-0700
TZOFFSETTO:-0800
TZNAME:PST
DTSTART:20261101T090000
END:STANDARD
BEGIN:DAYLIGHT
TZOFFSETFROM:-0800
TZOFFSETTO:-0700
TZNAME:PDT
DTSTART:20270314T100000
END:DAYLIGHT
BEGIN:STANDARD
TZOFFSETFROM:-0700
TZOFFSETTO:-0800
TZNAME:PST
DTSTART:20271107T090000
END:STANDARD
END:VTIMEZONE
BEGIN:VEVENT
DTSTART;VALUE=DATE:20260202
DTEND;VALUE=DATE:20260331
DTSTAMP:20260420T040247
CREATED:20260201T031026Z
LAST-MODIFIED:20260201T031026Z
UID:4300002169-1769990400-1774915199@nbhap.org
SUMMARY:Learning Disorders
DESCRIPTION:
URL:https://nbhap.org/event/learning-disorders-2/
LOCATION:online
CATEGORIES:webinar or workshop
END:VEVENT
BEGIN:VEVENT
DTSTART;VALUE=DATE:20260204
DTEND;VALUE=DATE:20260423
DTSTAMP:20260420T040247
CREATED:20260120T015845Z
LAST-MODIFIED:20260120T015845Z
UID:4300002091-1770163200-1776902399@nbhap.org
SUMMARY:Financial Skills for Recovery
DESCRIPTION:Wednesdays only
URL:https://nbhap.org/event/financial-skills-for-recovery/
LOCATION:online
CATEGORIES:webinar or workshop
END:VEVENT
BEGIN:VEVENT
DTSTART;TZID=America/Los_Angeles:20260327T100000
DTEND;TZID=America/Los_Angeles:20260327T170000
DTSTAMP:20260420T040247
CREATED:20260201T035003Z
LAST-MODIFIED:20260201T035003Z
UID:4300002177-1774605600-1774630800@nbhap.org
SUMMARY:Matrix Recovery Program for Integrated Care- Key Supervisors and Implementation
DESCRIPTION:
URL:https://nbhap.org/event/matrix-recovery-program-for-integrated-care-key-supervisors-and-implementation-032526/
LOCATION:online
CATEGORIES:webinar or workshop
END:VEVENT
BEGIN:VEVENT
DTSTART;TZID=America/Los_Angeles:20260327T110000
DTEND;TZID=America/Los_Angeles:20260327T141500
DTSTAMP:20260420T040247
CREATED:20260120T032001Z
LAST-MODIFIED:20260120T032001Z
UID:4300002126-1774609200-1774620900@nbhap.org
SUMMARY:Welcome to the 21st Century: Ethical Integration of AI Technologies Into Professional Mental Health Practice
DESCRIPTION:
URL:https://nbhap.org/event/welcome-to-the-21st-century-ethical-integration-of-ai-technologies-into-professional-mental-health-practice/
LOCATION:online
CATEGORIES:webinar or workshop
END:VEVENT
BEGIN:VEVENT
DTSTART;TZID=America/Los_Angeles:20260327T110000
DTEND;TZID=America/Los_Angeles:20260327T170000
DTSTAMP:20260420T040247
CREATED:20260325T183854Z
LAST-MODIFIED:20260325T183854Z
UID:4300002249-1774609200-1774630800@nbhap.org
SUMMARY:Ethical Considerations When Working with Minors: Helping Clinicians Feel Confident and Competent
DESCRIPTION:
URL:https://nbhap.org/event/ethical-considerations-when-working-with-minors-helping-clinicians-feel-confident-and-competent-2/
LOCATION:online
CATEGORIES:webinar or workshop
END:VEVENT
END:VCALENDAR