BEGIN:VCALENDAR
VERSION:2.0
PRODID:-//National Behavioral Health Association of Providers (NBHAP) - ECPv6.15.20//NONSGML v1.0//EN
CALSCALE:GREGORIAN
METHOD:PUBLISH
X-ORIGINAL-URL:https://nbhap.org
X-WR-CALDESC:Events for National Behavioral Health Association of Providers (NBHAP)
REFRESH-INTERVAL;VALUE=DURATION:PT1H
X-Robots-Tag:noindex
X-PUBLISHED-TTL:PT1H
BEGIN:VTIMEZONE
TZID:America/Los_Angeles
BEGIN:DAYLIGHT
TZOFFSETFROM:-0800
TZOFFSETTO:-0700
TZNAME:PDT
DTSTART:20250309T100000
END:DAYLIGHT
BEGIN:STANDARD
TZOFFSETFROM:-0700
TZOFFSETTO:-0800
TZNAME:PST
DTSTART:20251102T090000
END:STANDARD
BEGIN:DAYLIGHT
TZOFFSETFROM:-0800
TZOFFSETTO:-0700
TZNAME:PDT
DTSTART:20260308T100000
END:DAYLIGHT
BEGIN:STANDARD
TZOFFSETFROM:-0700
TZOFFSETTO:-0800
TZNAME:PST
DTSTART:20261101T090000
END:STANDARD
BEGIN:DAYLIGHT
TZOFFSETFROM:-0800
TZOFFSETTO:-0700
TZNAME:PDT
DTSTART:20270314T100000
END:DAYLIGHT
BEGIN:STANDARD
TZOFFSETFROM:-0700
TZOFFSETTO:-0800
TZNAME:PST
DTSTART:20271107T090000
END:STANDARD
END:VTIMEZONE
BEGIN:VEVENT
DTSTART;VALUE=DATE:20260406
DTEND;VALUE=DATE:20260602
DTSTAMP:20260420T151049
CREATED:20260401T000536Z
LAST-MODIFIED:20260401T000536Z
UID:4300002265-1775433600-1780358399@nbhap.org
SUMMARY:Assessment of ADHD and Executive Functions Across the Lifespan
DESCRIPTION:
URL:https://nbhap.org/event/assessment-of-adhd-and-executive-functions-across-the-lifespan/
LOCATION:online
CATEGORIES:webinar or workshop
END:VEVENT
BEGIN:VEVENT
DTSTART;VALUE=DATE:20260526
DTEND;VALUE=DATE:20260528
DTSTAMP:20260420T151049
CREATED:20260401T023659Z
LAST-MODIFIED:20260401T023748Z
UID:4300002290-1779753600-1779926399@nbhap.org
SUMMARY:Introduction to Motivational Interviewing for Adolescents and Families
DESCRIPTION:
URL:https://nbhap.org/event/introduction-to-motivational-interviewing-for-adolescents-and-families/
LOCATION:Greenville\, NC\, Greenville\, NC\, United States
CATEGORIES:webinar or workshop
END:VEVENT
BEGIN:VEVENT
DTSTART;TZID=America/Los_Angeles:20260526T090000
DTEND;TZID=America/Los_Angeles:20260526T160000
DTSTAMP:20260420T151049
CREATED:20260417T180556Z
LAST-MODIFIED:20260417T180556Z
UID:4300002389-1779786000-1779811200@nbhap.org
SUMMARY:Questions in Counselling - The Art and Skill
DESCRIPTION:
URL:https://nbhap.org/event/questions-in-counselling-the-art-and-skill/
LOCATION:online
CATEGORIES:webinar or workshop
END:VEVENT
BEGIN:VEVENT
DTSTART;TZID=America/Los_Angeles:20260526T100000
DTEND;TZID=America/Los_Angeles:20260526T131500
DTSTAMP:20260420T151049
CREATED:20260410T233015Z
LAST-MODIFIED:20260410T233015Z
UID:4300002365-1779789600-1779801300@nbhap.org
SUMMARY:Reclaiming the Self: Healing After Narcissistic Abuse in Love and Family
DESCRIPTION:
URL:https://nbhap.org/event/reclaiming-the-self-healing-after-narcissistic-abuse-in-love-and-family/
LOCATION:online
CATEGORIES:webinar or workshop
END:VEVENT
END:VCALENDAR