BEGIN:VCALENDAR
VERSION:2.0
PRODID:-//National Behavioral Health Association of Providers (NBHAP) - ECPv6.15.20//NONSGML v1.0//EN
CALSCALE:GREGORIAN
METHOD:PUBLISH
X-WR-CALNAME:National Behavioral Health Association of Providers (NBHAP)
X-ORIGINAL-URL:https://nbhap.org
X-WR-CALDESC:Events for National Behavioral Health Association of Providers (NBHAP)
REFRESH-INTERVAL;VALUE=DURATION:PT1H
X-Robots-Tag:noindex
X-PUBLISHED-TTL:PT1H
BEGIN:VTIMEZONE
TZID:America/Los_Angeles
BEGIN:DAYLIGHT
TZOFFSETFROM:-0800
TZOFFSETTO:-0700
TZNAME:PDT
DTSTART:20250309T100000
END:DAYLIGHT
BEGIN:STANDARD
TZOFFSETFROM:-0700
TZOFFSETTO:-0800
TZNAME:PST
DTSTART:20251102T090000
END:STANDARD
BEGIN:DAYLIGHT
TZOFFSETFROM:-0800
TZOFFSETTO:-0700
TZNAME:PDT
DTSTART:20260308T100000
END:DAYLIGHT
BEGIN:STANDARD
TZOFFSETFROM:-0700
TZOFFSETTO:-0800
TZNAME:PST
DTSTART:20261101T090000
END:STANDARD
BEGIN:DAYLIGHT
TZOFFSETFROM:-0800
TZOFFSETTO:-0700
TZNAME:PDT
DTSTART:20270314T100000
END:DAYLIGHT
BEGIN:STANDARD
TZOFFSETFROM:-0700
TZOFFSETTO:-0800
TZNAME:PST
DTSTART:20271107T090000
END:STANDARD
END:VTIMEZONE
BEGIN:VEVENT
DTSTART;TZID=America/Los_Angeles:20260604T100000
DTEND;TZID=America/Los_Angeles:20260604T120000
DTSTAMP:20260420T055224
CREATED:20260410T233453Z
LAST-MODIFIED:20260410T233453Z
UID:4300002371-1780567200-1780574400@nbhap.org
SUMMARY:Ethics of Self Care: Staying True Without Burning Out
DESCRIPTION:
URL:https://nbhap.org/event/ethics-of-self-care-staying-true-without-burning-out/
LOCATION:online
CATEGORIES:webinar or workshop
END:VEVENT
BEGIN:VEVENT
DTSTART;TZID=America/Los_Angeles:20260604T140000
DTEND;TZID=America/Los_Angeles:20260604T160000
DTSTAMP:20260420T055224
CREATED:20260413T135359Z
LAST-MODIFIED:20260413T135359Z
UID:4300002372-1780581600-1780588800@nbhap.org
SUMMARY:When The Internet Becomes The Therapist: Risks\, Trends\, & Clinical Implications
DESCRIPTION:
URL:https://nbhap.org/event/when-the-internet-becomes-the-therapist-risks-trends-clinical-implications/
LOCATION:online
CATEGORIES:webinar or workshop
END:VEVENT
END:VCALENDAR