BEGIN:VCALENDAR
VERSION:2.0
PRODID:-//National Behavioral Health Association of Providers (NBHAP) - ECPv6.15.20//NONSGML v1.0//EN
CALSCALE:GREGORIAN
METHOD:PUBLISH
X-WR-CALNAME:National Behavioral Health Association of Providers (NBHAP)
X-ORIGINAL-URL:https://nbhap.org
X-WR-CALDESC:Events for National Behavioral Health Association of Providers (NBHAP)
REFRESH-INTERVAL;VALUE=DURATION:PT1H
X-Robots-Tag:noindex
X-PUBLISHED-TTL:PT1H
BEGIN:VTIMEZONE
TZID:America/Los_Angeles
BEGIN:DAYLIGHT
TZOFFSETFROM:-0800
TZOFFSETTO:-0700
TZNAME:PDT
DTSTART:20250309T100000
END:DAYLIGHT
BEGIN:STANDARD
TZOFFSETFROM:-0700
TZOFFSETTO:-0800
TZNAME:PST
DTSTART:20251102T090000
END:STANDARD
BEGIN:DAYLIGHT
TZOFFSETFROM:-0800
TZOFFSETTO:-0700
TZNAME:PDT
DTSTART:20260308T100000
END:DAYLIGHT
BEGIN:STANDARD
TZOFFSETFROM:-0700
TZOFFSETTO:-0800
TZNAME:PST
DTSTART:20261101T090000
END:STANDARD
BEGIN:DAYLIGHT
TZOFFSETFROM:-0800
TZOFFSETTO:-0700
TZNAME:PDT
DTSTART:20270314T100000
END:DAYLIGHT
BEGIN:STANDARD
TZOFFSETFROM:-0700
TZOFFSETTO:-0800
TZNAME:PST
DTSTART:20271107T090000
END:STANDARD
END:VTIMEZONE
BEGIN:VEVENT
DTSTART;TZID=America/Los_Angeles:20260213T100000
DTEND;TZID=America/Los_Angeles:20260213T170000
DTSTAMP:20260419T090804
CREATED:20260201T034810Z
LAST-MODIFIED:20260201T034810Z
UID:4300002175-1770976800-1771002000@nbhap.org
SUMMARY:Matrix Recovery Program for Integrated Care- Key Supervisors and Implementation
DESCRIPTION:
URL:https://nbhap.org/event/matrix-recovery-program-for-integrated-care-key-supervisors-and-implementation-021326/
LOCATION:online
CATEGORIES:webinar or workshop
END:VEVENT
BEGIN:VEVENT
DTSTART;TZID=America/Los_Angeles:20260213T100000
DTEND;TZID=America/Los_Angeles:20260213T170000
DTSTAMP:20260419T090804
CREATED:20260120T030913Z
LAST-MODIFIED:20260120T030913Z
UID:4300002114-1770976800-1771002000@nbhap.org
SUMMARY:Reclaiming the Body: Nervous System Informed Somatic Healing for Sexual Compulsivity
DESCRIPTION:
URL:https://nbhap.org/event/reclaiming-the-body-nervous-system-informed-somatic-healing-for-sexual-compulsivity/
LOCATION:online
CATEGORIES:webinar or workshop
END:VEVENT
BEGIN:VEVENT
DTSTART;TZID=America/Los_Angeles:20260213T090000
DTEND;TZID=America/Los_Angeles:20260213T160000
DTSTAMP:20260419T090804
CREATED:20260120T042109Z
LAST-MODIFIED:20260120T042109Z
UID:4300002147-1770973200-1770998400@nbhap.org
SUMMARY:Motivational Interviewing: Becoming A JEDI
DESCRIPTION:
URL:https://nbhap.org/event/motivational-interviewing-becoming-a-jedi/
LOCATION:online
CATEGORIES:webinar or workshop
END:VEVENT
BEGIN:VEVENT
DTSTART;TZID=America/Los_Angeles:20260212T140000
DTEND;TZID=America/Los_Angeles:20260212T150000
DTSTAMP:20260419T090804
CREATED:20251224T214943Z
LAST-MODIFIED:20251224T214943Z
UID:4300002081-1770904800-1770908400@nbhap.org
SUMMARY:[ORN] Community Health and Wellbeing Webinar: Veterans
DESCRIPTION:
URL:https://nbhap.org/event/orn-community-health-and-wellbeing-webinar-veterans/
LOCATION:online
CATEGORIES:webinar or workshop
END:VEVENT
BEGIN:VEVENT
DTSTART;TZID=America/Los_Angeles:20260212T140000
DTEND;TZID=America/Los_Angeles:20260212T143000
DTSTAMP:20260419T090804
CREATED:20251210T000932Z
LAST-MODIFIED:20251210T000932Z
UID:4300002007-1770904800-1770906600@nbhap.org
SUMMARY:NCSACW Ready-to-Use Resources Webinar Series
DESCRIPTION:
URL:https://nbhap.org/event/ncsacw-ready-to-use-resources-webinar-series-4/
LOCATION:online
CATEGORIES:webinar or workshop
END:VEVENT
BEGIN:VEVENT
DTSTART;TZID=America/Los_Angeles:20260212T130000
DTEND;TZID=America/Los_Angeles:20260212T161500
DTSTAMP:20260419T090804
CREATED:20260120T030821Z
LAST-MODIFIED:20260120T030821Z
UID:4300002113-1770901200-1770912900@nbhap.org
SUMMARY:Trauma-Informed Stabilization Tools
DESCRIPTION:
URL:https://nbhap.org/event/trauma-informed-stabilization-tools/
LOCATION:online
CATEGORIES:webinar or workshop
END:VEVENT
BEGIN:VEVENT
DTSTART;VALUE=DATE:20260212
DTEND;VALUE=DATE:20260227
DTSTAMP:20260419T090804
CREATED:20251120T024604Z
LAST-MODIFIED:20251120T024604Z
UID:4300001961-1770854400-1772150399@nbhap.org
SUMMARY:CBT (Rational Living Therapy Level) 1.5 Certification
DESCRIPTION:
URL:https://nbhap.org/event/cbt-rational-living-therapy-level-1-5-certification/
LOCATION:online
CATEGORIES:webinar or workshop
END:VEVENT
BEGIN:VEVENT
DTSTART;VALUE=DATE:20260212
DTEND;VALUE=DATE:20260214
DTSTAMP:20260419T090804
CREATED:20251121T002129Z
LAST-MODIFIED:20251121T002129Z
UID:4300001992-1770854400-1771027199@nbhap.org
SUMMARY:Grief Therapist Certification Training
DESCRIPTION:
URL:https://nbhap.org/event/grief-therapist-certification-training-4/
LOCATION:online
CATEGORIES:webinar or workshop
END:VEVENT
BEGIN:VEVENT
DTSTART;TZID=America/Los_Angeles:20260211T130000
DTEND;TZID=America/Los_Angeles:20260211T161500
DTSTAMP:20260419T090804
CREATED:20251214T194409Z
LAST-MODIFIED:20251214T194409Z
UID:4300002051-1770814800-1770826500@nbhap.org
SUMMARY:Ethical Considerations with Sexually Marginalized Clients
DESCRIPTION:
URL:https://nbhap.org/event/ethical-considerations-with-sexually-marginalized-clients-2/
LOCATION:online
CATEGORIES:webinar or workshop
END:VEVENT
BEGIN:VEVENT
DTSTART;TZID=America/Los_Angeles:20260211T120000
DTEND;TZID=America/Los_Angeles:20260211T133000
DTSTAMP:20260419T090804
CREATED:20260120T021914Z
LAST-MODIFIED:20260120T021914Z
UID:4300002096-1770811200-1770816600@nbhap.org
SUMMARY:Navigating Ethical Boundaries: Decision Making for Peer Support Specialists and Addiction Counselors
DESCRIPTION:
URL:https://nbhap.org/event/navigating-ethical-boundaries-decision-making-for-peer-support-specialists-and-addiction-counselors/
LOCATION:online
CATEGORIES:webinar or workshop
END:VEVENT
BEGIN:VEVENT
DTSTART;TZID=America/Los_Angeles:20260211T110000
DTEND;TZID=America/Los_Angeles:20260211T141500
DTSTAMP:20260419T090804
CREATED:20260120T030718Z
LAST-MODIFIED:20260120T030718Z
UID:4300002112-1770807600-1770819300@nbhap.org
SUMMARY:Infant Massage 101
DESCRIPTION:
URL:https://nbhap.org/event/infant-massage-101/
LOCATION:online
CATEGORIES:webinar or workshop
END:VEVENT
BEGIN:VEVENT
DTSTART;TZID=America/Los_Angeles:20260211T090000
DTEND;TZID=America/Los_Angeles:20260211T170000
DTSTAMP:20260419T090804
CREATED:20260120T040717Z
LAST-MODIFIED:20260120T040717Z
UID:4300002141-1770800400-1770829200@nbhap.org
SUMMARY:Mental Health First Aid Training
DESCRIPTION:
URL:https://nbhap.org/event/mental-health-first-aid-training-021126/
LOCATION:Charlotte\, NC\, Charlotte\, North Carolina
CATEGORIES:webinar or workshop
END:VEVENT
BEGIN:VEVENT
DTSTART;VALUE=DATE:20260211
DTEND;VALUE=DATE:20260213
DTSTAMP:20260419T090804
CREATED:20260201T034655Z
LAST-MODIFIED:20260201T034655Z
UID:4300002174-1770768000-1770940799@nbhap.org
SUMMARY:Matrix Recovery Program for Justice-Involved Populations
DESCRIPTION:
URL:https://nbhap.org/event/matrix-recovery-program-for-justice-involved-populations/
LOCATION:online
CATEGORIES:webinar or workshop
END:VEVENT
BEGIN:VEVENT
DTSTART;TZID=America/Los_Angeles:20260210T190000
DTEND;TZID=America/Los_Angeles:20260210T203000
DTSTAMP:20260419T090804
CREATED:20260201T041720Z
LAST-MODIFIED:20260201T041720Z
UID:4300002189-1770750000-1770755400@nbhap.org
SUMMARY:Topical Analgesics for Neuropathic Pain
DESCRIPTION:
URL:https://nbhap.org/event/topical-analgesics-for-neuropathic-pain/
LOCATION:online
CATEGORIES:webinar or workshop
END:VEVENT
BEGIN:VEVENT
DTSTART;TZID=America/Los_Angeles:20260210T140000
DTEND;TZID=America/Los_Angeles:20260210T150000
DTSTAMP:20260419T090804
CREATED:20260120T041626Z
LAST-MODIFIED:20260120T041626Z
UID:4300002145-1770732000-1770735600@nbhap.org
SUMMARY:Is the Legacy ABA Model Broken? Innovating Care Delivery for a Cost-Conscious Future
DESCRIPTION:
URL:https://nbhap.org/event/is-the-legacy-aba-model-broken-innovating-care-delivery-for-a-cost-conscious-future/
LOCATION:online
CATEGORIES:webinar or workshop
END:VEVENT
BEGIN:VEVENT
DTSTART;TZID=America/Los_Angeles:20260210T140000
DTEND;TZID=America/Los_Angeles:20260210T150000
DTSTAMP:20260419T090804
CREATED:20251224T214908Z
LAST-MODIFIED:20251224T214908Z
UID:4300002080-1770732000-1770735600@nbhap.org
SUMMARY:[ORN] Community Health and Wellbeing Webinar: Youth Peers
DESCRIPTION:
URL:https://nbhap.org/event/orn-community-health-and-wellbeing-webinar-youth-peers/
LOCATION:online
CATEGORIES:webinar or workshop
END:VEVENT
BEGIN:VEVENT
DTSTART;TZID=America/Los_Angeles:20260210T130000
DTEND;TZID=America/Los_Angeles:20260210T140000
DTSTAMP:20260419T090804
CREATED:20260201T043353Z
LAST-MODIFIED:20260201T043353Z
UID:4300002191-1770728400-1770732000@nbhap.org
SUMMARY:From Positive Community Norms to Personalized Feedback Interventions: Using Norms in Prevention with Young Adults``
DESCRIPTION:
URL:https://nbhap.org/event/from-positive-community-norms-to-personalized-feedback-interventions-using-norms-in-prevention-with-young-adults/
LOCATION:online
CATEGORIES:webinar or workshop
END:VEVENT
BEGIN:VEVENT
DTSTART;VALUE=DATE:20260209
DTEND;VALUE=DATE:20260211
DTSTAMP:20260419T090804
CREATED:20251217T233658Z
LAST-MODIFIED:20251217T233658Z
UID:4300002069-1770595200-1770767999@nbhap.org
SUMMARY:Kansas Suicide Prevention Trainer-the-Trainer Session: Counseling on Access to Lethal Means (CALM)
DESCRIPTION:
URL:https://nbhap.org/event/kansas-suicide-prevention-trainer-the-trainer-session-counseling-on-access-to-lethal-means-calm/
LOCATION:online
CATEGORIES:webinar or workshop
END:VEVENT
BEGIN:VEVENT
DTSTART;TZID=America/Los_Angeles:20260206T120000
DTEND;TZID=America/Los_Angeles:20260206T151500
DTSTAMP:20260419T090804
CREATED:20260120T030619Z
LAST-MODIFIED:20260120T030619Z
UID:4300002111-1770379200-1770390900@nbhap.org
SUMMARY:Adverse Childhood Experiences: The Lifelong Impact of Early Adversity and How to Buffer That Impact
DESCRIPTION:
URL:https://nbhap.org/event/adverse-childhood-experiences-the-lifelong-impact-of-early-adversity-and-how-to-buffer-that-impact/
LOCATION:online
CATEGORIES:webinar or workshop
END:VEVENT
BEGIN:VEVENT
DTSTART;TZID=America/Los_Angeles:20260206T100000
DTEND;TZID=America/Los_Angeles:20260206T120000
DTSTAMP:20260419T090804
CREATED:20260120T033722Z
LAST-MODIFIED:20260120T033722Z
UID:4300002134-1770372000-1770379200@nbhap.org
SUMMARY:Foundations of Multicultural Competence in Clinical Practice
DESCRIPTION:
URL:https://nbhap.org/event/foundations-of-multicultural-competence-in-clinical-practice/
LOCATION:online
CATEGORIES:webinar or workshop
END:VEVENT
BEGIN:VEVENT
DTSTART;VALUE=DATE:20260206
DTEND;VALUE=DATE:20260210
DTSTAMP:20260419T090804
CREATED:20260120T015741Z
LAST-MODIFIED:20260120T015741Z
UID:4300002090-1770336000-1770681599@nbhap.org
SUMMARY:The CCIT Training Summit
DESCRIPTION:
URL:https://nbhap.org/event/the-ccit-training-summit/
LOCATION:online
CATEGORIES:webinar or workshop
END:VEVENT
BEGIN:VEVENT
DTSTART;TZID=America/Los_Angeles:20260205T140000
DTEND;TZID=America/Los_Angeles:20260205T160000
DTSTAMP:20260419T090804
CREATED:20251121T002055Z
LAST-MODIFIED:20251121T002055Z
UID:4300001991-1770300000-1770307200@nbhap.org
SUMMARY:Dark Minds Unmasked: Antisocial Personalities & Psychopathy
DESCRIPTION:
URL:https://nbhap.org/event/dark-minds-unmasked-antisocial-personalities-psychopathy/
LOCATION:online
CATEGORIES:webinar or workshop
END:VEVENT
BEGIN:VEVENT
DTSTART;TZID=America/Los_Angeles:20260205T140000
DTEND;TZID=America/Los_Angeles:20260205T150000
DTSTAMP:20260419T090804
CREATED:20251224T214828Z
LAST-MODIFIED:20251224T214828Z
UID:4300002079-1770300000-1770303600@nbhap.org
SUMMARY:[ORN] Community Health and Wellbeing Webinar: Pregnant and Parenting
DESCRIPTION:
URL:https://nbhap.org/event/orn-community-health-and-wellbeing-webinar-pregnant-and-parenting/
LOCATION:online
CATEGORIES:webinar or workshop
END:VEVENT
BEGIN:VEVENT
DTSTART;TZID=America/Los_Angeles:20260205T130000
DTEND;TZID=America/Los_Angeles:20260205T140000
DTSTAMP:20260419T090804
CREATED:20260201T030633Z
LAST-MODIFIED:20260201T030633Z
UID:4300002168-1770296400-1770300000@nbhap.org
SUMMARY:Findings from CHCF’s Regional Market Report on San Joaquin Valley
DESCRIPTION:
URL:https://nbhap.org/event/findings-from-chcfs-regional-market-report-on-san-joaquin-valley/
LOCATION:online
CATEGORIES:webinar or workshop
END:VEVENT
BEGIN:VEVENT
DTSTART;TZID=America/Los_Angeles:20260205T120000
DTEND;TZID=America/Los_Angeles:20260205T151500
DTSTAMP:20260419T090804
CREATED:20260120T030528Z
LAST-MODIFIED:20260120T030528Z
UID:4300002110-1770292800-1770304500@nbhap.org
SUMMARY:Supervising for Sustainability
DESCRIPTION:
URL:https://nbhap.org/event/supervising-for-sustainability/
LOCATION:online
CATEGORIES:webinar or workshop
END:VEVENT
BEGIN:VEVENT
DTSTART;TZID=America/Los_Angeles:20260205T120000
DTEND;TZID=America/Los_Angeles:20260205T130000
DTSTAMP:20260419T090804
CREATED:20251217T232844Z
LAST-MODIFIED:20251217T232844Z
UID:4300002066-1770292800-1770296400@nbhap.org
SUMMARY:The ADHD Brain in Women: A Regulation & Sensory Processing Framework
DESCRIPTION:
URL:https://nbhap.org/event/the-adhd-brain-in-women-a-regulation-sensory-processing-framework/
LOCATION:online
CATEGORIES:webinar or workshop
END:VEVENT
BEGIN:VEVENT
DTSTART;TZID=America/Los_Angeles:20260205T110000
DTEND;TZID=America/Los_Angeles:20260205T120000
DTSTAMP:20260419T090804
CREATED:20260201T042643Z
LAST-MODIFIED:20260201T042643Z
UID:4300002190-1770289200-1770292800@nbhap.org
SUMMARY:Teen Fentanyl Use Prevention
DESCRIPTION:
URL:https://nbhap.org/event/teen-fentanyl-use-prevention/
LOCATION:online
CATEGORIES:webinar or workshop
END:VEVENT
BEGIN:VEVENT
DTSTART;TZID=America/Los_Angeles:20260205T100000
DTEND;TZID=America/Los_Angeles:20260205T120000
DTSTAMP:20260419T090804
CREATED:20251121T001941Z
LAST-MODIFIED:20251121T001941Z
UID:4300001990-1770285600-1770292800@nbhap.org
SUMMARY:Ethics Of Boundaries: Protecting the Professional Relationship
DESCRIPTION:
URL:https://nbhap.org/event/ethics-of-boundaries-protecting-the-professional-relationship/
LOCATION:online
CATEGORIES:webinar or workshop
END:VEVENT
BEGIN:VEVENT
DTSTART;TZID=America/Los_Angeles:20260205T090000
DTEND;TZID=America/Los_Angeles:20260205T170000
DTSTAMP:20260419T090804
CREATED:20260120T040626Z
LAST-MODIFIED:20260120T040626Z
UID:4300002140-1770282000-1770310800@nbhap.org
SUMMARY:Mental Health First Aid Training
DESCRIPTION:
URL:https://nbhap.org/event/mental-health-first-aid-training-020526/
LOCATION:online
CATEGORIES:webinar or workshop
END:VEVENT
BEGIN:VEVENT
DTSTART;TZID=America/Los_Angeles:20260204T190000
DTEND;TZID=America/Los_Angeles:20260204T210000
DTSTAMP:20260419T090804
CREATED:20260120T030421Z
LAST-MODIFIED:20260120T030421Z
UID:4300002109-1770231600-1770238800@nbhap.org
SUMMARY:Myofascial Release: Essential Techniques for Soft Tissue Mobilization to Alleviating Pain and Restoring Motion
DESCRIPTION:
URL:https://nbhap.org/event/myofascial-release-essential-techniques-for-soft-tissue-mobilization-to-alleviating-pain-and-restoring-motion/
LOCATION:online
CATEGORIES:webinar or workshop
END:VEVENT
END:VCALENDAR