BEGIN:VCALENDAR
VERSION:2.0
PRODID:-//National Behavioral Health Association of Providers (NBHAP) - ECPv6.15.20//NONSGML v1.0//EN
CALSCALE:GREGORIAN
METHOD:PUBLISH
X-WR-CALNAME:National Behavioral Health Association of Providers (NBHAP)
X-ORIGINAL-URL:https://nbhap.org
X-WR-CALDESC:Events for National Behavioral Health Association of Providers (NBHAP)
REFRESH-INTERVAL;VALUE=DURATION:PT1H
X-Robots-Tag:noindex
X-PUBLISHED-TTL:PT1H
BEGIN:VTIMEZONE
TZID:America/Los_Angeles
BEGIN:DAYLIGHT
TZOFFSETFROM:-0800
TZOFFSETTO:-0700
TZNAME:PDT
DTSTART:20240310T100000
END:DAYLIGHT
BEGIN:STANDARD
TZOFFSETFROM:-0700
TZOFFSETTO:-0800
TZNAME:PST
DTSTART:20241103T090000
END:STANDARD
BEGIN:DAYLIGHT
TZOFFSETFROM:-0800
TZOFFSETTO:-0700
TZNAME:PDT
DTSTART:20250309T100000
END:DAYLIGHT
BEGIN:STANDARD
TZOFFSETFROM:-0700
TZOFFSETTO:-0800
TZNAME:PST
DTSTART:20251102T090000
END:STANDARD
BEGIN:DAYLIGHT
TZOFFSETFROM:-0800
TZOFFSETTO:-0700
TZNAME:PDT
DTSTART:20260308T100000
END:DAYLIGHT
BEGIN:STANDARD
TZOFFSETFROM:-0700
TZOFFSETTO:-0800
TZNAME:PST
DTSTART:20261101T090000
END:STANDARD
END:VTIMEZONE
BEGIN:VEVENT
DTSTART;TZID=America/Los_Angeles:20251121T090000
DTEND;TZID=America/Los_Angeles:20251121T161500
DTSTAMP:20260420T085311
CREATED:20251120T024316Z
LAST-MODIFIED:20251120T024316Z
UID:4300001960-1763715600-1763741700@nbhap.org
SUMMARY:Models of Supervision
DESCRIPTION:
URL:https://nbhap.org/event/models-of-supervision/
LOCATION:online
CATEGORIES:webinar or workshop
END:VEVENT
BEGIN:VEVENT
DTSTART;TZID=America/Los_Angeles:20251121T083000
DTEND;TZID=America/Los_Angeles:20251121T170000
DTSTAMP:20260420T085311
CREATED:20250502T030255Z
LAST-MODIFIED:20250906T030716Z
UID:4300001474-1763713800-1763744400@nbhap.org
SUMMARY:Adult Mental Health First Aid
DESCRIPTION:
URL:https://nbhap.org/event/adult-mental-health-first-aid-112125/
LOCATION:Manchester\, NH\, Manchester\, NH\, United States
CATEGORIES:webinar or workshop
END:VEVENT
BEGIN:VEVENT
DTSTART;TZID=America/Los_Angeles:20251120T180000
DTEND;TZID=America/Los_Angeles:20251120T190000
DTSTAMP:20260420T085311
CREATED:20251120T031809Z
LAST-MODIFIED:20251120T031809Z
UID:4300001966-1763661600-1763665200@nbhap.org
SUMMARY:Supporting Your Queer & Trans Loved Ones During the Holidays
DESCRIPTION:
URL:https://nbhap.org/event/supporting-your-queer-trans-loved-ones-during-the-holidays/
LOCATION:online
CATEGORIES:webinar or workshop
END:VEVENT
BEGIN:VEVENT
DTSTART;TZID=America/Los_Angeles:20251120T120000
DTEND;TZID=America/Los_Angeles:20251120T133000
DTSTAMP:20260420T085311
CREATED:20251120T023701Z
LAST-MODIFIED:20251120T023701Z
UID:4300001958-1763640000-1763645400@nbhap.org
SUMMARY:Empowering Addiction Service Providers: Best Practices for HIV\, HCV\, and HBV Screening\, Prevention\, and Linkage to Care
DESCRIPTION:
URL:https://nbhap.org/event/empowering-addiction-service-providers-best-practices-for-hiv-hcv-and-hbv-screening-prevention-and-linkage-to-care/
LOCATION:online
CATEGORIES:webinar or workshop
END:VEVENT
BEGIN:VEVENT
DTSTART;TZID=America/Los_Angeles:20251119T130000
DTEND;TZID=America/Los_Angeles:20251119T161500
DTSTAMP:20260420T085311
CREATED:20251017T214536Z
LAST-MODIFIED:20251017T214536Z
UID:4300001914-1763557200-1763568900@nbhap.org
SUMMARY:Applying Positive Psychology to Clinical Practice: From Surviving to Thriving
DESCRIPTION:
URL:https://nbhap.org/event/applying-positive-psychology-to-clinical-practice-from-surviving-to-thriving/
LOCATION:online
CATEGORIES:webinar or workshop
END:VEVENT
BEGIN:VEVENT
DTSTART;TZID=America/Los_Angeles:20251119T130000
DTEND;TZID=America/Los_Angeles:20251119T140000
DTSTAMP:20260420T085311
CREATED:20250906T051632Z
LAST-MODIFIED:20250906T051632Z
UID:4300001784-1763557200-1763560800@nbhap.org
SUMMARY:M2M Meeting: Outcomes in Practice: FoRSE Site-Specific Reports
DESCRIPTION:
URL:https://nbhap.org/event/m2m-meeting-outcomes-in-practice-forse-site-specific-reports/
LOCATION:online
CATEGORIES:webinar or workshop
END:VEVENT
BEGIN:VEVENT
DTSTART;TZID=America/Los_Angeles:20251118T100000
DTEND;TZID=America/Los_Angeles:20251118T131500
DTSTAMP:20260420T085311
CREATED:20251017T220240Z
LAST-MODIFIED:20251017T220240Z
UID:4300001936-1763460000-1763471700@nbhap.org
SUMMARY:Subpoenas & Testimony: What Therapist Need To Know
DESCRIPTION:
URL:https://nbhap.org/event/subpoenas-testimony-what-therapist-need-to-know/
LOCATION:online
CATEGORIES:webinar or workshop
END:VEVENT
BEGIN:VEVENT
DTSTART;TZID=America/Los_Angeles:20251118T100000
DTEND;TZID=America/Los_Angeles:20251118T110000
DTSTAMP:20260420T085311
CREATED:20250806T192819Z
LAST-MODIFIED:20250918T222951Z
UID:4300001644-1763460000-1763463600@nbhap.org
SUMMARY:Project Blackbird: How to Support and Recognize Eating Disorder Behaviors
DESCRIPTION:In this presentation by PROJECT BLACKBIRD Inc.\, attendees will gain direct insight into our innovative program through a guided experience and facilitated discussion.
URL:https://nbhap.org/event/project-blackbird-how-to-support-and-recognize-eating-disorder-behaviors/
LOCATION:online
CATEGORIES:NBHAP event,webinar or workshop
ATTACH;FMTTYPE=image/png:https://nbhap.org/wp-content/uploads/2025-1118-Project-Blackbird-WordPress.png
ORGANIZER;CN="NBHAP (National Behavioral Health Association of Providers)":MAILTO:info@nbhap.org
END:VEVENT
BEGIN:VEVENT
DTSTART;TZID=America/Los_Angeles:20251117T090000
DTEND;TZID=America/Los_Angeles:20251117T163000
DTSTAMP:20260420T085311
CREATED:20250502T030950Z
LAST-MODIFIED:20250906T030716Z
UID:4300001481-1763370000-1763397000@nbhap.org
SUMMARY:CBT: Cognitive Behavioral Therapy
DESCRIPTION:
URL:https://nbhap.org/event/cbt-cognitive-behavioral-therapy-111725/
LOCATION:Manchester\, NH\, Manchester\, NH\, United States
CATEGORIES:webinar or workshop
END:VEVENT
BEGIN:VEVENT
DTSTART;TZID=America/Los_Angeles:20251115T110000
DTEND;TZID=America/Los_Angeles:20251115T121500
DTSTAMP:20260420T085311
CREATED:20250907T195924Z
LAST-MODIFIED:20250907T195924Z
UID:4300001873-1763204400-1763208900@nbhap.org
SUMMARY:Understanding Religious Trauma to Support Clients’ Quest for Wholeness
DESCRIPTION:
URL:https://nbhap.org/event/understanding-religious-trauma-to-support-clients-quest-for-wholeness/
LOCATION:online
CATEGORIES:webinar or workshop
END:VEVENT
BEGIN:VEVENT
DTSTART;TZID=America/Los_Angeles:20251114T110000
DTEND;TZID=America/Los_Angeles:20251114T130000
DTSTAMP:20260420T085311
CREATED:20250907T195818Z
LAST-MODIFIED:20250907T195818Z
UID:4300001872-1763118000-1763125200@nbhap.org
SUMMARY:Mental Health and the Military: Cultural and Clinical Considerations for Treating Veterans with PTSD and Related Conditions
DESCRIPTION:
URL:https://nbhap.org/event/mental-health-and-the-military-cultural-and-clinical-considerations-for-treating-veterans-with-ptsd-and-related-conditions/
LOCATION:online
CATEGORIES:webinar or workshop
END:VEVENT
BEGIN:VEVENT
DTSTART;TZID=America/Los_Angeles:20251114T103000
DTEND;TZID=America/Los_Angeles:20251114T173000
DTSTAMP:20260420T085311
CREATED:20251017T214449Z
LAST-MODIFIED:20251017T214449Z
UID:4300001913-1763116200-1763141400@nbhap.org
SUMMARY:Understanding and Treating Rejection Sensitive Dysphoria Across ADHD and Autism
DESCRIPTION:
URL:https://nbhap.org/event/understanding-and-treating-rejection-sensitive-dysphoria-across-adhd-and-autism/
LOCATION:online
CATEGORIES:webinar or workshop
END:VEVENT
BEGIN:VEVENT
DTSTART;TZID=America/Los_Angeles:20251114T100000
DTEND;TZID=America/Los_Angeles:20251114T131500
DTSTAMP:20260420T085311
CREATED:20251017T220159Z
LAST-MODIFIED:20251017T220159Z
UID:4300001935-1763114400-1763126100@nbhap.org
SUMMARY:ADHD in The Therapy Room
DESCRIPTION:
URL:https://nbhap.org/event/adhd-in-the-therapy-room/
LOCATION:online
CATEGORIES:webinar or workshop
END:VEVENT
BEGIN:VEVENT
DTSTART;TZID=America/Los_Angeles:20251114T100000
DTEND;TZID=America/Los_Angeles:20251114T120000
DTSTAMP:20260420T085311
CREATED:20250502T031154Z
LAST-MODIFIED:20250906T030716Z
UID:4300001483-1763114400-1763121600@nbhap.org
SUMMARY:Cultivating Wellbeing in a Challenging World
DESCRIPTION:
URL:https://nbhap.org/event/cultivating-wellbeing-in-a-challenging-world-111425/
LOCATION:Manchester\, NH\, Manchester\, NH\, United States
CATEGORIES:webinar or workshop
END:VEVENT
BEGIN:VEVENT
DTSTART;VALUE=DATE:20251114
DTEND;VALUE=DATE:20251117
DTSTAMP:20260420T085311
CREATED:20250823T153630Z
LAST-MODIFIED:20250906T030716Z
UID:4300001665-1763078400-1763337599@nbhap.org
SUMMARY:Litigation and Evaluation involving Abuse Allegations in Family Court Cases (LEFCC)
DESCRIPTION:
URL:https://nbhap.org/event/litigation-and-evaluation-involving-abuse-allegations-in-family-court-cases-lefcc-111425/
LOCATION:Portland\, OR\, Portland\, Oregon
CATEGORIES:webinar or workshop
END:VEVENT
BEGIN:VEVENT
DTSTART;TZID=America/Los_Angeles:20251113T090000
DTEND;TZID=America/Los_Angeles:20251113T100000
DTSTAMP:20260420T085311
CREATED:20250627T205732Z
LAST-MODIFIED:20250627T205732Z
UID:4300001623-1763024400-1763028000@nbhap.org
SUMMARY:TRANQ 2025
DESCRIPTION:
URL:https://nbhap.org/event/tranq-2025/
LOCATION:online
CATEGORIES:webinar or workshop
END:VEVENT
BEGIN:VEVENT
DTSTART;TZID=America/Los_Angeles:20251112T130000
DTEND;TZID=America/Los_Angeles:20251112T140000
DTSTAMP:20260420T085311
CREATED:20250906T051514Z
LAST-MODIFIED:20250906T051514Z
UID:4300001783-1762952400-1762956000@nbhap.org
SUMMARY:Examining SUD Treatment Outcomes: The 3rd Set of Annual Reports from the FoRSE Program
DESCRIPTION:
URL:https://nbhap.org/event/examining-sud-treatment-outcomes-the-3rd-set-of-annual-reports-from-the-forse-program/
LOCATION:online
CATEGORIES:webinar or workshop
END:VEVENT
BEGIN:VEVENT
DTSTART;TZID=America/Los_Angeles:20251112T120000
DTEND;TZID=America/Los_Angeles:20251112T140000
DTSTAMP:20260420T085311
CREATED:20251017T220640Z
LAST-MODIFIED:20251017T220640Z
UID:4300001942-1762948800-1762956000@nbhap.org
SUMMARY:Treating Sexual and Pornography Addiction: A CBT Approach
DESCRIPTION:
URL:https://nbhap.org/event/treating-sexual-and-pornography-addiction-a-cbt-approach/
LOCATION:online
CATEGORIES:webinar or workshop
END:VEVENT
BEGIN:VEVENT
DTSTART;TZID=America/Los_Angeles:20251112T120000
DTEND;TZID=America/Los_Angeles:20251112T133000
DTSTAMP:20260420T085311
CREATED:20250201T233018Z
LAST-MODIFIED:20250502T014347Z
UID:4300001141-1762948800-1762954200@nbhap.org
SUMMARY:Transforming Addiction Through Attachment and Emotionally Focused Therapy (EFT)
DESCRIPTION:
URL:https://nbhap.org/event/transforming-addiction-through-attachment-and-emotionally-focused-therapy-eft/
LOCATION:online
CATEGORIES:webinar or workshop
END:VEVENT
BEGIN:VEVENT
DTSTART;TZID=America/Los_Angeles:20251112T100000
DTEND;TZID=America/Los_Angeles:20251112T173000
DTSTAMP:20260420T085311
CREATED:20250419T041457Z
LAST-MODIFIED:20250906T030716Z
UID:4300001380-1762941600-1762968600@nbhap.org
SUMMARY:Adult Treatment Provider Training
DESCRIPTION:
URL:https://nbhap.org/event/adult-treatment-provider-training-111225/
LOCATION:online
CATEGORIES:webinar or workshop
END:VEVENT
BEGIN:VEVENT
DTSTART;TZID=America/Los_Angeles:20251112T100000
DTEND;TZID=America/Los_Angeles:20251112T131500
DTSTAMP:20260420T085311
CREATED:20251017T220117Z
LAST-MODIFIED:20251017T220117Z
UID:4300001934-1762941600-1762953300@nbhap.org
SUMMARY:Helping Veteran Families Cope With PTSD and Narcissistic Abuse
DESCRIPTION:
URL:https://nbhap.org/event/helping-veteran-families-cope-with-ptsd-and-narcissistic-abuse-3/
LOCATION:online
CATEGORIES:webinar or workshop
END:VEVENT
BEGIN:VEVENT
DTSTART;TZID=America/Los_Angeles:20251112T100000
DTEND;TZID=America/Los_Angeles:20251112T113000
DTSTAMP:20260420T085311
CREATED:20250905T165905Z
LAST-MODIFIED:20250905T165905Z
UID:4300001670-1762941600-1762947000@nbhap.org
SUMMARY:No No No… Don’t: From Legal and Ethical Confidentiality to Therapist and Client Issues that Tempt Errors
DESCRIPTION:Confidentiality in a therapeutic relationship can be fraught with pitfalls. Legal and ethical boundaries and violations are difficult to parse. In this CE-based webinar brought to you by Verifyle\, Ronald Mah will cover confidentiality requirements\, identifies underlying principles\, AND therapist vulnerabilities\, client seductions\, and other dynamics that can cause errors that risk legal or ethical sanctions and client harm.
URL:https://nbhap.org/event/no-no-no-dont-from-legal-and-ethical-confidentiality-to-therapist-and-client-issues-that-tempt-errors/
LOCATION:online
CATEGORIES:NBHAP event,webinar or workshop
ATTACH;FMTTYPE=image/png:https://nbhap.org/wp-content/uploads/webinar-No-No-No-Dont-event.png
ORGANIZER;CN="NBHAP (National Behavioral Health Association of Providers)":MAILTO:info@nbhap.org
END:VEVENT
BEGIN:VEVENT
DTSTART;TZID=America/Los_Angeles:20251112T090000
DTEND;TZID=America/Los_Angeles:20251112T100000
DTSTAMP:20260420T085311
CREATED:20250907T023148Z
LAST-MODIFIED:20250907T023148Z
UID:4300001837-1762938000-1762941600@nbhap.org
SUMMARY:Silent Wounds: Eating Disorders in the Military and Veteran Communities
DESCRIPTION:
URL:https://nbhap.org/event/silent-wounds-eating-disorders-in-the-military-and-veteran-communities/
LOCATION:online
CATEGORIES:webinar or workshop
END:VEVENT
BEGIN:VEVENT
DTSTART;TZID=America/Los_Angeles:20251110T083000
DTEND;TZID=America/Los_Angeles:20251110T130000
DTSTAMP:20260420T085311
CREATED:20250502T031245Z
LAST-MODIFIED:20250906T030716Z
UID:4300001484-1762763400-1762779600@nbhap.org
SUMMARY:DBT for Adolescents
DESCRIPTION:
URL:https://nbhap.org/event/dbt-for-adolescents/
LOCATION:Manchester\, NH\, Manchester\, NH\, United States
CATEGORIES:webinar or workshop
END:VEVENT
BEGIN:VEVENT
DTSTART;TZID=America/Los_Angeles:20251107T130000
DTEND;TZID=America/Los_Angeles:20251107T153000
DTSTAMP:20260420T085311
CREATED:20250502T033620Z
LAST-MODIFIED:20250906T030716Z
UID:4300001510-1762520400-1762529400@nbhap.org
SUMMARY:Understanding Military Culture
DESCRIPTION:
URL:https://nbhap.org/event/understanding-military-culture/
LOCATION:online
CATEGORIES:webinar or workshop
END:VEVENT
BEGIN:VEVENT
DTSTART;TZID=America/Los_Angeles:20251107T110000
DTEND;TZID=America/Los_Angeles:20251107T141500
DTSTAMP:20260420T085311
CREATED:20250907T195722Z
LAST-MODIFIED:20250907T195722Z
UID:4300001871-1762513200-1762524900@nbhap.org
SUMMARY:Empowering Practice With Youth: Effectively Supporting Young People
DESCRIPTION:
URL:https://nbhap.org/event/empowering-practice-with-youth-effectively-supporting-young-people/
LOCATION:online
CATEGORIES:webinar or workshop
END:VEVENT
BEGIN:VEVENT
DTSTART;TZID=America/Los_Angeles:20251107T100000
DTEND;TZID=America/Los_Angeles:20251107T131500
DTSTAMP:20260420T085311
CREATED:20251017T214301Z
LAST-MODIFIED:20251017T214301Z
UID:4300001912-1762509600-1762521300@nbhap.org
SUMMARY:Transgender and Gender Diverse (TGD) Adults: Guidelines and Updates
DESCRIPTION:
URL:https://nbhap.org/event/transgender-and-gender-diverse-tgd-adults-guidelines-and-updates/
LOCATION:online
CATEGORIES:webinar or workshop
END:VEVENT
BEGIN:VEVENT
DTSTART;TZID=America/Los_Angeles:20251106T120000
DTEND;TZID=America/Los_Angeles:20251106T130000
DTSTAMP:20260420T085311
CREATED:20250918T190954Z
LAST-MODIFIED:20250918T190954Z
UID:4300001888-1762430400-1762434000@nbhap.org
SUMMARY:Holiday Stress and Seasonal Anxiety: A Winter Wellness Primer
DESCRIPTION:
URL:https://nbhap.org/event/holiday-stress-and-seasonal-anxiety-a-winter-wellness-primer/
LOCATION:online
CATEGORIES:webinar or workshop
END:VEVENT
BEGIN:VEVENT
DTSTART;TZID=America/Los_Angeles:20251106T090000
DTEND;TZID=America/Los_Angeles:20251106T120000
DTSTAMP:20260420T085311
CREATED:20250907T023044Z
LAST-MODIFIED:20250907T023044Z
UID:4300001836-1762419600-1762430400@nbhap.org
SUMMARY:How Dangerous is this Person... this Client?
DESCRIPTION:
URL:https://nbhap.org/event/how-dangerous-is-this-person-this-client/
LOCATION:online
CATEGORIES:webinar or workshop
END:VEVENT
BEGIN:VEVENT
DTSTART;VALUE=DATE:20251106
DTEND;VALUE=DATE:20251121
DTSTAMP:20260420T085311
CREATED:20250907T195600Z
LAST-MODIFIED:20250907T195600Z
UID:4300001870-1762387200-1763683199@nbhap.org
SUMMARY:Supervising with Integrity: A Series on Navigating Ethics in Clinical Supervision
DESCRIPTION:
URL:https://nbhap.org/event/supervising-with-integrity-a-series-on-navigating-ethics-in-clinical-supervision/
LOCATION:online
CATEGORIES:webinar or workshop
END:VEVENT
END:VCALENDAR