BEGIN:VCALENDAR
VERSION:2.0
PRODID:-//National Behavioral Health Association of Providers (NBHAP) - ECPv6.15.20//NONSGML v1.0//EN
CALSCALE:GREGORIAN
METHOD:PUBLISH
X-ORIGINAL-URL:https://nbhap.org
X-WR-CALDESC:Events for National Behavioral Health Association of Providers (NBHAP)
REFRESH-INTERVAL;VALUE=DURATION:PT1H
X-Robots-Tag:noindex
X-PUBLISHED-TTL:PT1H
BEGIN:VTIMEZONE
TZID:America/Los_Angeles
BEGIN:DAYLIGHT
TZOFFSETFROM:-0800
TZOFFSETTO:-0700
TZNAME:PDT
DTSTART:20240310T100000
END:DAYLIGHT
BEGIN:STANDARD
TZOFFSETFROM:-0700
TZOFFSETTO:-0800
TZNAME:PST
DTSTART:20241103T090000
END:STANDARD
BEGIN:DAYLIGHT
TZOFFSETFROM:-0800
TZOFFSETTO:-0700
TZNAME:PDT
DTSTART:20250309T100000
END:DAYLIGHT
BEGIN:STANDARD
TZOFFSETFROM:-0700
TZOFFSETTO:-0800
TZNAME:PST
DTSTART:20251102T090000
END:STANDARD
BEGIN:DAYLIGHT
TZOFFSETFROM:-0800
TZOFFSETTO:-0700
TZNAME:PDT
DTSTART:20260308T100000
END:DAYLIGHT
BEGIN:STANDARD
TZOFFSETFROM:-0700
TZOFFSETTO:-0800
TZNAME:PST
DTSTART:20261101T090000
END:STANDARD
END:VTIMEZONE
BEGIN:VEVENT
DTSTART;TZID=America/Los_Angeles:20251030T120000
DTEND;TZID=America/Los_Angeles:20251030T130000
DTSTAMP:20260420T150157
CREATED:20250918T190837Z
LAST-MODIFIED:20250918T190837Z
UID:4300001887-1761825600-1761829200@nbhap.org
SUMMARY:Family Systems\, Parental Anxiety\, and Clinical Practice: Tools for Supporting Families in Crisis
DESCRIPTION:
URL:https://nbhap.org/event/family-systems-parental-anxiety-and-clinical-practice-tools-for-supporting-families-in-crisis/
LOCATION:online
CATEGORIES:webinar or workshop
END:VEVENT
BEGIN:VEVENT
DTSTART;TZID=America/Los_Angeles:20251030T120000
DTEND;TZID=America/Los_Angeles:20251030T130000
DTSTAMP:20260420T150157
CREATED:20250906T035952Z
LAST-MODIFIED:20250906T035952Z
UID:4300001761-1761825600-1761829200@nbhap.org
SUMMARY:Interoceptive Exposures for Sensory-Based Anxieties: A Detailed Guide for Implementation
DESCRIPTION:
URL:https://nbhap.org/event/interoceptive-exposures-for-sensory-based-anxieties-a-detailed-guide-for-implementation/
LOCATION:online
CATEGORIES:webinar or workshop
END:VEVENT
BEGIN:VEVENT
DTSTART;TZID=America/Los_Angeles:20251030T110000
DTEND;TZID=America/Los_Angeles:20251030T141500
DTSTAMP:20260420T150157
CREATED:20250907T195304Z
LAST-MODIFIED:20250907T195304Z
UID:4300001868-1761822000-1761833700@nbhap.org
SUMMARY:Now We See You: Understanding Adolescent Depression
DESCRIPTION:
URL:https://nbhap.org/event/now-we-see-you-understanding-adolescent-depression/
LOCATION:online
CATEGORIES:webinar or workshop
END:VEVENT
BEGIN:VEVENT
DTSTART;TZID=America/Los_Angeles:20251030T090000
DTEND;TZID=America/Los_Angeles:20251030T100000
DTSTAMP:20260420T150157
CREATED:20250907T022828Z
LAST-MODIFIED:20250907T022828Z
UID:4300001834-1761814800-1761818400@nbhap.org
SUMMARY:Equitable and Affirming End-of-Life Care for LGBTQIA+ Individuals
DESCRIPTION:
URL:https://nbhap.org/event/equitable-and-affirming-end-of-life-care-for-lgbtqia-individuals/
LOCATION:online
CATEGORIES:webinar or workshop
END:VEVENT
BEGIN:VEVENT
DTSTART;TZID=America/Los_Angeles:20251029T140000
DTEND;TZID=America/Los_Angeles:20251029T150000
DTSTAMP:20260420T150157
CREATED:20251017T214112Z
LAST-MODIFIED:20251017T214112Z
UID:4300001911-1761746400-1761750000@nbhap.org
SUMMARY:A Peek Behind the Curtain: How We Actually Value Health Care Service Companies
DESCRIPTION:
URL:https://nbhap.org/event/a-peek-behind-the-curtain-how-we-actually-value-health-care-service-companies/
LOCATION:online
CATEGORIES:webinar or workshop
END:VEVENT
BEGIN:VEVENT
DTSTART;TZID=America/Los_Angeles:20251029T130000
DTEND;TZID=America/Los_Angeles:20251029T140000
DTSTAMP:20260420T150157
CREATED:20250906T051359Z
LAST-MODIFIED:20250906T051359Z
UID:4300001782-1761742800-1761746400@nbhap.org
SUMMARY:Protecting Integrity in Addiction Treatment: Marketing\, Ethics\, and NAATP Tools for Accountability
DESCRIPTION:
URL:https://nbhap.org/event/protecting-integrity-in-addiction-treatment-marketing-ethics-and-naatp-tools-for-accountability/
LOCATION:online
CATEGORIES:webinar or workshop
END:VEVENT
BEGIN:VEVENT
DTSTART;TZID=America/Los_Angeles:20251029T120000
DTEND;TZID=America/Los_Angeles:20251029T133000
DTSTAMP:20260420T150157
CREATED:20250201T232921Z
LAST-MODIFIED:20250502T014250Z
UID:4300001139-1761739200-1761744600@nbhap.org
SUMMARY:Befriend Your Brain\, Heal Your Behavioral Addiction
DESCRIPTION:
URL:https://nbhap.org/event/befriend-your-brain-heal-your-behavioral-addiction/
LOCATION:online
CATEGORIES:webinar or workshop
END:VEVENT
BEGIN:VEVENT
DTSTART;TZID=America/Los_Angeles:20251029T120000
DTEND;TZID=America/Los_Angeles:20251029T130000
DTSTAMP:20260420T150157
CREATED:20250906T045555Z
LAST-MODIFIED:20250906T045555Z
UID:4300001777-1761739200-1761742800@nbhap.org
SUMMARY:Treatment Interfering Behaviors Part 1: Concepts
DESCRIPTION:
URL:https://nbhap.org/event/treatment-interfering-behaviors-part-1-concepts-2/
LOCATION:online
CATEGORIES:webinar or workshop
END:VEVENT
BEGIN:VEVENT
DTSTART;TZID=America/Los_Angeles:20251029T090000
DTEND;TZID=America/Los_Angeles:20251029T100000
DTSTAMP:20260420T150157
CREATED:20250205T213909Z
LAST-MODIFIED:20250823T160702Z
UID:4300001202-1761728400-1761732000@nbhap.org
SUMMARY:Behavioral Health Care and Human Services Accreditation Webinar Series: Human Resources Managment (HRM)
DESCRIPTION:
URL:https://nbhap.org/event/behavioral-health-care-and-human-services-accreditation-webinar-series-human-resources-managment-hrm/
LOCATION:online
CATEGORIES:webinar or workshop
END:VEVENT
BEGIN:VEVENT
DTSTART;TZID=America/Los_Angeles:20251028T110000
DTEND;TZID=America/Los_Angeles:20251028T120000
DTSTAMP:20260420T150157
CREATED:20251017T214705Z
LAST-MODIFIED:20251017T214705Z
UID:4300001916-1761649200-1761652800@nbhap.org
SUMMARY:Eating Disorders\, Resilience\, and Hope: What Clinicians Need to Know from the Other Side of the Couch
DESCRIPTION:
URL:https://nbhap.org/event/eating-disorders-resilience-and-hope-what-clinicians-need-to-know-from-the-other-side-of-the-couch/
LOCATION:online
CATEGORIES:webinar or workshop
END:VEVENT
BEGIN:VEVENT
DTSTART;TZID=America/Los_Angeles:20251028T090000
DTEND;TZID=America/Los_Angeles:20251028T121500
DTSTAMP:20260420T150157
CREATED:20251017T220038Z
LAST-MODIFIED:20251017T220038Z
UID:4300001933-1761642000-1761653700@nbhap.org
SUMMARY:What I Couldn't Tell My Therapist
DESCRIPTION:
URL:https://nbhap.org/event/what-i-couldnt-tell-my-therapist/
LOCATION:online
CATEGORIES:webinar or workshop
END:VEVENT
BEGIN:VEVENT
DTSTART;TZID=America/Los_Angeles:20251025T110000
DTEND;TZID=America/Los_Angeles:20251025T141500
DTSTAMP:20260420T150157
CREATED:20250907T195144Z
LAST-MODIFIED:20250907T195144Z
UID:4300001867-1761390000-1761401700@nbhap.org
SUMMARY:Somatic Healing in Nature: Transforming Trauma and Living into Aliveness
DESCRIPTION:
URL:https://nbhap.org/event/somatic-healing-in-nature-transforming-trauma-and-living-into-aliveness/
LOCATION:online
CATEGORIES:webinar or workshop
END:VEVENT
BEGIN:VEVENT
DTSTART;TZID=America/Los_Angeles:20251025T100000
DTEND;TZID=America/Los_Angeles:20251025T160000
DTSTAMP:20260420T150157
CREATED:20251017T214749Z
LAST-MODIFIED:20251017T214749Z
UID:4300001917-1761386400-1761408000@nbhap.org
SUMMARY:Emotional Sobriety and Acceptance
DESCRIPTION:
URL:https://nbhap.org/event/emotional-sobriety-and-acceptance/
LOCATION:online
CATEGORIES:webinar or workshop
END:VEVENT
BEGIN:VEVENT
DTSTART;TZID=America/Los_Angeles:20251024T113000
DTEND;TZID=America/Los_Angeles:20251024T144500
DTSTAMP:20260420T150157
CREATED:20250906T035857Z
LAST-MODIFIED:20250906T035857Z
UID:4300001760-1761305400-1761317100@nbhap.org
SUMMARY:Acceptance & Commitment Therapy (ACT) for Chronic Illnesses
DESCRIPTION:
URL:https://nbhap.org/event/acceptance-commitment-therapy-act-for-chronic-illnesses/
LOCATION:online
CATEGORIES:webinar or workshop
END:VEVENT
BEGIN:VEVENT
DTSTART;TZID=America/Los_Angeles:20251024T100000
DTEND;TZID=America/Los_Angeles:20251024T170000
DTSTAMP:20260420T150157
CREATED:20250907T195012Z
LAST-MODIFIED:20250907T195012Z
UID:4300001866-1761300000-1761325200@nbhap.org
SUMMARY:Too Much Stuff: Diagnosis & Treatment of Hoarding Disorder
DESCRIPTION:
URL:https://nbhap.org/event/too-much-stuff-diagnosis-treatment-of-hoarding-disorder/
LOCATION:online
CATEGORIES:webinar or workshop
END:VEVENT
BEGIN:VEVENT
DTSTART;TZID=America/Los_Angeles:20251024T090000
DTEND;TZID=America/Los_Angeles:20251024T150000
DTSTAMP:20260420T150157
CREATED:20250918T191429Z
LAST-MODIFIED:20250918T191429Z
UID:4300001894-1761296400-1761318000@nbhap.org
SUMMARY:Integrating Medications into Addiction Treatment
DESCRIPTION:
URL:https://nbhap.org/event/integrating-medications-into-addiction-treatment/
LOCATION:Los Angeles\, CA\, Los Angeles\, California
CATEGORIES:webinar or workshop
END:VEVENT
BEGIN:VEVENT
DTSTART;TZID=America/Los_Angeles:20251023T090000
DTEND;TZID=America/Los_Angeles:20251023T100000
DTSTAMP:20260420T150157
CREATED:20250918T191914Z
LAST-MODIFIED:20250918T191914Z
UID:4300001897-1761210000-1761213600@nbhap.org
SUMMARY:Harmonizing the Mind: Using Sound and Creative Expression to Support Regulation in Therapy
DESCRIPTION:
URL:https://nbhap.org/event/harmonizing-the-mind-using-sound-and-creative-expression-to-support-regulation-in-therapy/
LOCATION:online
CATEGORIES:webinar or workshop
END:VEVENT
BEGIN:VEVENT
DTSTART;TZID=America/Los_Angeles:20251022T120000
DTEND;TZID=America/Los_Angeles:20251022T130000
DTSTAMP:20260420T150157
CREATED:20250918T192026Z
LAST-MODIFIED:20250918T192026Z
UID:4300001899-1761134400-1761138000@nbhap.org
SUMMARY:The Soul of Couples Therapy: Helping Couples Make Love\, Not War
DESCRIPTION:
URL:https://nbhap.org/event/the-soul-of-couples-therapy-helping-couples-make-love-not-war/
LOCATION:online
CATEGORIES:webinar or workshop
END:VEVENT
BEGIN:VEVENT
DTSTART;TZID=America/Los_Angeles:20251022T090000
DTEND;TZID=America/Los_Angeles:20251022T103000
DTSTAMP:20260420T150157
CREATED:20250907T021649Z
LAST-MODIFIED:20250907T021649Z
UID:4300001831-1761123600-1761129000@nbhap.org
SUMMARY:The Danger of Misdiagnosis: Utilizing Neuropsychological Assessment to Improve Treatment Plans Through Careful Diagnoses
DESCRIPTION:
URL:https://nbhap.org/event/the-danger-of-misdiagnosis-utilizing-neuropsychological-assessment-to-improve-treatment-plans-through-careful-diagnoses/
LOCATION:online
CATEGORIES:webinar or workshop
END:VEVENT
BEGIN:VEVENT
DTSTART;TZID=America/Los_Angeles:20251022T090000
DTEND;TZID=America/Los_Angeles:20251022T100000
DTSTAMP:20260420T150157
CREATED:20250205T213940Z
LAST-MODIFIED:20250823T160606Z
UID:4300001204-1761123600-1761127200@nbhap.org
SUMMARY:Behavioral Health Care and Human Services Accreditation Webinar Series: Care\, Treatment\, and Services (CTS)
DESCRIPTION:
URL:https://nbhap.org/event/behavioral-health-care-and-human-services-accreditation-webinar-series-care-treatment-and-services-cts/
LOCATION:online
CATEGORIES:webinar or workshop
END:VEVENT
BEGIN:VEVENT
DTSTART;TZID=America/Los_Angeles:20251020T090000
DTEND;TZID=America/Los_Angeles:20251020T100000
DTSTAMP:20260420T150157
CREATED:20250907T022528Z
LAST-MODIFIED:20250907T022528Z
UID:4300001832-1760950800-1760954400@nbhap.org
SUMMARY:Embracing the Unknown: Leading and Healing in the Midst of Uncertainty
DESCRIPTION:
URL:https://nbhap.org/event/embracing-the-unknown-leading-and-healing-in-the-midst-of-uncertainty/
LOCATION:online
CATEGORIES:webinar or workshop
END:VEVENT
BEGIN:VEVENT
DTSTART;TZID=America/Los_Angeles:20251018T110000
DTEND;TZID=America/Los_Angeles:20251018T141500
DTSTAMP:20260420T150157
CREATED:20250907T194809Z
LAST-MODIFIED:20250907T194809Z
UID:4300001865-1760785200-1760796900@nbhap.org
SUMMARY:Regulate\, Release\, Reconnect: A Somatic Approach to Client Transformation
DESCRIPTION:
URL:https://nbhap.org/event/regulate-release-reconnect-a-somatic-approach-to-client-transformation/
LOCATION:online
CATEGORIES:webinar or workshop
END:VEVENT
BEGIN:VEVENT
DTSTART;TZID=America/Los_Angeles:20251017T130000
DTEND;TZID=America/Los_Angeles:20251017T160000
DTSTAMP:20260420T150157
CREATED:20250906T035801Z
LAST-MODIFIED:20250906T035801Z
UID:4300001759-1760706000-1760716800@nbhap.org
SUMMARY:Ketamine Assisted Psychotherapy: How Therapists are Using Ketamine to Transform Care
DESCRIPTION:
URL:https://nbhap.org/event/ketamine-assisted-psychotherapy-how-therapists-are-using-ketamine-to-transform-care/
LOCATION:online
CATEGORIES:webinar or workshop
END:VEVENT
BEGIN:VEVENT
DTSTART;TZID=America/Los_Angeles:20251017T110000
DTEND;TZID=America/Los_Angeles:20251017T141500
DTSTAMP:20260420T150157
CREATED:20250907T194704Z
LAST-MODIFIED:20250907T194704Z
UID:4300001864-1760698800-1760710500@nbhap.org
SUMMARY:Unpacking and Healing Loneliness
DESCRIPTION:
URL:https://nbhap.org/event/unpacking-and-healing-loneliness/
LOCATION:online
CATEGORIES:webinar or workshop
END:VEVENT
BEGIN:VEVENT
DTSTART;TZID=America/Los_Angeles:20251017T090000
DTEND;TZID=America/Los_Angeles:20251017T103000
DTSTAMP:20260420T150157
CREATED:20250918T190246Z
LAST-MODIFIED:20250918T190246Z
UID:4300001883-1760691600-1760697000@nbhap.org
SUMMARY:Emerging Adulthood: Presentation and Treatment of Mental Health and Substance Use Disorders in Young Adults
DESCRIPTION:
URL:https://nbhap.org/event/emerging-adulthood-presentation-and-treatment-of-mental-health-and-substance-use-disorders-in-young-adults/
LOCATION:online
CATEGORIES:webinar or workshop
END:VEVENT
BEGIN:VEVENT
DTSTART;VALUE=DATE:20251017
DTEND;VALUE=DATE:20251122
DTSTAMP:20260420T150157
CREATED:20250918T190211Z
LAST-MODIFIED:20250918T190211Z
UID:4300001882-1760659200-1763769599@nbhap.org
SUMMARY:NMC Key Concepts: Basics
DESCRIPTION:
URL:https://nbhap.org/event/nmc-key-concepts-basics/
LOCATION:online
CATEGORIES:webinar or workshop
END:VEVENT
BEGIN:VEVENT
DTSTART;TZID=America/Los_Angeles:20251016T180000
DTEND;TZID=America/Los_Angeles:20251016T200000
DTSTAMP:20260420T150157
CREATED:20250907T194548Z
LAST-MODIFIED:20250907T194548Z
UID:4300001863-1760637600-1760644800@nbhap.org
SUMMARY:“I Have Become…Profoundly Numb!” - Local Anesthetics\, Vasoconstrictors and Clinical Dental Considerations
DESCRIPTION:
URL:https://nbhap.org/event/i-have-becomeprofoundly-numb-local-anesthetics-vasoconstrictors-and-clinical-dental-considerations/
LOCATION:online
CATEGORIES:webinar or workshop
END:VEVENT
BEGIN:VEVENT
DTSTART;TZID=America/Los_Angeles:20251016T120000
DTEND;TZID=America/Los_Angeles:20251016T130000
DTSTAMP:20260420T150157
CREATED:20250906T035655Z
LAST-MODIFIED:20250906T035655Z
UID:4300001758-1760616000-1760619600@nbhap.org
SUMMARY:Digging Deeper into the Yale-Brown Obsessive-Compulsive Scale (YBOCS)
DESCRIPTION:
URL:https://nbhap.org/event/digging-deeper-into-the-yale-brown-obsessive-compulsive-scale-ybocs/
LOCATION:online
CATEGORIES:webinar or workshop
END:VEVENT
BEGIN:VEVENT
DTSTART;TZID=America/Los_Angeles:20251015T140000
DTEND;TZID=America/Los_Angeles:20251015T150000
DTSTAMP:20260420T150157
CREATED:20250918T191351Z
LAST-MODIFIED:20250918T191351Z
UID:4300001893-1760536800-1760540400@nbhap.org
SUMMARY:Scaling Behavioral Health: Strategies for Sustainable Growth
DESCRIPTION:
URL:https://nbhap.org/event/scaling-behavioral-health-strategies-for-sustainable-growth/
LOCATION:online
CATEGORIES:webinar or workshop
END:VEVENT
BEGIN:VEVENT
DTSTART;TZID=America/Los_Angeles:20251015T130000
DTEND;TZID=America/Los_Angeles:20251015T143000
DTSTAMP:20260420T150157
CREATED:20250906T051257Z
LAST-MODIFIED:20250906T051257Z
UID:4300001781-1760533200-1760538600@nbhap.org
SUMMARY:Legacy of Strength and Scars: Trauma\, and Family Narratives in Women’s Leadership
DESCRIPTION:
URL:https://nbhap.org/event/legacy-of-strength-and-scars-trauma-and-family-narratives-in-womens-leadership/
LOCATION:online
CATEGORIES:webinar or workshop
END:VEVENT
END:VCALENDAR