BEGIN:VCALENDAR
VERSION:2.0
PRODID:-//National Behavioral Health Association of Providers (NBHAP) - ECPv6.15.20//NONSGML v1.0//EN
CALSCALE:GREGORIAN
METHOD:PUBLISH
X-ORIGINAL-URL:https://nbhap.org
X-WR-CALDESC:Events for National Behavioral Health Association of Providers (NBHAP)
REFRESH-INTERVAL;VALUE=DURATION:PT1H
X-Robots-Tag:noindex
X-PUBLISHED-TTL:PT1H
BEGIN:VTIMEZONE
TZID:America/Los_Angeles
BEGIN:DAYLIGHT
TZOFFSETFROM:-0800
TZOFFSETTO:-0700
TZNAME:PDT
DTSTART:20240310T100000
END:DAYLIGHT
BEGIN:STANDARD
TZOFFSETFROM:-0700
TZOFFSETTO:-0800
TZNAME:PST
DTSTART:20241103T090000
END:STANDARD
BEGIN:DAYLIGHT
TZOFFSETFROM:-0800
TZOFFSETTO:-0700
TZNAME:PDT
DTSTART:20250309T100000
END:DAYLIGHT
BEGIN:STANDARD
TZOFFSETFROM:-0700
TZOFFSETTO:-0800
TZNAME:PST
DTSTART:20251102T090000
END:STANDARD
BEGIN:DAYLIGHT
TZOFFSETFROM:-0800
TZOFFSETTO:-0700
TZNAME:PDT
DTSTART:20260308T100000
END:DAYLIGHT
BEGIN:STANDARD
TZOFFSETFROM:-0700
TZOFFSETTO:-0800
TZNAME:PST
DTSTART:20261101T090000
END:STANDARD
END:VTIMEZONE
BEGIN:VEVENT
DTSTART;TZID=America/Los_Angeles:20251015T130000
DTEND;TZID=America/Los_Angeles:20251015T140000
DTSTAMP:20260420T192205
CREATED:20251002T223848Z
LAST-MODIFIED:20251002T223848Z
UID:4300001907-1760533200-1760536800@nbhap.org
SUMMARY:The Power of Social Connection in the Criminal Justice System
DESCRIPTION:
URL:https://nbhap.org/event/the-power-of-social-connection-in-the-criminal-justice-system/
LOCATION:online
CATEGORIES:webinar or workshop
END:VEVENT
BEGIN:VEVENT
DTSTART;TZID=America/Los_Angeles:20251015T120000
DTEND;TZID=America/Los_Angeles:20251015T140000
DTSTAMP:20260420T192205
CREATED:20250924T213005Z
LAST-MODIFIED:20250924T213005Z
UID:4300001904-1760529600-1760536800@nbhap.org
SUMMARY:Helping Clients to Overcome Sexual Abuse and Assault: A CBT Approach
DESCRIPTION:
URL:https://nbhap.org/event/helping-clients-to-overcome-sexual-abuse-and-assault-a-cbt-approach/
LOCATION:online
CATEGORIES:webinar or workshop
END:VEVENT
BEGIN:VEVENT
DTSTART;TZID=America/Los_Angeles:20251015T120000
DTEND;TZID=America/Los_Angeles:20251015T130000
DTSTAMP:20260420T192205
CREATED:20250918T190726Z
LAST-MODIFIED:20250918T190726Z
UID:4300001886-1760529600-1760533200@nbhap.org
SUMMARY:Unpacking Anxiety: A Conversation with Our Alumni
DESCRIPTION:
URL:https://nbhap.org/event/unpacking-anxiety-a-conversation-with-our-alumni/
LOCATION:online
CATEGORIES:webinar or workshop
END:VEVENT
BEGIN:VEVENT
DTSTART;TZID=America/Los_Angeles:20251015T100000
DTEND;TZID=America/Los_Angeles:20251015T110000
DTSTAMP:20260420T192205
CREATED:20250909T191144Z
LAST-MODIFIED:20250909T191144Z
UID:4300001880-1760522400-1760526000@nbhap.org
SUMMARY:Workplace Anti-Harassment and Discrimination Training – What You and Your Team Need to Know
DESCRIPTION:Harassment and discrimination in the workplace are receiving ever-growing attention in the media and public eye. In this CE-based webinar\, lawyers from Polsinelli will provide an overview of that minefield\, so that participants can begin to map out the safest and most compliant path forward for themselves\, their workforces\, and their companies.
URL:https://nbhap.org/event/workplace-anti-harassment-and-discrimination-training-what-you-and-your-team-need-to-know/
LOCATION:online
CATEGORIES:NBHAP event,webinar or workshop
ATTACH;FMTTYPE=image/png:https://nbhap.org/wp-content/uploads/Workplace-Anti-Harassment-and-Discrimination-Training-event.png
ORGANIZER;CN="NBHAP (National Behavioral Health Association of Providers)":MAILTO:info@nbhap.org
END:VEVENT
BEGIN:VEVENT
DTSTART;TZID=America/Los_Angeles:20251015T090000
DTEND;TZID=America/Los_Angeles:20251015T103000
DTSTAMP:20260420T192205
CREATED:20250907T021544Z
LAST-MODIFIED:20250907T021544Z
UID:4300001830-1760518800-1760524200@nbhap.org
SUMMARY:The Danger of Misdiagnosis: Utilizing Neuropsychological Assessment to Improve Treatment Plans Through Careful Diagnoses
DESCRIPTION:
URL:https://nbhap.org/event/the-danger-of-misdiagnosis-utilizing-neuropsychological-assessment-to-improve-treatment-plans-through-careful-diagnoses-101525/
LOCATION:online
CATEGORIES:webinar or workshop
END:VEVENT
BEGIN:VEVENT
DTSTART;TZID=America/Los_Angeles:20251015T090000
DTEND;TZID=America/Los_Angeles:20251015T100000
DTSTAMP:20260420T192205
CREATED:20250907T021442Z
LAST-MODIFIED:20250907T021442Z
UID:4300001829-1760518800-1760522400@nbhap.org
SUMMARY:High Hopes or Hard Truths? Psychedelics and Cannabis in Eating Disorder Treatment
DESCRIPTION:
URL:https://nbhap.org/event/high-hopes-or-hard-truths-psychedelics-and-cannabis-in-eating-disorder-treatment/
LOCATION:online
CATEGORIES:webinar or workshop
END:VEVENT
BEGIN:VEVENT
DTSTART;TZID=America/Los_Angeles:20251015T090000
DTEND;TZID=America/Los_Angeles:20251015T100000
DTSTAMP:20260420T192205
CREATED:20250205T214008Z
LAST-MODIFIED:20250823T160506Z
UID:4300001206-1760518800-1760522400@nbhap.org
SUMMARY:Behavioral Health Care and Human Services Accreditation Webinar Series: Safety Systems for Individuals Served (SSIS)
DESCRIPTION:
URL:https://nbhap.org/event/behavioral-health-care-and-human-services-accreditation-webinar-series-safety-systems-for-individuals-served-ssis/
LOCATION:online
CATEGORIES:webinar or workshop
END:VEVENT
BEGIN:VEVENT
DTSTART;TZID=America/Los_Angeles:20251014T143000
DTEND;TZID=America/Los_Angeles:20251014T153000
DTSTAMP:20260420T192205
CREATED:20250907T021331Z
LAST-MODIFIED:20250907T021331Z
UID:4300001828-1760452200-1760455800@nbhap.org
SUMMARY:Moving Clients from Rigidity to Flexibility: “Perfecting” the Art of Being Open
DESCRIPTION:
URL:https://nbhap.org/event/moving-clients-from-rigidity-to-flexibility-perfecting-the-art-of-being-open/
LOCATION:online
CATEGORIES:webinar or workshop
END:VEVENT
BEGIN:VEVENT
DTSTART;TZID=America/Los_Angeles:20251014T110000
DTEND;TZID=America/Los_Angeles:20251014T120000
DTSTAMP:20260420T192205
CREATED:20251002T223639Z
LAST-MODIFIED:20251002T223639Z
UID:4300001906-1760439600-1760443200@nbhap.org
SUMMARY:Payor Behavior Update: Optum and ASAM 4th Edition & Ambetter Claims Cadence Changes
DESCRIPTION:
URL:https://nbhap.org/event/payor-behavior-update-optum-and-asam-4th-edition-ambetter-claims-cadence-changes/
LOCATION:online
CATEGORIES:webinar or workshop
END:VEVENT
BEGIN:VEVENT
DTSTART;TZID=America/Los_Angeles:20251010T161500
DTEND;TZID=America/Los_Angeles:20251010T170000
DTSTAMP:20260420T192205
CREATED:20250906T035537Z
LAST-MODIFIED:20250906T035537Z
UID:4300001757-1760112900-1760115600@nbhap.org
SUMMARY:Thoughts\, Images\, Urges\, and Mental Compulsions: Case Presentations
DESCRIPTION:
URL:https://nbhap.org/event/thoughts-images-urges-and-mental-compulsions-case-presentations/
LOCATION:online
CATEGORIES:webinar or workshop
END:VEVENT
BEGIN:VEVENT
DTSTART;TZID=America/Los_Angeles:20251010T130000
DTEND;TZID=America/Los_Angeles:20251010T143000
DTSTAMP:20260420T192205
CREATED:20250502T031600Z
LAST-MODIFIED:20250502T031600Z
UID:4300001488-1760101200-1760106600@nbhap.org
SUMMARY:Defusing High Intensity Situations
DESCRIPTION:
URL:https://nbhap.org/event/defusing-high-intensity-situations/
LOCATION:online
CATEGORIES:webinar or workshop
END:VEVENT
BEGIN:VEVENT
DTSTART;TZID=America/Los_Angeles:20251010T090000
DTEND;TZID=America/Los_Angeles:20251010T100000
DTSTAMP:20260420T192205
CREATED:20250907T013143Z
LAST-MODIFIED:20250907T013143Z
UID:4300001803-1760086800-1760090400@nbhap.org
SUMMARY:Good Intentions\, Bad Outcomes: Why Veterans and First Responders Drop Out of Care with Otherwise-Skilled Providers
DESCRIPTION:
URL:https://nbhap.org/event/good-intentions-bad-outcomes-why-veterans-and-first-responders-drop-out-of-care-with-otherwise-skilled-providers/
LOCATION:online
CATEGORIES:webinar or workshop
END:VEVENT
BEGIN:VEVENT
DTSTART;TZID=America/Los_Angeles:20251010T083000
DTEND;TZID=America/Los_Angeles:20251010T150000
DTSTAMP:20260420T192205
CREATED:20250907T021207Z
LAST-MODIFIED:20250907T021236Z
UID:4300001827-1760085000-1760108400@nbhap.org
SUMMARY:ConnectED Virtual Learning Day
DESCRIPTION:
URL:https://nbhap.org/event/connected-virtual-learning-day-101025/
LOCATION:online
CATEGORIES:webinar or workshop
END:VEVENT
BEGIN:VEVENT
DTSTART;TZID=America/Los_Angeles:20251010T083000
DTEND;TZID=America/Los_Angeles:20251010T150000
DTSTAMP:20260420T192205
CREATED:20250907T011747Z
LAST-MODIFIED:20250907T011747Z
UID:4300001791-1760085000-1760108400@nbhap.org
SUMMARY:ConnectED Virtual Learning Day
DESCRIPTION:
URL:https://nbhap.org/event/connected-virtual-learning-day/
LOCATION:online
CATEGORIES:webinar or workshop
END:VEVENT
BEGIN:VEVENT
DTSTART;TZID=America/Los_Angeles:20251009T120000
DTEND;TZID=America/Los_Angeles:20251009T130000
DTSTAMP:20260420T192205
CREATED:20250924T212708Z
LAST-MODIFIED:20250924T212708Z
UID:4300001903-1760011200-1760014800@nbhap.org
SUMMARY:Policy\, Payment & Partnerships: Autism Investor Summit East Preview
DESCRIPTION:
URL:https://nbhap.org/event/policy-payment-partnerships-autism-investor-summit-east-preview/
LOCATION:online
CATEGORIES:webinar or workshop
END:VEVENT
BEGIN:VEVENT
DTSTART;TZID=America/Los_Angeles:20251009T093000
DTEND;TZID=America/Los_Angeles:20251009T110000
DTSTAMP:20260420T192205
CREATED:20250907T021102Z
LAST-MODIFIED:20250907T021102Z
UID:4300001826-1760002200-1760007600@nbhap.org
SUMMARY:The Role of Nutrition in Substance Use Disorder Treatment and Recovery for Women
DESCRIPTION:
URL:https://nbhap.org/event/the-role-of-nutrition-in-substance-use-disorder-treatment-and-recovery-for-women/
LOCATION:online
CATEGORIES:webinar or workshop
END:VEVENT
BEGIN:VEVENT
DTSTART;TZID=America/Los_Angeles:20251008T123000
DTEND;TZID=America/Los_Angeles:20251008T133000
DTSTAMP:20260420T192205
CREATED:20250907T020906Z
LAST-MODIFIED:20250907T020906Z
UID:4300001825-1759926600-1759930200@nbhap.org
SUMMARY:Substance Use Disorders and Involuntary Treatment
DESCRIPTION:
URL:https://nbhap.org/event/substance-use-disorders-and-involuntary-treatment/
LOCATION:online
CATEGORIES:webinar or workshop
END:VEVENT
BEGIN:VEVENT
DTSTART;TZID=America/Los_Angeles:20251008T120000
DTEND;TZID=America/Los_Angeles:20251008T130000
DTSTAMP:20260420T192205
CREATED:20250906T045507Z
LAST-MODIFIED:20250906T045507Z
UID:4300001776-1759924800-1759928400@nbhap.org
SUMMARY:Radically Open Dialectical Behavior Therapy (RO-DBT)
DESCRIPTION:
URL:https://nbhap.org/event/radically-open-dialectical-behavior-therapy-ro-dbt/
LOCATION:online
CATEGORIES:webinar or workshop
END:VEVENT
BEGIN:VEVENT
DTSTART;TZID=America/Los_Angeles:20251008T100000
DTEND;TZID=America/Los_Angeles:20251008T110000
DTSTAMP:20260420T192205
CREATED:20250907T020745Z
LAST-MODIFIED:20250907T020745Z
UID:4300001824-1759917600-1759921200@nbhap.org
SUMMARY:Eating Disorder Basics & Co-Occurring Disorders
DESCRIPTION:
URL:https://nbhap.org/event/eating-disorder-basics-co-occurring-disorders/
LOCATION:online
CATEGORIES:webinar or workshop
END:VEVENT
BEGIN:VEVENT
DTSTART;TZID=America/Los_Angeles:20251008T100000
DTEND;TZID=America/Los_Angeles:20251008T110000
DTSTAMP:20260420T192205
CREATED:20250821T193315Z
LAST-MODIFIED:20250918T223024Z
UID:4300001655-1759917600-1759921200@nbhap.org
SUMMARY:Advocacy Update – Into the Great Unknown (Continued!)
DESCRIPTION:This webinar will walk you through the current state of play and bring you up to the minute news on policy developments that impact behavioral health.
URL:https://nbhap.org/event/advocacy-update-into-the-great-unknown-continued/
LOCATION:online
CATEGORIES:NBHAP event,webinar or workshop
ATTACH;FMTTYPE=image/png:https://nbhap.org/wp-content/uploads/webinar-Advocacy-Update-Into-the-Great-Unknown-Continued.png
ORGANIZER;CN="NBHAP (National Behavioral Health Association of Providers)":MAILTO:info@nbhap.org
END:VEVENT
BEGIN:VEVENT
DTSTART;TZID=America/Los_Angeles:20251008T090000
DTEND;TZID=America/Los_Angeles:20251008T100000
DTSTAMP:20260420T192205
CREATED:20250205T213716Z
LAST-MODIFIED:20250823T160411Z
UID:4300001198-1759914000-1759917600@nbhap.org
SUMMARY:Behavioral Health Care and Human Services Accreditation Webinar Series: Medication Management (MM)
DESCRIPTION:
URL:https://nbhap.org/event/behavioral-health-care-and-human-services-accreditation-webinar-series-medication-management-mm/
LOCATION:online
CATEGORIES:webinar or workshop
END:VEVENT
BEGIN:VEVENT
DTSTART;TZID=America/Los_Angeles:20251007T150000
DTEND;TZID=America/Los_Angeles:20251007T160000
DTSTAMP:20260420T192205
CREATED:20251002T223409Z
LAST-MODIFIED:20251002T223409Z
UID:4300001905-1759849200-1759852800@nbhap.org
SUMMARY:Step Into My Office: Fostering Mental Health Support for Athletes
DESCRIPTION:
URL:https://nbhap.org/event/step-into-my-office-fostering-mental-health-support-for-athletes/
LOCATION:online
CATEGORIES:webinar or workshop
END:VEVENT
BEGIN:VEVENT
DTSTART;TZID=America/Los_Angeles:20251007T120000
DTEND;TZID=America/Los_Angeles:20251007T130000
DTSTAMP:20260420T192205
CREATED:20251003T231549Z
LAST-MODIFIED:20251003T231549Z
UID:4300001908-1759838400-1759842000@nbhap.org
SUMMARY:Navigating Mental Health: An Intergenerational Perspective
DESCRIPTION:
URL:https://nbhap.org/event/navigating-mental-health-an-intergenerational-perspective/
LOCATION:online
CATEGORIES:webinar or workshop
END:VEVENT
BEGIN:VEVENT
DTSTART;TZID=America/Los_Angeles:20251007T110000
DTEND;TZID=America/Los_Angeles:20251007T153000
DTSTAMP:20260420T192205
CREATED:20250907T013054Z
LAST-MODIFIED:20250907T013054Z
UID:4300001802-1759834800-1759851000@nbhap.org
SUMMARY:Growing Up with Addiction: Childhood Wounds & Recovery
DESCRIPTION:
URL:https://nbhap.org/event/growing-up-with-addiction-childhood-wounds-recovery/
LOCATION:online
CATEGORIES:webinar or workshop
END:VEVENT
BEGIN:VEVENT
DTSTART;TZID=America/Los_Angeles:20251007T093000
DTEND;TZID=America/Los_Angeles:20251007T104500
DTSTAMP:20260420T192205
CREATED:20250907T020548Z
LAST-MODIFIED:20250907T020548Z
UID:4300001823-1759829400-1759833900@nbhap.org
SUMMARY:The Diagnosis is Capitalism: A Case of Mass Disillusionment
DESCRIPTION:
URL:https://nbhap.org/event/the-diagnosis-is-capitalism-a-case-of-mass-disillusionment/
LOCATION:online
CATEGORIES:webinar or workshop
END:VEVENT
BEGIN:VEVENT
DTSTART;VALUE=DATE:20251006
DTEND;VALUE=DATE:20251010
DTSTAMP:20260420T192205
CREATED:20250906T042347Z
LAST-MODIFIED:20250906T042347Z
UID:4300001770-1759708800-1760054399@nbhap.org
SUMMARY:National Coalition Academy
DESCRIPTION:Week 1: October 6-9\nWeek 2: December 8-11\nWeek 3: February 9-12
URL:https://nbhap.org/event/national-coalition-academy/
LOCATION:online
CATEGORIES:webinar or workshop
END:VEVENT
BEGIN:VEVENT
DTSTART;TZID=America/Los_Angeles:20251004T110000
DTEND;TZID=America/Los_Angeles:20251004T141500
DTSTAMP:20260420T192205
CREATED:20250907T194406Z
LAST-MODIFIED:20250907T194406Z
UID:4300001862-1759575600-1759587300@nbhap.org
SUMMARY:Addressing Social Isolation: Identifying High-Risk Individuals and Effective Interventions for Mental Health Professionals
DESCRIPTION:
URL:https://nbhap.org/event/addressing-social-isolation-identifying-high-risk-individuals-and-effective-interventions-for-mental-health-professionals/
LOCATION:online
CATEGORIES:webinar or workshop
END:VEVENT
BEGIN:VEVENT
DTSTART;TZID=America/Los_Angeles:20251003T110000
DTEND;TZID=America/Los_Angeles:20251003T170000
DTSTAMP:20260420T192205
CREATED:20250906T034211Z
LAST-MODIFIED:20250906T034211Z
UID:4300001756-1759489200-1759510800@nbhap.org
SUMMARY:Stuck in the Story: How to Use Narrative Therapy to Help Our Clients Get Unstuck
DESCRIPTION:
URL:https://nbhap.org/event/stuck-in-the-story-how-to-use-narrative-therapy-to-help-our-clients-get-unstuck/
LOCATION:online
CATEGORIES:webinar or workshop
END:VEVENT
BEGIN:VEVENT
DTSTART;TZID=America/Los_Angeles:20251003T110000
DTEND;TZID=America/Los_Angeles:20251003T141500
DTSTAMP:20260420T192205
CREATED:20250907T194258Z
LAST-MODIFIED:20250907T194258Z
UID:4300001861-1759489200-1759500900@nbhap.org
SUMMARY:Implicit Bias Training: Increasing Understanding towards Reducing Barriers and Disparities in Access to and Delivery of Physical and Mental Health Care Services
DESCRIPTION:
URL:https://nbhap.org/event/implicit-bias-training-increasing-understanding-towards-reducing-barriers-and-disparities-in-access-to-and-delivery-of-physical-and-mental-health-care-services/
LOCATION:online
CATEGORIES:webinar or workshop
END:VEVENT
BEGIN:VEVENT
DTSTART;TZID=America/Los_Angeles:20251003T090000
DTEND;TZID=America/Los_Angeles:20251003T101500
DTSTAMP:20260420T192205
CREATED:20250907T020453Z
LAST-MODIFIED:20250907T020453Z
UID:4300001822-1759482000-1759486500@nbhap.org
SUMMARY:Body Image Distress Among Head and Neck Cancer Survivors: Emerging Evidence-Based Treatment Approaches for a Common but Understudied Survivorship Concern
DESCRIPTION:
URL:https://nbhap.org/event/body-image-distress-among-head-and-neck-cancer-survivors-emerging-evidence-based-treatment-approaches-for-a-common-but-understudied-survivorship-concern/
LOCATION:online
CATEGORIES:webinar or workshop
END:VEVENT
END:VCALENDAR