BEGIN:VCALENDAR
VERSION:2.0
PRODID:-//National Behavioral Health Association of Providers (NBHAP) - ECPv6.15.20//NONSGML v1.0//EN
CALSCALE:GREGORIAN
METHOD:PUBLISH
X-WR-CALNAME:National Behavioral Health Association of Providers (NBHAP)
X-ORIGINAL-URL:https://nbhap.org
X-WR-CALDESC:Events for National Behavioral Health Association of Providers (NBHAP)
REFRESH-INTERVAL;VALUE=DURATION:PT1H
X-Robots-Tag:noindex
X-PUBLISHED-TTL:PT1H
BEGIN:VTIMEZONE
TZID:America/Los_Angeles
BEGIN:DAYLIGHT
TZOFFSETFROM:-0800
TZOFFSETTO:-0700
TZNAME:PDT
DTSTART:20250309T100000
END:DAYLIGHT
BEGIN:STANDARD
TZOFFSETFROM:-0700
TZOFFSETTO:-0800
TZNAME:PST
DTSTART:20251102T090000
END:STANDARD
BEGIN:DAYLIGHT
TZOFFSETFROM:-0800
TZOFFSETTO:-0700
TZNAME:PDT
DTSTART:20260308T100000
END:DAYLIGHT
BEGIN:STANDARD
TZOFFSETFROM:-0700
TZOFFSETTO:-0800
TZNAME:PST
DTSTART:20261101T090000
END:STANDARD
BEGIN:DAYLIGHT
TZOFFSETFROM:-0800
TZOFFSETTO:-0700
TZNAME:PDT
DTSTART:20270314T100000
END:DAYLIGHT
BEGIN:STANDARD
TZOFFSETFROM:-0700
TZOFFSETTO:-0800
TZNAME:PST
DTSTART:20271107T090000
END:STANDARD
END:VTIMEZONE
BEGIN:VEVENT
DTSTART;TZID=America/Los_Angeles:20260430T090000
DTEND;TZID=America/Los_Angeles:20260430T160000
DTSTAMP:20260420T051225
CREATED:20260401T033827Z
LAST-MODIFIED:20260401T033827Z
UID:4300002304-1777539600-1777564800@nbhap.org
SUMMARY:Mental Health First Aid Training
DESCRIPTION:
URL:https://nbhap.org/event/mental-health-first-aid-training-5/
LOCATION:Charlotte\, NC\, Charlotte\, North Carolina
CATEGORIES:webinar or workshop
END:VEVENT
BEGIN:VEVENT
DTSTART;TZID=America/Los_Angeles:20260430T110000
DTEND;TZID=America/Los_Angeles:20260430T141500
DTSTAMP:20260420T051225
CREATED:20260418T013003Z
LAST-MODIFIED:20260418T013003Z
UID:4300002398-1777546800-1777558500@nbhap.org
SUMMARY:DBT Solutions for Family Gatherings
DESCRIPTION:
URL:https://nbhap.org/event/dbt-solutions-for-family-gatherings/
LOCATION:online
CATEGORIES:webinar or workshop
END:VEVENT
BEGIN:VEVENT
DTSTART;TZID=America/Los_Angeles:20260501T110000
DTEND;TZID=America/Los_Angeles:20260501T170000
DTSTAMP:20260420T051225
CREATED:20260325T190248Z
LAST-MODIFIED:20260325T190248Z
UID:4300002253-1777633200-1777654800@nbhap.org
SUMMARY:“It doesn’t have to be this hard.” Working with High Conflict Families – An Update
DESCRIPTION:
URL:https://nbhap.org/event/it-doesnt-have-to-be-this-hard-working-with-high-conflict-families-an-update/
LOCATION:online
CATEGORIES:webinar or workshop
END:VEVENT
BEGIN:VEVENT
DTSTART;VALUE=DATE:20260504
DTEND;VALUE=DATE:20260506
DTSTAMP:20260420T051225
CREATED:20260418T014407Z
LAST-MODIFIED:20260418T014407Z
UID:4300002402-1777852800-1778025599@nbhap.org
SUMMARY:PAX Good Behavior Game Training 2026
DESCRIPTION:
URL:https://nbhap.org/event/pax-good-behavior-game-training-2026/
LOCATION:online
CATEGORIES:webinar or workshop
END:VEVENT
BEGIN:VEVENT
DTSTART;TZID=America/Los_Angeles:20260505T100000
DTEND;TZID=America/Los_Angeles:20260505T120000
DTSTAMP:20260420T051225
CREATED:20260401T020756Z
LAST-MODIFIED:20260401T020756Z
UID:4300002286-1777975200-1777982400@nbhap.org
SUMMARY:Serving Those Who Serve: Clinical Implications of Military Families\, Spouses\, and Children
DESCRIPTION:
URL:https://nbhap.org/event/serving-those-who-serve-clinical-implications-of-military-families-spouses-and-children/
LOCATION:online
CATEGORIES:webinar or workshop
END:VEVENT
BEGIN:VEVENT
DTSTART;VALUE=DATE:20260506
DTEND;VALUE=DATE:20260508
DTSTAMP:20260420T051225
CREATED:20260418T014456Z
LAST-MODIFIED:20260418T014456Z
UID:4300002403-1778025600-1778198399@nbhap.org
SUMMARY:PAX Good Behavior Game-Early Childhood 2026
DESCRIPTION:
URL:https://nbhap.org/event/pax-good-behavior-game-early-childhood-2026/
LOCATION:online
CATEGORIES:webinar or workshop
END:VEVENT
BEGIN:VEVENT
DTSTART;TZID=America/Los_Angeles:20260506T110000
DTEND;TZID=America/Los_Angeles:20260506T123000
DTSTAMP:20260420T051225
CREATED:20260418T011624Z
LAST-MODIFIED:20260418T011624Z
UID:4300002390-1778065200-1778070600@nbhap.org
SUMMARY:Using Accreditation Standards to Sustain Trauma-Informed Care
DESCRIPTION:
URL:https://nbhap.org/event/using-accreditation-standards-to-sustain-trauma-informed-care/
LOCATION:online
CATEGORIES:webinar or workshop
END:VEVENT
BEGIN:VEVENT
DTSTART;TZID=America/Los_Angeles:20260506T110000
DTEND;TZID=America/Los_Angeles:20260506T130000
DTSTAMP:20260420T051225
CREATED:20260415T155936Z
LAST-MODIFIED:20260415T155936Z
UID:4300002381-1778065200-1778072400@nbhap.org
SUMMARY:May CO-PLA: Beyond the Binary: Gender Identity Competence in Behavioral Health
DESCRIPTION:
URL:https://nbhap.org/event/may-co-pla-beyond-the-binary-gender-identity-competence-in-behavioral-health/
LOCATION:Denver\, CO\, Denver\, Colorado
CATEGORIES:webinar or workshop
END:VEVENT
BEGIN:VEVENT
DTSTART;TZID=America/Los_Angeles:20260506T120000
DTEND;TZID=America/Los_Angeles:20260506T130000
DTSTAMP:20260420T051225
CREATED:20260325T190420Z
LAST-MODIFIED:20260325T190420Z
UID:4300002254-1778068800-1778072400@nbhap.org
SUMMARY:OCD and the LGBTQIA+ Community: When Symptoms Intersect with Stigma and Discrimination
DESCRIPTION:
URL:https://nbhap.org/event/ocd-and-the-lgbtqia-community-when-symptoms-intersect-with-stigma-and-discrimination/
LOCATION:online
CATEGORIES:webinar or workshop
END:VEVENT
BEGIN:VEVENT
DTSTART;TZID=America/Los_Angeles:20260506T120000
DTEND;TZID=America/Los_Angeles:20260506T130000
DTSTAMP:20260420T051225
CREATED:20260410T224914Z
LAST-MODIFIED:20260410T224914Z
UID:4300002350-1778068800-1778072400@nbhap.org
SUMMARY:Underinsured and Exposed? Liability Mistakes Costing Home-Based Care Providers
DESCRIPTION:
URL:https://nbhap.org/event/underinsured-and-exposed-liability-mistakes-costing-home-based-care-providers/
LOCATION:online
CATEGORIES:webinar or workshop
END:VEVENT
BEGIN:VEVENT
DTSTART;TZID=America/Los_Angeles:20260506T120000
DTEND;TZID=America/Los_Angeles:20260506T133000
DTSTAMP:20260420T051225
CREATED:20260408T044135Z
LAST-MODIFIED:20260408T044135Z
UID:4300002337-1778068800-1778074200@nbhap.org
SUMMARY:The New Vape Landscape: Dual Use and What to Know
DESCRIPTION:
URL:https://nbhap.org/event/the-new-vape-landscape-dual-use-and-what-to-know/
LOCATION:online
CATEGORIES:webinar or workshop
END:VEVENT
BEGIN:VEVENT
DTSTART;TZID=America/Los_Angeles:20260507T100000
DTEND;TZID=America/Los_Angeles:20260507T120000
DTSTAMP:20260420T051225
CREATED:20260410T233054Z
LAST-MODIFIED:20260410T233054Z
UID:4300002366-1778148000-1778155200@nbhap.org
SUMMARY:Digital Ethics: Keeping Confidentiality Click-Safe
DESCRIPTION:
URL:https://nbhap.org/event/digital-ethics-keeping-confidentiality-click-safe/
LOCATION:online
CATEGORIES:webinar or workshop
END:VEVENT
BEGIN:VEVENT
DTSTART;TZID=America/Los_Angeles:20260507T110000
DTEND;TZID=America/Los_Angeles:20260507T123000
DTSTAMP:20260420T051225
CREATED:20260418T011709Z
LAST-MODIFIED:20260418T011709Z
UID:4300002391-1778151600-1778157000@nbhap.org
SUMMARY:Skills That Stick: Elevating Youth Residential Care Through Targeted Workforce Development
DESCRIPTION:
URL:https://nbhap.org/event/skills-that-stick-elevating-youth-residential-care-through-targeted-workforce-development/
LOCATION:online
CATEGORIES:webinar or workshop
END:VEVENT
BEGIN:VEVENT
DTSTART;TZID=America/Los_Angeles:20260507T140000
DTEND;TZID=America/Los_Angeles:20260507T150000
DTSTAMP:20260420T051225
CREATED:20260408T040847Z
LAST-MODIFIED:20260408T040847Z
UID:4300002328-1778162400-1778166000@nbhap.org
SUMMARY:The Recruitment-to-Retention Roadmap for Growing ABA Organizations
DESCRIPTION:
URL:https://nbhap.org/event/the-recruitment-to-retention-roadmap-for-growing-aba-organizations/
LOCATION:online
CATEGORIES:webinar or workshop
END:VEVENT
BEGIN:VEVENT
DTSTART;VALUE=DATE:20260508
DTEND;VALUE=DATE:20260510
DTSTAMP:20260420T051225
CREATED:20260325T172218Z
LAST-MODIFIED:20260325T172218Z
UID:4300002239-1778198400-1778371199@nbhap.org
SUMMARY:Using Expressive Art Therapy Techniques to Combat Shame and Inappropriate Guilt & The Deeper Your Breath\, The Deeper Your Life
DESCRIPTION:
URL:https://nbhap.org/event/using-expressive-art-therapy-techniques-to-combat-shame-and-inappropriate-guilt-the-deeper-your-breath-the-deeper-your-life/
LOCATION:Atlanta\, GA\, Atlanta\, Georga
CATEGORIES:webinar or workshop
END:VEVENT
BEGIN:VEVENT
DTSTART;TZID=America/Los_Angeles:20260508T090000
DTEND;TZID=America/Los_Angeles:20260508T170000
DTSTAMP:20260420T051225
CREATED:20260401T033915Z
LAST-MODIFIED:20260401T033915Z
UID:4300002305-1778230800-1778259600@nbhap.org
SUMMARY:Mental Health First Aid Training
DESCRIPTION:
URL:https://nbhap.org/event/mental-health-first-aid-training-6/
LOCATION:online
CATEGORIES:webinar or workshop
END:VEVENT
BEGIN:VEVENT
DTSTART;TZID=America/Los_Angeles:20260508T100000
DTEND;TZID=America/Los_Angeles:20260508T120000
DTSTAMP:20260420T051225
CREATED:20260410T233141Z
LAST-MODIFIED:20260410T233141Z
UID:4300002367-1778234400-1778241600@nbhap.org
SUMMARY:Power\, Privilege\, and Systemic Oppression in Clinical Practice
DESCRIPTION:
URL:https://nbhap.org/event/power-privilege-and-systemic-oppression-in-clinical-practice/
LOCATION:online
CATEGORIES:webinar or workshop
END:VEVENT
BEGIN:VEVENT
DTSTART;TZID=America/Los_Angeles:20260508T103000
DTEND;TZID=America/Los_Angeles:20260508T173000
DTSTAMP:20260420T051225
CREATED:20260325T190523Z
LAST-MODIFIED:20260325T190523Z
UID:4300002255-1778236200-1778261400@nbhap.org
SUMMARY:Advanced Common Therapist Mistakes and The Ethics of Owning Them
DESCRIPTION:
URL:https://nbhap.org/event/advanced-common-therapist-mistakes-and-the-ethics-of-owning-them/
LOCATION:online
CATEGORIES:webinar or workshop
END:VEVENT
BEGIN:VEVENT
DTSTART;VALUE=DATE:20260511
DTEND;VALUE=DATE:20260513
DTSTAMP:20260420T051225
CREATED:20251017T215227Z
LAST-MODIFIED:20251017T215227Z
UID:4300001922-1778457600-1778630399@nbhap.org
SUMMARY:Incentives\, Sanctions\, and Service Adjustments Workshop
DESCRIPTION:
URL:https://nbhap.org/event/incentives-sanctions-and-service-adjustments-workshop-051126/
LOCATION:online
CATEGORIES:webinar or workshop
END:VEVENT
BEGIN:VEVENT
DTSTART;TZID=America/Los_Angeles:20260512T100000
DTEND;TZID=America/Los_Angeles:20260512T131500
DTSTAMP:20260420T051225
CREATED:20260410T233321Z
LAST-MODIFIED:20260410T233321Z
UID:4300002369-1778580000-1778591700@nbhap.org
SUMMARY:Drug Testing of the Pharmacy of the Streets
DESCRIPTION:
URL:https://nbhap.org/event/drug-testing-of-the-pharmacy-of-the-streets/
LOCATION:online
CATEGORIES:webinar or workshop
END:VEVENT
BEGIN:VEVENT
DTSTART;VALUE=DATE:20260513
DTEND;VALUE=DATE:20260515
DTSTAMP:20260420T051225
CREATED:20260201T035223Z
LAST-MODIFIED:20260201T035240Z
UID:4300002178-1778630400-1778803199@nbhap.org
SUMMARY:Matrix Recovery Program for Integrated Care- Adults
DESCRIPTION:
URL:https://nbhap.org/event/matrix-recovery-program-for-integrated-care-adults-051326/
LOCATION:online
CATEGORIES:webinar or workshop
END:VEVENT
BEGIN:VEVENT
DTSTART;TZID=America/Los_Angeles:20260513T120000
DTEND;TZID=America/Los_Angeles:20260513T130000
DTSTAMP:20260420T051225
CREATED:20260410T231559Z
LAST-MODIFIED:20260410T231559Z
UID:4300002359-1778673600-1778677200@nbhap.org
SUMMARY:Psychology of Eating Disorders
DESCRIPTION:
URL:https://nbhap.org/event/psychology-of-eating-disorders/
LOCATION:online
CATEGORIES:webinar or workshop
END:VEVENT
BEGIN:VEVENT
DTSTART;TZID=America/Los_Angeles:20260513T120000
DTEND;TZID=America/Los_Angeles:20260513T133000
DTSTAMP:20260420T051225
CREATED:20260408T044225Z
LAST-MODIFIED:20260408T044225Z
UID:4300002338-1778673600-1778679000@nbhap.org
SUMMARY:Supporting Individuals Engaged in Opioid Use Disorder Treatment for Peers
DESCRIPTION:
URL:https://nbhap.org/event/supporting-individuals-engaged-in-opioid-use-disorder-treatment-for-peers/
LOCATION:online
CATEGORIES:webinar or workshop
END:VEVENT
BEGIN:VEVENT
DTSTART;TZID=America/Los_Angeles:20260513T140000
DTEND;TZID=America/Los_Angeles:20260513T150000
DTSTAMP:20260420T051225
CREATED:20260401T042353Z
LAST-MODIFIED:20260401T042353Z
UID:4300002316-1778680800-1778684400@nbhap.org
SUMMARY:[ORN] Introductory Webinar Series: Community Based Organizations
DESCRIPTION:
URL:https://nbhap.org/event/orn-introductory-webinar-series-community-based-organizations/
LOCATION:online
CATEGORIES:webinar or workshop
END:VEVENT
BEGIN:VEVENT
DTSTART;VALUE=DATE:20260514
DTEND;VALUE=DATE:20260516
DTSTAMP:20260420T051225
CREATED:20260410T232616Z
LAST-MODIFIED:20260410T232616Z
UID:4300002361-1778716800-1778889599@nbhap.org
SUMMARY:Psychosexual Evaluator Certification Training
DESCRIPTION:
URL:https://nbhap.org/event/psychosexual-evaluator-certification-training/
LOCATION:online
CATEGORIES:webinar or workshop
END:VEVENT
BEGIN:VEVENT
DTSTART;TZID=America/Los_Angeles:20260514T120000
DTEND;TZID=America/Los_Angeles:20260514T130000
DTSTAMP:20260420T051225
CREATED:20260325T190618Z
LAST-MODIFIED:20260325T190618Z
UID:4300002256-1778760000-1778763600@nbhap.org
SUMMARY:Trauma’s Contribution to OCD & Considerations for Treatment
DESCRIPTION:
URL:https://nbhap.org/event/traumas-contribution-to-ocd-considerations-for-treatment/
LOCATION:online
CATEGORIES:webinar or workshop
END:VEVENT
BEGIN:VEVENT
DTSTART;TZID=America/Los_Angeles:20260515T100000
DTEND;TZID=America/Los_Angeles:20260515T170000
DTSTAMP:20260420T051225
CREATED:20260201T035325Z
LAST-MODIFIED:20260201T035346Z
UID:4300002179-1778839200-1778864400@nbhap.org
SUMMARY:Matrix Recovery Program for Integrated Care- Key Supervisors and Implementation
DESCRIPTION:
URL:https://nbhap.org/event/matrix-recovery-program-for-integrated-care-key-supervisors-and-implementation-051526/
LOCATION:online
CATEGORIES:webinar or workshop
END:VEVENT
BEGIN:VEVENT
DTSTART;TZID=America/Los_Angeles:20260515T103000
DTEND;TZID=America/Los_Angeles:20260515T173000
DTSTAMP:20260420T051225
CREATED:20260325T190937Z
LAST-MODIFIED:20260325T190937Z
UID:4300002257-1778841000-1778866200@nbhap.org
SUMMARY:Rewriting the Body Story: Trauma-Informed Treatment for Eating Disorders Using Integrated Approaches
DESCRIPTION:
URL:https://nbhap.org/event/rewriting-the-body-story-trauma-informed-treatment-for-eating-disorders-using-integrated-approaches/
LOCATION:online
CATEGORIES:webinar or workshop
END:VEVENT
BEGIN:VEVENT
DTSTART;TZID=America/Los_Angeles:20260515T140000
DTEND;TZID=America/Los_Angeles:20260515T150000
DTSTAMP:20260420T051225
CREATED:20260401T042513Z
LAST-MODIFIED:20260401T042513Z
UID:4300002317-1778853600-1778857200@nbhap.org
SUMMARY:[ORN] Introductory Webinar Series: Recovery Centered Organizations
DESCRIPTION:
URL:https://nbhap.org/event/orn-introductory-webinar-series-recovery-centered-organizations/
LOCATION:online
CATEGORIES:webinar or workshop
END:VEVENT
BEGIN:VEVENT
DTSTART;TZID=America/Los_Angeles:20260518T140000
DTEND;TZID=America/Los_Angeles:20260518T150000
DTSTAMP:20260420T051225
CREATED:20260401T042619Z
LAST-MODIFIED:20260401T042619Z
UID:4300002318-1779112800-1779116400@nbhap.org
SUMMARY:[ORN] Introductory Webinar Series: What is an RCO
DESCRIPTION:
URL:https://nbhap.org/event/orn-introductory-webinar-series-what-is-an-rco/
LOCATION:online
CATEGORIES:webinar or workshop
END:VEVENT
END:VCALENDAR