BEGIN:VCALENDAR
VERSION:2.0
PRODID:-//National Behavioral Health Association of Providers (NBHAP) - ECPv6.15.20//NONSGML v1.0//EN
CALSCALE:GREGORIAN
METHOD:PUBLISH
X-WR-CALNAME:National Behavioral Health Association of Providers (NBHAP)
X-ORIGINAL-URL:https://nbhap.org
X-WR-CALDESC:Events for National Behavioral Health Association of Providers (NBHAP)
REFRESH-INTERVAL;VALUE=DURATION:PT1H
X-Robots-Tag:noindex
X-PUBLISHED-TTL:PT1H
BEGIN:VTIMEZONE
TZID:America/Los_Angeles
BEGIN:DAYLIGHT
TZOFFSETFROM:-0800
TZOFFSETTO:-0700
TZNAME:PDT
DTSTART:20240310T100000
END:DAYLIGHT
BEGIN:STANDARD
TZOFFSETFROM:-0700
TZOFFSETTO:-0800
TZNAME:PST
DTSTART:20241103T090000
END:STANDARD
BEGIN:DAYLIGHT
TZOFFSETFROM:-0800
TZOFFSETTO:-0700
TZNAME:PDT
DTSTART:20250309T100000
END:DAYLIGHT
BEGIN:STANDARD
TZOFFSETFROM:-0700
TZOFFSETTO:-0800
TZNAME:PST
DTSTART:20251102T090000
END:STANDARD
BEGIN:DAYLIGHT
TZOFFSETFROM:-0800
TZOFFSETTO:-0700
TZNAME:PDT
DTSTART:20260308T100000
END:DAYLIGHT
BEGIN:STANDARD
TZOFFSETFROM:-0700
TZOFFSETTO:-0800
TZNAME:PST
DTSTART:20261101T090000
END:STANDARD
END:VTIMEZONE
BEGIN:VEVENT
DTSTART;TZID=America/Los_Angeles:20250514T120000
DTEND;TZID=America/Los_Angeles:20250514T130000
DTSTAMP:20260423T230012
CREATED:20250327T173128Z
LAST-MODIFIED:20250502T015638Z
UID:4300001333-1747224000-1747227600@nbhap.org
SUMMARY:Lived Experiences: Vicarious Trauma and its Impact on Mental and Emotional Well-being and Burnout
DESCRIPTION:
URL:https://nbhap.org/event/lived-experiences-vicarious-trauma-and-its-impact-on-mental-and-emotional-well-being-and-burnout/
LOCATION:online
CATEGORIES:webinar or workshop
END:VEVENT
BEGIN:VEVENT
DTSTART;TZID=America/Los_Angeles:20250514T100000
DTEND;TZID=America/Los_Angeles:20250514T111500
DTSTAMP:20260423T230012
CREATED:20250425T230402Z
LAST-MODIFIED:20250425T230402Z
UID:4300001405-1747216800-1747221300@nbhap.org
SUMMARY:Social Media and the Effects of Trying to Connect
DESCRIPTION:
URL:https://nbhap.org/event/social-media-and-the-effects-of-trying-to-connect/
LOCATION:online
CATEGORIES:webinar or workshop
END:VEVENT
BEGIN:VEVENT
DTSTART;TZID=America/Los_Angeles:20250514T100000
DTEND;TZID=America/Los_Angeles:20250514T110000
DTSTAMP:20260423T230012
CREATED:20250312T222924Z
LAST-MODIFIED:20250312T223230Z
UID:4300001278-1747216800-1747220400@nbhap.org
SUMMARY:Webinar: 2025 Mid-Year Policy Update: The New 'Normal'
DESCRIPTION:As we navigate an ever-changing landscape of regulatory and structural changes\, we are also trying to fulfill our regular mission of advancing policies that benefit behavioral health providers and consumers. This webinar will bring you up to date on all the changes in Washington in 2025 and do its best to map out what the future holds for behavioral health policy. 1 CE free if you attend online.
URL:https://nbhap.org/event/webinar-2025-mid-year-policy-update-the-new-normal/
LOCATION:online
CATEGORIES:NBHAP event,webinar or workshop
ATTACH;FMTTYPE=image/png:https://nbhap.org/wp-content/uploads/webinar-2025-Mid-Year-Policy-Update.png
ORGANIZER;CN="NBHAP (National Behavioral Health Association of Providers)":MAILTO:info@nbhap.org
END:VEVENT
BEGIN:VEVENT
DTSTART;TZID=America/Los_Angeles:20250514T090000
DTEND;TZID=America/Los_Angeles:20250514T100000
DTSTAMP:20260423T230012
CREATED:20250425T230436Z
LAST-MODIFIED:20250425T230436Z
UID:4300001406-1747213200-1747216800@nbhap.org
SUMMARY:Rewiring Reward: Can GLP-1 Agonists Curb Addiction?
DESCRIPTION:
URL:https://nbhap.org/event/rewiring-reward-can-glp-1-agonists-curb-addiction/
LOCATION:online
CATEGORIES:webinar or workshop
END:VEVENT
BEGIN:VEVENT
DTSTART;TZID=America/Los_Angeles:20250513T143000
DTEND;TZID=America/Los_Angeles:20250513T153000
DTSTAMP:20260423T230012
CREATED:20250425T230313Z
LAST-MODIFIED:20250425T230313Z
UID:4300001404-1747146600-1747150200@nbhap.org
SUMMARY:The Impact of Medical Trauma on Mental Health: Navigating the Path to Recovery
DESCRIPTION:
URL:https://nbhap.org/event/the-impact-of-medical-trauma-on-mental-health-navigating-the-path-to-recovery/
LOCATION:online
CATEGORIES:webinar or workshop
END:VEVENT
BEGIN:VEVENT
DTSTART;TZID=America/Los_Angeles:20250512T090000
DTEND;TZID=America/Los_Angeles:20250512T101500
DTSTAMP:20260423T230012
CREATED:20250425T230235Z
LAST-MODIFIED:20250425T230235Z
UID:4300001403-1747040400-1747044900@nbhap.org
SUMMARY:Leveraging Digital Tools to Support Youth Mental Health
DESCRIPTION:
URL:https://nbhap.org/event/leveraging-digital-tools-to-support-youth-mental-health/
LOCATION:online
CATEGORIES:webinar or workshop
END:VEVENT
BEGIN:VEVENT
DTSTART;TZID=America/Los_Angeles:20250510T110000
DTEND;TZID=America/Los_Angeles:20250510T141500
DTSTAMP:20260423T230012
CREATED:20250501T163016Z
LAST-MODIFIED:20250501T163016Z
UID:4300001442-1746874800-1746886500@nbhap.org
SUMMARY:A Clinician's Guide to Assess and Treat Trauma Secondary to Cultural Related Stressor
DESCRIPTION:
URL:https://nbhap.org/event/a-clinicians-guide-to-assess-and-treat-trauma-secondary-to-cultural-related-stressor/
LOCATION:online
CATEGORIES:webinar or workshop
END:VEVENT
BEGIN:VEVENT
DTSTART;TZID=America/Los_Angeles:20250509T103000
DTEND;TZID=America/Los_Angeles:20250509T173000
DTSTAMP:20260423T230012
CREATED:20250321T223541Z
LAST-MODIFIED:20250419T022659Z
UID:4300001304-1746786600-1746811800@nbhap.org
SUMMARY:IFS and Polyvagal Theory: Healing Through Compassionate Connection
DESCRIPTION:
URL:https://nbhap.org/event/ifs-and-polyvagal-theory-healing-through-compassionate-connection/
LOCATION:online
CATEGORIES:webinar or workshop
END:VEVENT
BEGIN:VEVENT
DTSTART;TZID=America/Los_Angeles:20250509T083000
DTEND;TZID=America/Los_Angeles:20250509T120000
DTSTAMP:20260423T230012
CREATED:20250501T162416Z
LAST-MODIFIED:20250501T162416Z
UID:4300001439-1746779400-1746792000@nbhap.org
SUMMARY:The Ups and Downs of being in Recovery while working as a Substance Use Treatment Counselor
DESCRIPTION:
URL:https://nbhap.org/event/the-ups-and-downs-of-being-in-recovery-while-working-as-a-substance-use-treatment-counselor/
LOCATION:online
CATEGORIES:webinar or workshop
END:VEVENT
BEGIN:VEVENT
DTSTART;TZID=America/Los_Angeles:20250508T083000
DTEND;TZID=America/Los_Angeles:20250508T120000
DTSTAMP:20260423T230012
CREATED:20250425T230728Z
LAST-MODIFIED:20250425T230728Z
UID:4300001410-1746693000-1746705600@nbhap.org
SUMMARY:Culturally Responsive Clinical Work and SUD Treatment
DESCRIPTION:
URL:https://nbhap.org/event/culturally-responsive-clinical-work-and-sud-treatment/
LOCATION:Nashville\, TN\, Nashville\, Tennessee
CATEGORIES:webinar or workshop
END:VEVENT
BEGIN:VEVENT
DTSTART;TZID=America/Los_Angeles:20250507T130000
DTEND;TZID=America/Los_Angeles:20250507T140000
DTSTAMP:20260423T230012
CREATED:20250419T040705Z
LAST-MODIFIED:20250419T040705Z
UID:4300001375-1746622800-1746626400@nbhap.org
SUMMARY:Family Connection as a Protective Factor in LGBTQ+ Youth Suicide Risk
DESCRIPTION:
URL:https://nbhap.org/event/family-connection-as-a-protective-factor-in-lgbtq-youth-suicide-risk/
LOCATION:online
CATEGORIES:webinar or workshop
END:VEVENT
BEGIN:VEVENT
DTSTART;TZID=America/Los_Angeles:20250507T120000
DTEND;TZID=America/Los_Angeles:20250507T133000
DTSTAMP:20260423T230012
CREATED:20250201T232519Z
LAST-MODIFIED:20250502T013705Z
UID:4300001131-1746619200-1746624600@nbhap.org
SUMMARY:Redefining Recovery: Insights into Gambling and Substance Use Disorders
DESCRIPTION:
URL:https://nbhap.org/event/redefining-recovery-insights-into-gambling-and-substance-use-disorders/
LOCATION:online
CATEGORIES:webinar or workshop
END:VEVENT
BEGIN:VEVENT
DTSTART;TZID=America/Los_Angeles:20250507T120000
DTEND;TZID=America/Los_Angeles:20250507T130000
DTSTAMP:20260423T230012
CREATED:20250327T173053Z
LAST-MODIFIED:20250502T015616Z
UID:4300001332-1746619200-1746622800@nbhap.org
SUMMARY:Weighing Worth in Weight: Eating Disorders and Weight Stigma
DESCRIPTION:
URL:https://nbhap.org/event/weighing-worth-in-weight-eating-disorders-and-weight-stigma/
LOCATION:online
CATEGORIES:webinar or workshop
END:VEVENT
BEGIN:VEVENT
DTSTART;TZID=America/Los_Angeles:20250507T100000
DTEND;TZID=America/Los_Angeles:20250507T110000
DTSTAMP:20260423T230012
CREATED:20240808T232833Z
LAST-MODIFIED:20250501T165844Z
UID:4300000996-1746612000-1746615600@nbhap.org
SUMMARY:Caring Across Cultures: Suicide Prevention Readiness Training
DESCRIPTION:
URL:https://nbhap.org/event/caring-across-cultures-suicide-prevention-readiness-training-11/
LOCATION:online
CATEGORIES:webinar or workshop
END:VEVENT
BEGIN:VEVENT
DTSTART;TZID=America/Los_Angeles:20250506T130000
DTEND;TZID=America/Los_Angeles:20250506T140000
DTSTAMP:20260423T230012
CREATED:20250502T033158Z
LAST-MODIFIED:20250502T033212Z
UID:4300001506-1746536400-1746540000@nbhap.org
SUMMARY:Trauma-Informed Care: Moving From "What's Wrong with You?" to "What Happened to You?"
DESCRIPTION:
URL:https://nbhap.org/event/trauma-informed-care-moving-from-whats-wrong-with-you-to-what-happened-to-you-050625/
LOCATION:online
CATEGORIES:webinar or workshop
END:VEVENT
BEGIN:VEVENT
DTSTART;TZID=America/Los_Angeles:20250506T100000
DTEND;TZID=America/Los_Angeles:20250506T113000
DTSTAMP:20260423T230012
CREATED:20250425T230026Z
LAST-MODIFIED:20250425T230026Z
UID:4300001400-1746525600-1746531000@nbhap.org
SUMMARY:Myths and Benefits of Mindfulness in the Therapeutic Process
DESCRIPTION:
URL:https://nbhap.org/event/myths-and-benefits-of-mindfulness-in-the-therapeutic-process/
LOCATION:online
CATEGORIES:webinar or workshop
END:VEVENT
BEGIN:VEVENT
DTSTART;TZID=America/Los_Angeles:20250506T100000
DTEND;TZID=America/Los_Angeles:20250506T110000
DTSTAMP:20260423T230012
CREATED:20250321T172008Z
LAST-MODIFIED:20250501T170212Z
UID:4300001289-1746525600-1746529200@nbhap.org
SUMMARY:Digital Mental Health Webinar Series 24-25
DESCRIPTION:
URL:https://nbhap.org/event/digital-mental-health-webinar-series-24-25-050625/
LOCATION:online
CATEGORIES:webinar or workshop
END:VEVENT
BEGIN:VEVENT
DTSTART;TZID=America/Los_Angeles:20250503T110000
DTEND;TZID=America/Los_Angeles:20250503T141500
DTSTAMP:20260423T230012
CREATED:20250501T162937Z
LAST-MODIFIED:20250501T162937Z
UID:4300001441-1746270000-1746281700@nbhap.org
SUMMARY:Narcissistic Abuse 101
DESCRIPTION:
URL:https://nbhap.org/event/narcissistic-abuse-101/
LOCATION:online
CATEGORIES:webinar or workshop
END:VEVENT
BEGIN:VEVENT
DTSTART;TZID=America/Los_Angeles:20250502T120000
DTEND;TZID=America/Los_Angeles:20250502T130000
DTSTAMP:20260423T230012
CREATED:20250419T035655Z
LAST-MODIFIED:20250419T035655Z
UID:4300001372-1746187200-1746190800@nbhap.org
SUMMARY:Finding a New Tribe: Helping Young Men Heal from Childhood Sexual Abuse and Addiction
DESCRIPTION:
URL:https://nbhap.org/event/finding-a-new-tribe-helping-young-men-heal-from-childhood-sexual-abuse-and-addiction/
LOCATION:online
CATEGORIES:webinar or workshop
END:VEVENT
BEGIN:VEVENT
DTSTART;TZID=America/Los_Angeles:20250502T110000
DTEND;TZID=America/Los_Angeles:20250502T141500
DTSTAMP:20260423T230012
CREATED:20250501T162859Z
LAST-MODIFIED:20250501T162859Z
UID:4300001440-1746183600-1746195300@nbhap.org
SUMMARY:Unpacking and Healing Shame: Theory and Practice for Practitioners
DESCRIPTION:
URL:https://nbhap.org/event/unpacking-and-healing-shame-theory-and-practice-for-practitioners/
LOCATION:online
CATEGORIES:webinar or workshop
END:VEVENT
BEGIN:VEVENT
DTSTART;TZID=America/Los_Angeles:20250502T103000
DTEND;TZID=America/Los_Angeles:20250502T173000
DTSTAMP:20260423T230012
CREATED:20250321T173440Z
LAST-MODIFIED:20250425T223458Z
UID:4300001296-1746181800-1746207000@nbhap.org
SUMMARY:Special Topics in IFS Therapy: The Presence of the Therapist\, Polarizations\, Extreme Protectors\, and the Cycle of Addiction
DESCRIPTION:
URL:https://nbhap.org/event/special-topics-in-ifs-therapy-the-presence-of-the-therapist-polarizations-extreme-protectors-and-the-cycle-of-addiction/
LOCATION:online
CATEGORIES:webinar or workshop
END:VEVENT
BEGIN:VEVENT
DTSTART;TZID=America/Los_Angeles:20250430T140000
DTEND;TZID=America/Los_Angeles:20250430T160000
DTSTAMP:20260423T230012
CREATED:20250327T183132Z
LAST-MODIFIED:20250419T022421Z
UID:4300001350-1746021600-1746028800@nbhap.org
SUMMARY:Recovery Ready Workplaces
DESCRIPTION:
URL:https://nbhap.org/event/recovery-ready-workplaces/
LOCATION:online
CATEGORIES:webinar or workshop
END:VEVENT
BEGIN:VEVENT
DTSTART;TZID=America/Los_Angeles:20250430T100000
DTEND;TZID=America/Los_Angeles:20250430T110000
DTSTAMP:20260423T230012
CREATED:20250312T212242Z
LAST-MODIFIED:20250312T212242Z
UID:4300001277-1746007200-1746010800@nbhap.org
SUMMARY:Webinar: Questions of Legality and Ethics in Behavioral Health Marketing
DESCRIPTION:Behavioral health entities continue to be in the news for legal and ethical violations related to their marketing and compensation practices. In this webinar\, we’ll discuss retargeting and HIPAA compliance\, FTC rulings on legal Google Ads campaigns\, the use of call centers\, and compliantly compensating outreach or admissions teams.
URL:https://nbhap.org/event/webinar-questions-of-legality-and-ethics-in-behavioral-health-marketing/
LOCATION:online
CATEGORIES:NBHAP event,webinar or workshop
ATTACH;FMTTYPE=image/png:https://nbhap.org/wp-content/uploads/webinar-Questions-of-Legality-and-Ethics-in-Behavioral-Health-Marketing.png
ORGANIZER;CN="NBHAP (National Behavioral Health Association of Providers)":MAILTO:info@nbhap.org
END:VEVENT
BEGIN:VEVENT
DTSTART;TZID=America/Los_Angeles:20250430T090000
DTEND;TZID=America/Los_Angeles:20250430T100000
DTSTAMP:20260423T230012
CREATED:20250425T225902Z
LAST-MODIFIED:20250425T225902Z
UID:4300001398-1746003600-1746007200@nbhap.org
SUMMARY:Effective Treatment Strategies for Older Adults with SUD
DESCRIPTION:
URL:https://nbhap.org/event/effective-treatment-strategies-for-older-adults-with-sud/
LOCATION:online
CATEGORIES:webinar or workshop
END:VEVENT
BEGIN:VEVENT
DTSTART;VALUE=DATE:20250430
DTEND;VALUE=DATE:20250501
DTSTAMP:20260423T230012
CREATED:20250327T173019Z
LAST-MODIFIED:20250327T173019Z
UID:4300001331-1745971200-1746057599@nbhap.org
SUMMARY:Implementing DBT in Multiple Levels of Care
DESCRIPTION:
URL:https://nbhap.org/event/implementing-dbt-in-multiple-levels-of-care/
LOCATION:online
CATEGORIES:webinar or workshop
END:VEVENT
BEGIN:VEVENT
DTSTART;TZID=America/Los_Angeles:20250429T140000
DTEND;TZID=America/Los_Angeles:20250429T150000
DTSTAMP:20260423T230012
CREATED:20250326T204057Z
LAST-MODIFIED:20250419T021935Z
UID:4300001325-1745935200-1745938800@nbhap.org
SUMMARY:The Power of Data: Driving Productivity\, Outcomes & Funding in Addiction Treatment
DESCRIPTION:
URL:https://nbhap.org/event/the-power-of-data-driving-productivity-outcomes-funding-in-addiction-treatment/
LOCATION:online
CATEGORIES:webinar or workshop
END:VEVENT
BEGIN:VEVENT
DTSTART;TZID=America/Los_Angeles:20250426T110000
DTEND;TZID=America/Los_Angeles:20250426T141500
DTSTAMP:20260423T230012
CREATED:20250425T223337Z
LAST-MODIFIED:20250425T223337Z
UID:4300001389-1745665200-1745676900@nbhap.org
SUMMARY:Preventing Boundary Violations in the Therapy Relationship
DESCRIPTION:
URL:https://nbhap.org/event/preventing-boundary-violations-in-the-therapy-relationship/
LOCATION:online
CATEGORIES:webinar or workshop
END:VEVENT
BEGIN:VEVENT
DTSTART;TZID=America/Los_Angeles:20250425T110000
DTEND;TZID=America/Los_Angeles:20250425T170000
DTSTAMP:20260423T230012
CREATED:20250321T223613Z
LAST-MODIFIED:20250419T021826Z
UID:4300001305-1745578800-1745600400@nbhap.org
SUMMARY:Advanced Acceptance and Commitment Therapy (ACT) to Treat Perfectionism
DESCRIPTION:
URL:https://nbhap.org/event/advanced-acceptance-and-commitment-therapy-act-to-treat-perfectionism/
LOCATION:online
CATEGORIES:webinar or workshop
END:VEVENT
BEGIN:VEVENT
DTSTART;TZID=America/Los_Angeles:20250424T120000
DTEND;TZID=America/Los_Angeles:20250424T130000
DTSTAMP:20260423T230012
CREATED:20250419T034418Z
LAST-MODIFIED:20250419T034418Z
UID:4300001370-1745496000-1745499600@nbhap.org
SUMMARY:Beyond the Screen: Harnessing The Power of Connection in Virtual Therapy
DESCRIPTION:
URL:https://nbhap.org/event/beyond-the-screen-harnessing-the-power-of-connection-in-virtual-therapy/
LOCATION:online
CATEGORIES:webinar or workshop
END:VEVENT
BEGIN:VEVENT
DTSTART;TZID=America/Los_Angeles:20250424T090000
DTEND;TZID=America/Los_Angeles:20250424T103000
DTSTAMP:20260423T230012
CREATED:20250326T203928Z
LAST-MODIFIED:20250419T021231Z
UID:4300001324-1745485200-1745490600@nbhap.org
SUMMARY:Do It Scared: How ACT Helps Clients Stop Chasing Painlessness and Start Living
DESCRIPTION:
URL:https://nbhap.org/event/do-it-scared-how-act-helps-clients-stop-chasing-painlessness-and-start-living/
LOCATION:online
CATEGORIES:webinar or workshop
END:VEVENT
END:VCALENDAR