BEGIN:VCALENDAR
VERSION:2.0
PRODID:-//National Behavioral Health Association of Providers (NBHAP) - ECPv6.15.20//NONSGML v1.0//EN
CALSCALE:GREGORIAN
METHOD:PUBLISH
X-ORIGINAL-URL:https://nbhap.org
X-WR-CALDESC:Events for National Behavioral Health Association of Providers (NBHAP)
REFRESH-INTERVAL;VALUE=DURATION:PT1H
X-Robots-Tag:noindex
X-PUBLISHED-TTL:PT1H
BEGIN:VTIMEZONE
TZID:America/Los_Angeles
BEGIN:DAYLIGHT
TZOFFSETFROM:-0800
TZOFFSETTO:-0700
TZNAME:PDT
DTSTART:20250309T100000
END:DAYLIGHT
BEGIN:STANDARD
TZOFFSETFROM:-0700
TZOFFSETTO:-0800
TZNAME:PST
DTSTART:20251102T090000
END:STANDARD
BEGIN:DAYLIGHT
TZOFFSETFROM:-0800
TZOFFSETTO:-0700
TZNAME:PDT
DTSTART:20260308T100000
END:DAYLIGHT
BEGIN:STANDARD
TZOFFSETFROM:-0700
TZOFFSETTO:-0800
TZNAME:PST
DTSTART:20261101T090000
END:STANDARD
BEGIN:DAYLIGHT
TZOFFSETFROM:-0800
TZOFFSETTO:-0700
TZNAME:PDT
DTSTART:20270314T100000
END:DAYLIGHT
BEGIN:STANDARD
TZOFFSETFROM:-0700
TZOFFSETTO:-0800
TZNAME:PST
DTSTART:20271107T090000
END:STANDARD
END:VTIMEZONE
BEGIN:VEVENT
DTSTART;TZID=America/Los_Angeles:20260512T100000
DTEND;TZID=America/Los_Angeles:20260512T131500
DTSTAMP:20260420T150907
CREATED:20260410T233321Z
LAST-MODIFIED:20260410T233321Z
UID:4300002369-1778580000-1778591700@nbhap.org
SUMMARY:Drug Testing of the Pharmacy of the Streets
DESCRIPTION:
URL:https://nbhap.org/event/drug-testing-of-the-pharmacy-of-the-streets/
LOCATION:online
CATEGORIES:webinar or workshop
END:VEVENT
BEGIN:VEVENT
DTSTART;TZID=America/Los_Angeles:20260512T110000
DTEND;TZID=America/Los_Angeles:20260512T120000
DTSTAMP:20260420T150907
CREATED:20251214T173618Z
LAST-MODIFIED:20251214T173618Z
UID:4300002012-1778583600-1778587200@nbhap.org
SUMMARY:ROC 'Masterminds' Monthly Meeting
DESCRIPTION:
URL:https://nbhap.org/event/roc-masterminds-monthly-meeting-051226/
LOCATION:online
CATEGORIES:community or networking
END:VEVENT
BEGIN:VEVENT
DTSTART;VALUE=DATE:20260513
DTEND;VALUE=DATE:20260515
DTSTAMP:20260420T150907
CREATED:20260201T035223Z
LAST-MODIFIED:20260201T035240Z
UID:4300002178-1778630400-1778803199@nbhap.org
SUMMARY:Matrix Recovery Program for Integrated Care- Adults
DESCRIPTION:
URL:https://nbhap.org/event/matrix-recovery-program-for-integrated-care-adults-051326/
LOCATION:online
CATEGORIES:webinar or workshop
END:VEVENT
BEGIN:VEVENT
DTSTART;TZID=America/Los_Angeles:20260513T120000
DTEND;TZID=America/Los_Angeles:20260513T130000
DTSTAMP:20260420T150907
CREATED:20260410T231559Z
LAST-MODIFIED:20260410T231559Z
UID:4300002359-1778673600-1778677200@nbhap.org
SUMMARY:Psychology of Eating Disorders
DESCRIPTION:
URL:https://nbhap.org/event/psychology-of-eating-disorders/
LOCATION:online
CATEGORIES:webinar or workshop
END:VEVENT
BEGIN:VEVENT
DTSTART;TZID=America/Los_Angeles:20260513T120000
DTEND;TZID=America/Los_Angeles:20260513T133000
DTSTAMP:20260420T150907
CREATED:20260408T044225Z
LAST-MODIFIED:20260408T044225Z
UID:4300002338-1778673600-1778679000@nbhap.org
SUMMARY:Supporting Individuals Engaged in Opioid Use Disorder Treatment for Peers
DESCRIPTION:
URL:https://nbhap.org/event/supporting-individuals-engaged-in-opioid-use-disorder-treatment-for-peers/
LOCATION:online
CATEGORIES:webinar or workshop
END:VEVENT
BEGIN:VEVENT
DTSTART;TZID=America/Los_Angeles:20260513T140000
DTEND;TZID=America/Los_Angeles:20260513T150000
DTSTAMP:20260420T150907
CREATED:20260401T042353Z
LAST-MODIFIED:20260401T042353Z
UID:4300002316-1778680800-1778684400@nbhap.org
SUMMARY:[ORN] Introductory Webinar Series: Community Based Organizations
DESCRIPTION:
URL:https://nbhap.org/event/orn-introductory-webinar-series-community-based-organizations/
LOCATION:online
CATEGORIES:webinar or workshop
END:VEVENT
BEGIN:VEVENT
DTSTART;VALUE=DATE:20260514
DTEND;VALUE=DATE:20260516
DTSTAMP:20260420T150907
CREATED:20260410T232616Z
LAST-MODIFIED:20260410T232616Z
UID:4300002361-1778716800-1778889599@nbhap.org
SUMMARY:Psychosexual Evaluator Certification Training
DESCRIPTION:
URL:https://nbhap.org/event/psychosexual-evaluator-certification-training/
LOCATION:online
CATEGORIES:webinar or workshop
END:VEVENT
BEGIN:VEVENT
DTSTART;TZID=America/Los_Angeles:20260514T120000
DTEND;TZID=America/Los_Angeles:20260514T130000
DTSTAMP:20260420T150907
CREATED:20260325T190618Z
LAST-MODIFIED:20260325T190618Z
UID:4300002256-1778760000-1778763600@nbhap.org
SUMMARY:Trauma’s Contribution to OCD & Considerations for Treatment
DESCRIPTION:
URL:https://nbhap.org/event/traumas-contribution-to-ocd-considerations-for-treatment/
LOCATION:online
CATEGORIES:webinar or workshop
END:VEVENT
BEGIN:VEVENT
DTSTART;TZID=America/Los_Angeles:20260515T100000
DTEND;TZID=America/Los_Angeles:20260515T170000
DTSTAMP:20260420T150907
CREATED:20260201T035325Z
LAST-MODIFIED:20260201T035346Z
UID:4300002179-1778839200-1778864400@nbhap.org
SUMMARY:Matrix Recovery Program for Integrated Care- Key Supervisors and Implementation
DESCRIPTION:
URL:https://nbhap.org/event/matrix-recovery-program-for-integrated-care-key-supervisors-and-implementation-051526/
LOCATION:online
CATEGORIES:webinar or workshop
END:VEVENT
BEGIN:VEVENT
DTSTART;TZID=America/Los_Angeles:20260515T103000
DTEND;TZID=America/Los_Angeles:20260515T173000
DTSTAMP:20260420T150907
CREATED:20260325T190937Z
LAST-MODIFIED:20260325T190937Z
UID:4300002257-1778841000-1778866200@nbhap.org
SUMMARY:Rewriting the Body Story: Trauma-Informed Treatment for Eating Disorders Using Integrated Approaches
DESCRIPTION:
URL:https://nbhap.org/event/rewriting-the-body-story-trauma-informed-treatment-for-eating-disorders-using-integrated-approaches/
LOCATION:online
CATEGORIES:webinar or workshop
END:VEVENT
BEGIN:VEVENT
DTSTART;TZID=America/Los_Angeles:20260515T140000
DTEND;TZID=America/Los_Angeles:20260515T150000
DTSTAMP:20260420T150907
CREATED:20260401T042513Z
LAST-MODIFIED:20260401T042513Z
UID:4300002317-1778853600-1778857200@nbhap.org
SUMMARY:[ORN] Introductory Webinar Series: Recovery Centered Organizations
DESCRIPTION:
URL:https://nbhap.org/event/orn-introductory-webinar-series-recovery-centered-organizations/
LOCATION:online
CATEGORIES:webinar or workshop
END:VEVENT
BEGIN:VEVENT
DTSTART;TZID=America/Los_Angeles:20260518T140000
DTEND;TZID=America/Los_Angeles:20260518T150000
DTSTAMP:20260420T150907
CREATED:20260401T042619Z
LAST-MODIFIED:20260401T042619Z
UID:4300002318-1779112800-1779116400@nbhap.org
SUMMARY:[ORN] Introductory Webinar Series: What is an RCO
DESCRIPTION:
URL:https://nbhap.org/event/orn-introductory-webinar-series-what-is-an-rco/
LOCATION:online
CATEGORIES:webinar or workshop
END:VEVENT
BEGIN:VEVENT
DTSTART;TZID=America/Los_Angeles:20260520T080000
DTEND;TZID=America/Los_Angeles:20260520T170000
DTSTAMP:20260420T150907
CREATED:20260410T231634Z
LAST-MODIFIED:20260410T231634Z
UID:4300002360-1779264000-1779296400@nbhap.org
SUMMARY:Can You See Us: The Historical Invisibility & Erasure of Black Girls and Women in Clinical Care
DESCRIPTION:
URL:https://nbhap.org/event/can-you-see-us-the-historical-invisibility-erasure-of-black-girls-and-women-in-clinical-care/
LOCATION:online
CATEGORIES:webinar or workshop
END:VEVENT
BEGIN:VEVENT
DTSTART;TZID=America/Los_Angeles:20260520T120000
DTEND;TZID=America/Los_Angeles:20260520T130000
DTSTAMP:20260420T150907
CREATED:20260416T162051Z
LAST-MODIFIED:20260416T162051Z
UID:4300002385-1779278400-1779282000@nbhap.org
SUMMARY:Comprehensive Safety Planning
DESCRIPTION:
URL:https://nbhap.org/event/comprehensive-safety-planning/
LOCATION:online
CATEGORIES:webinar or workshop
END:VEVENT
BEGIN:VEVENT
DTSTART;TZID=America/Los_Angeles:20260520T120000
DTEND;TZID=America/Los_Angeles:20260520T133000
DTSTAMP:20260420T150907
CREATED:20260408T044333Z
LAST-MODIFIED:20260408T044333Z
UID:4300002339-1779278400-1779283800@nbhap.org
SUMMARY:The Skill of Taking Steps: Using DBT In Conjunction with 12 Steps
DESCRIPTION:
URL:https://nbhap.org/event/the-skill-of-taking-steps-using-dbt-in-conjunction-with-12-steps/
LOCATION:online
CATEGORIES:webinar or workshop
END:VEVENT
BEGIN:VEVENT
DTSTART;TZID=America/Los_Angeles:20260520T140000
DTEND;TZID=America/Los_Angeles:20260520T150000
DTSTAMP:20260420T150907
CREATED:20260401T042726Z
LAST-MODIFIED:20260401T042726Z
UID:4300002319-1779285600-1779289200@nbhap.org
SUMMARY:[ORN] Introductory Webinar Series: Introduction to RCO National Standards
DESCRIPTION:
URL:https://nbhap.org/event/orn-introductory-webinar-series-introduction-to-rco-national-standards/
LOCATION:online
CATEGORIES:webinar or workshop
END:VEVENT
BEGIN:VEVENT
DTSTART;TZID=America/Los_Angeles:20260521T130000
DTEND;TZID=America/Los_Angeles:20260521T161500
DTSTAMP:20260420T150907
CREATED:20260325T191404Z
LAST-MODIFIED:20260325T191404Z
UID:4300002258-1779368400-1779380100@nbhap.org
SUMMARY:Understanding and Working with Addiction in Counseling and Psychotherapy
DESCRIPTION:
URL:https://nbhap.org/event/understanding-and-working-with-addiction-in-counseling-and-psychotherapy/
LOCATION:online
CATEGORIES:webinar or workshop
END:VEVENT
BEGIN:VEVENT
DTSTART;TZID=America/Los_Angeles:20260522T090000
DTEND;TZID=America/Los_Angeles:20260522T170000
DTSTAMP:20260420T150907
CREATED:20260401T034006Z
LAST-MODIFIED:20260401T034006Z
UID:4300002306-1779440400-1779469200@nbhap.org
SUMMARY:Mental Health First Aid Training
DESCRIPTION:
URL:https://nbhap.org/event/mental-health-first-aid-training-7/
LOCATION:online
CATEGORIES:webinar or workshop
END:VEVENT
BEGIN:VEVENT
DTSTART;TZID=America/Los_Angeles:20260522T140000
DTEND;TZID=America/Los_Angeles:20260522T150000
DTSTAMP:20260420T150907
CREATED:20260401T042809Z
LAST-MODIFIED:20260401T042809Z
UID:4300002320-1779458400-1779462000@nbhap.org
SUMMARY:[ORN] Introductory Webinar Series: Stages of Development
DESCRIPTION:
URL:https://nbhap.org/event/orn-introductory-webinar-series-stages-of-development/
LOCATION:online
CATEGORIES:webinar or workshop
END:VEVENT
BEGIN:VEVENT
DTSTART;TZID=America/Los_Angeles:20260526T090000
DTEND;TZID=America/Los_Angeles:20260526T160000
DTSTAMP:20260420T150907
CREATED:20260417T180556Z
LAST-MODIFIED:20260417T180556Z
UID:4300002389-1779786000-1779811200@nbhap.org
SUMMARY:Questions in Counselling - The Art and Skill
DESCRIPTION:
URL:https://nbhap.org/event/questions-in-counselling-the-art-and-skill/
LOCATION:online
CATEGORIES:webinar or workshop
END:VEVENT
BEGIN:VEVENT
DTSTART;TZID=America/Los_Angeles:20260526T100000
DTEND;TZID=America/Los_Angeles:20260526T131500
DTSTAMP:20260420T150907
CREATED:20260410T233015Z
LAST-MODIFIED:20260410T233015Z
UID:4300002365-1779789600-1779801300@nbhap.org
SUMMARY:Reclaiming the Self: Healing After Narcissistic Abuse in Love and Family
DESCRIPTION:
URL:https://nbhap.org/event/reclaiming-the-self-healing-after-narcissistic-abuse-in-love-and-family/
LOCATION:online
CATEGORIES:webinar or workshop
END:VEVENT
BEGIN:VEVENT
DTSTART;TZID=America/Los_Angeles:20260528T120000
DTEND;TZID=America/Los_Angeles:20260528T130000
DTSTAMP:20260420T150907
CREATED:20260418T013636Z
LAST-MODIFIED:20260418T013636Z
UID:4300002399-1779969600-1779973200@nbhap.org
SUMMARY:Exposure Practice Beyond the Therapy Room: Cultivating Quality ERP Exposures for Clients Outside of Session
DESCRIPTION:
URL:https://nbhap.org/event/exposure-practice-beyond-the-therapy-room-cultivating-quality-erp-exposures-for-clients-outside-of-session/
LOCATION:online
CATEGORIES:webinar or workshop
END:VEVENT
BEGIN:VEVENT
DTSTART;TZID=America/Los_Angeles:20260529T103000
DTEND;TZID=America/Los_Angeles:20260529T173000
DTSTAMP:20260420T150907
CREATED:20260418T013717Z
LAST-MODIFIED:20260418T013717Z
UID:4300002400-1780050600-1780075800@nbhap.org
SUMMARY:Mastering the Subtleties of ERP for OCD: Preparing Your Clients for Success
DESCRIPTION:
URL:https://nbhap.org/event/mastering-the-subtleties-of-erp-for-ocd-preparing-your-clients-for-success-2/
LOCATION:online
CATEGORIES:webinar or workshop
END:VEVENT
BEGIN:VEVENT
DTSTART;VALUE=DATE:20260602
DTEND;VALUE=DATE:20260604
DTSTAMP:20260420T150907
CREATED:20251017T215303Z
LAST-MODIFIED:20251017T215303Z
UID:4300001923-1780358400-1780531199@nbhap.org
SUMMARY:Incentives\, Sanctions\, and Service Adjustments Workshop
DESCRIPTION:
URL:https://nbhap.org/event/incentives-sanctions-and-service-adjustments-workshop-060226/
LOCATION:online
CATEGORIES:webinar or workshop
END:VEVENT
BEGIN:VEVENT
DTSTART;VALUE=DATE:20260602
DTEND;VALUE=DATE:20260604
DTSTAMP:20260420T150907
CREATED:20260401T025022Z
LAST-MODIFIED:20260401T025022Z
UID:4300002292-1780358400-1780531199@nbhap.org
SUMMARY:Cognitive Behavioral Therapy for Anorexia Nervosa in Adolescents & Adults
DESCRIPTION:
URL:https://nbhap.org/event/cognitive-behavioral-therapy-for-anorexia-nervosa-in-adolescents-adults/
LOCATION:online
CATEGORIES:webinar or workshop
END:VEVENT
BEGIN:VEVENT
DTSTART;TZID=America/Los_Angeles:20260602T100000
DTEND;TZID=America/Los_Angeles:20260602T120000
DTSTAMP:20260420T150907
CREATED:20260401T024636Z
LAST-MODIFIED:20260401T024636Z
UID:4300002291-1780394400-1780401600@nbhap.org
SUMMARY:Clinical Implications of Substance Use\, Risk\, and Suicide Prevention in Military Populations
DESCRIPTION:
URL:https://nbhap.org/event/clinical-implications-of-substance-use-risk-and-suicide-prevention-in-military-populations/
LOCATION:online
CATEGORIES:webinar or workshop
END:VEVENT
BEGIN:VEVENT
DTSTART;TZID=America/Los_Angeles:20260602T140000
DTEND;TZID=America/Los_Angeles:20260602T160000
DTSTAMP:20260420T150907
CREATED:20260410T233405Z
LAST-MODIFIED:20260410T233405Z
UID:4300002370-1780408800-1780416000@nbhap.org
SUMMARY:Compassionate\, Ethical\, and Informed Care: Supporting Older Adults in Mental Health Practice
DESCRIPTION:
URL:https://nbhap.org/event/compassionate-ethical-and-informed-care-supporting-older-adults-in-mental-health-practice/
LOCATION:online
CATEGORIES:webinar or workshop
END:VEVENT
BEGIN:VEVENT
DTSTART;TZID=America/Los_Angeles:20260603T083000
DTEND;TZID=America/Los_Angeles:20260603T170000
DTSTAMP:20260420T150907
CREATED:20260416T202512Z
LAST-MODIFIED:20260416T202512Z
UID:4300002387-1780475400-1780506000@nbhap.org
SUMMARY:3rd Annual North Carolina Adolescent SUD Conference
DESCRIPTION:
URL:https://nbhap.org/event/3rd-annual-north-carolina-adolescent-sud-conference/
LOCATION:online
CATEGORIES:conference or summit
END:VEVENT
BEGIN:VEVENT
DTSTART;TZID=America/Los_Angeles:20260603T100000
DTEND;TZID=America/Los_Angeles:20260603T120000
DTSTAMP:20260420T150907
CREATED:20260410T233234Z
LAST-MODIFIED:20260410T233234Z
UID:4300002368-1780480800-1780488000@nbhap.org
SUMMARY:Subpoenas\, Testimony\, & Court-Ordered Clients
DESCRIPTION:
URL:https://nbhap.org/event/subpoenas-testimony-court-ordered-clients/
LOCATION:online
CATEGORIES:webinar or workshop
END:VEVENT
BEGIN:VEVENT
DTSTART;TZID=America/Los_Angeles:20260603T120000
DTEND;TZID=America/Los_Angeles:20260603T133000
DTSTAMP:20260420T150907
CREATED:20260408T044435Z
LAST-MODIFIED:20260408T044435Z
UID:4300002340-1780488000-1780493400@nbhap.org
SUMMARY:Second-Wave Mutual-Help Groups for Addiction Recovery
DESCRIPTION:
URL:https://nbhap.org/event/second-wave-mutual-help-groups-for-addiction-recovery/
LOCATION:online
CATEGORIES:webinar or workshop
END:VEVENT
END:VCALENDAR