BEGIN:VCALENDAR
VERSION:2.0
PRODID:-//National Behavioral Health Association of Providers (NBHAP) - ECPv6.15.20//NONSGML v1.0//EN
CALSCALE:GREGORIAN
METHOD:PUBLISH
X-ORIGINAL-URL:https://nbhap.org
X-WR-CALDESC:Events for National Behavioral Health Association of Providers (NBHAP)
REFRESH-INTERVAL;VALUE=DURATION:PT1H
X-Robots-Tag:noindex
X-PUBLISHED-TTL:PT1H
BEGIN:VTIMEZONE
TZID:America/Los_Angeles
BEGIN:DAYLIGHT
TZOFFSETFROM:-0800
TZOFFSETTO:-0700
TZNAME:PDT
DTSTART:20230312T100000
END:DAYLIGHT
BEGIN:STANDARD
TZOFFSETFROM:-0700
TZOFFSETTO:-0800
TZNAME:PST
DTSTART:20231105T090000
END:STANDARD
BEGIN:DAYLIGHT
TZOFFSETFROM:-0800
TZOFFSETTO:-0700
TZNAME:PDT
DTSTART:20240310T100000
END:DAYLIGHT
BEGIN:STANDARD
TZOFFSETFROM:-0700
TZOFFSETTO:-0800
TZNAME:PST
DTSTART:20241103T090000
END:STANDARD
BEGIN:DAYLIGHT
TZOFFSETFROM:-0800
TZOFFSETTO:-0700
TZNAME:PDT
DTSTART:20250309T100000
END:DAYLIGHT
BEGIN:STANDARD
TZOFFSETFROM:-0700
TZOFFSETTO:-0800
TZNAME:PST
DTSTART:20251102T090000
END:STANDARD
BEGIN:DAYLIGHT
TZOFFSETFROM:-0800
TZOFFSETTO:-0700
TZNAME:PDT
DTSTART:20260308T100000
END:DAYLIGHT
BEGIN:STANDARD
TZOFFSETFROM:-0700
TZOFFSETTO:-0800
TZNAME:PST
DTSTART:20261101T090000
END:STANDARD
END:VTIMEZONE
BEGIN:VEVENT
DTSTART;VALUE=DATE:20250211
DTEND;VALUE=DATE:20250212
DTSTAMP:20260419T071241
CREATED:20250205T204012Z
LAST-MODIFIED:20250205T204012Z
UID:4300001175-1739232000-1739318399@nbhap.org
SUMMARY:Co-Occurring Disorders & The CUBIS Model
DESCRIPTION:
URL:https://nbhap.org/event/co-occurring-disorders-the-cubis-model/
LOCATION:online
CATEGORIES:webinar or workshop
END:VEVENT
BEGIN:VEVENT
DTSTART;VALUE=DATE:20250210
DTEND;VALUE=DATE:20250212
DTSTAMP:20260419T071241
CREATED:20250124T232335Z
LAST-MODIFIED:20250124T232335Z
UID:4300001120-1739145600-1739318399@nbhap.org
SUMMARY:Together Towards Tomorrow: Prevention\, Treatment\, and Recovery 2025
DESCRIPTION:
URL:https://nbhap.org/event/together-towards-tomorrow-prevention-treatment-and-recovery-2025/
LOCATION:online
END:VEVENT
BEGIN:VEVENT
DTSTART;VALUE=DATE:20250209
DTEND;VALUE=DATE:20250216
DTSTAMP:20260419T071241
CREATED:20250124T231658Z
LAST-MODIFIED:20250124T231658Z
UID:4300001118-1739059200-1739663999@nbhap.org
SUMMARY:COA (Children of Addiction) Awareness Week 2025
DESCRIPTION:
URL:https://nbhap.org/event/coa-children-of-addiction-awareness-week-2025/
LOCATION:online
CATEGORIES:observance
END:VEVENT
BEGIN:VEVENT
DTSTART;VALUE=DATE:20250207
DTEND;VALUE=DATE:20250208
DTSTAMP:20260419T071241
CREATED:20250205T204050Z
LAST-MODIFIED:20250205T204050Z
UID:4300001176-1738886400-1738972799@nbhap.org
SUMMARY:When Binge Eating\, Bulimia\, and Booze Collide: Navigating Treatment for Eating Disorders and Substance Abuse
DESCRIPTION:
URL:https://nbhap.org/event/when-binge-eating-bulimia-and-booze-collide-navigating-treatment-for-eating-disorders-and-substance-abuse/
LOCATION:online
CATEGORIES:webinar or workshop
END:VEVENT
BEGIN:VEVENT
DTSTART;TZID=America/Los_Angeles:20250206T160000
DTEND;TZID=America/Los_Angeles:20250206T170000
DTSTAMP:20260419T071241
CREATED:20250205T193316Z
LAST-MODIFIED:20250205T193316Z
UID:4300001149-1738857600-1738861200@nbhap.org
SUMMARY:Mobilize Recovery Strategy Summit 2025: Session 1
DESCRIPTION:
URL:https://nbhap.org/event/mobilize-recovery-strategy-summit-2025-session-1/
LOCATION:online
CATEGORIES:webinar or workshop
END:VEVENT
BEGIN:VEVENT
DTSTART;VALUE=DATE:20250206
DTEND;VALUE=DATE:20250208
DTSTAMP:20260419T071241
CREATED:20250205T195547Z
LAST-MODIFIED:20250205T195547Z
UID:4300001155-1738800000-1738972799@nbhap.org
SUMMARY:Enhanced Cognitive-Behavioral Therapy (CBT-E) for Adults with Eating Disorders
DESCRIPTION:
URL:https://nbhap.org/event/enhanced-cognitive-behavioral-therapy-cbt-e-for-adults-with-eating-disorders/
LOCATION:online
END:VEVENT
BEGIN:VEVENT
DTSTART;VALUE=DATE:20250206
DTEND;VALUE=DATE:20250208
DTSTAMP:20260419T071241
CREATED:20241204T234645Z
LAST-MODIFIED:20241204T234645Z
UID:4300001081-1738800000-1738972799@nbhap.org
SUMMARY:2025 Engagement in the Black Community
DESCRIPTION:
URL:https://nbhap.org/event/2025-engagement-in-the-black-community/
LOCATION:online
END:VEVENT
BEGIN:VEVENT
DTSTART;VALUE=DATE:20250205
DTEND;VALUE=DATE:20250206
DTSTAMP:20260419T071241
CREATED:20250205T201549Z
LAST-MODIFIED:20250205T201549Z
UID:4300001161-1738713600-1738799999@nbhap.org
SUMMARY:Virtual Core Foundations of Recovery Intro Series: Guiding Principles of Recovery (1 Hour Training)
DESCRIPTION:
URL:https://nbhap.org/event/virtual-core-foundations-of-recovery-intro-series-guiding-principles-of-recovery-1-hour-training/
LOCATION:online
CATEGORIES:webinar or workshop
END:VEVENT
BEGIN:VEVENT
DTSTART;VALUE=DATE:20250203
DTEND;VALUE=DATE:20250204
DTSTAMP:20260419T071241
CREATED:20241204T233900Z
LAST-MODIFIED:20241204T233900Z
UID:4300001080-1738540800-1738627199@nbhap.org
SUMMARY:2025 SAMHSA's Prevention Day
DESCRIPTION:
URL:https://nbhap.org/event/2025-samhsas-prevention-day/
LOCATION:online
CATEGORIES:observance
END:VEVENT
BEGIN:VEVENT
DTSTART;VALUE=DATE:20250131
DTEND;VALUE=DATE:20250202
DTSTAMP:20260419T071241
CREATED:20241204T233344Z
LAST-MODIFIED:20241204T233344Z
UID:4300001078-1738281600-1738454399@nbhap.org
SUMMARY:2025 Sex Addiction Training Summit
DESCRIPTION:
URL:https://nbhap.org/event/2025-sex-addiction-training-summit/
LOCATION:online
END:VEVENT
BEGIN:VEVENT
DTSTART;VALUE=DATE:20250125
DTEND;VALUE=DATE:20250126
DTSTAMP:20260419T071241
CREATED:20241218T185324Z
LAST-MODIFIED:20241218T185324Z
UID:4300001097-1737763200-1737849599@nbhap.org
SUMMARY:Digital Technology: A Gateway to AOD Use and Link to AOD Relapse (Adolescent & Adult Clients)
DESCRIPTION:
URL:https://nbhap.org/event/digital-technology-a-gateway-to-aod-use-and-link-to-aod-relapse-adolescent-adult-clients/
LOCATION:online
END:VEVENT
BEGIN:VEVENT
DTSTART;VALUE=DATE:20250122
DTEND;VALUE=DATE:20250123
DTSTAMP:20260419T071241
CREATED:20241023T195249Z
LAST-MODIFIED:20250327T173608Z
UID:4300001065-1737504000-1737590399@nbhap.org
SUMMARY:Treatment Interfering Behaviors Part 2: Cases
DESCRIPTION:
URL:https://nbhap.org/event/treatment-interfering-behaviors-part-2-cases/
LOCATION:online
CATEGORIES:webinar or workshop
END:VEVENT
BEGIN:VEVENT
DTSTART;VALUE=DATE:20250122
DTEND;VALUE=DATE:20250123
DTSTAMP:20260419T071241
CREATED:20241022T214707Z
LAST-MODIFIED:20241022T214707Z
UID:4300001045-1737504000-1737590399@nbhap.org
SUMMARY:NME Training Certification: Winter 2025 Virtual Boot Camp Part 2
DESCRIPTION:
URL:https://nbhap.org/event/nme-training-certification-winter-2025-virtual-boot-camp-part-2/
LOCATION:online
CATEGORIES:webinar or workshop
END:VEVENT
BEGIN:VEVENT
DTSTART;VALUE=DATE:20250122
DTEND;VALUE=DATE:20250123
DTSTAMP:20260419T071241
CREATED:20241022T214335Z
LAST-MODIFIED:20241022T214349Z
UID:4300001043-1737504000-1737590399@nbhap.org
SUMMARY:NMT Training Certification: Winter 2025 Virtual Boot Camp Part 2
DESCRIPTION:
URL:https://nbhap.org/event/nmt-training-certification-winter-2025-virtual-boot-camp-part-2/
LOCATION:online
CATEGORIES:webinar or workshop
END:VEVENT
BEGIN:VEVENT
DTSTART;TZID=America/Los_Angeles:20250115T110000
DTEND;TZID=America/Los_Angeles:20250115T120000
DTSTAMP:20260419T071241
CREATED:20250109T223042Z
LAST-MODIFIED:20250109T223042Z
UID:4300001104-1736938800-1736942400@nbhap.org
SUMMARY:It Matters Launch Party Registration 2025
DESCRIPTION:The Kansas Prevention Collaborative will be hosting a launch party and will go over the following: \n\nPromote the use of the It Matters materials\nShare how it can be used to support coalitions and communities\nProvide an opportunity for questions\, feedback\, and suggested changes.\nProvide assets in your most requested sizes for your promotional materials and distribution:\n\nAs a recap of what to expect\, this will be 8 new assets in 7 file formats for 2 primary audiences (Young Adults and Youth) that will soon be available to access on the KPC It Matters webpages.
URL:https://nbhap.org/event/it-matters-launch-party-registration-2025/
LOCATION:online
CATEGORIES:partner event
END:VEVENT
BEGIN:VEVENT
DTSTART;VALUE=DATE:20250115
DTEND;VALUE=DATE:20250116
DTSTAMP:20260419T071241
CREATED:20241023T195135Z
LAST-MODIFIED:20250327T173551Z
UID:4300001064-1736899200-1736985599@nbhap.org
SUMMARY:Treatment Interfering Behaviors Part 1: Concepts
DESCRIPTION:
URL:https://nbhap.org/event/treatment-interfering-behaviors-part-1-concepts/
LOCATION:online
CATEGORIES:webinar or workshop
END:VEVENT
BEGIN:VEVENT
DTSTART;VALUE=DATE:20250115
DTEND;VALUE=DATE:20250116
DTSTAMP:20260419T071241
CREATED:20241022T214441Z
LAST-MODIFIED:20241022T214441Z
UID:4300001044-1736899200-1736985599@nbhap.org
SUMMARY:NME Training Certification: Winter 2025 Virtual Boot Camp Part 1
DESCRIPTION:
URL:https://nbhap.org/event/nme-training-certification-winter-2025-virtual-boot-camp-part-1/
LOCATION:online
CATEGORIES:webinar or workshop
END:VEVENT
BEGIN:VEVENT
DTSTART;VALUE=DATE:20250115
DTEND;VALUE=DATE:20250116
DTSTAMP:20260419T071241
CREATED:20241022T214238Z
LAST-MODIFIED:20241022T214238Z
UID:4300001042-1736899200-1736985599@nbhap.org
SUMMARY:NMT Training Certification: Winter 2025 Virtual Boot Camp Part 1
DESCRIPTION:
URL:https://nbhap.org/event/nmt-training-certification-winter-2025-virtual-boot-camp-part-1/
LOCATION:online
CATEGORIES:webinar or workshop
END:VEVENT
BEGIN:VEVENT
DTSTART;VALUE=DATE:20250113
DTEND;VALUE=DATE:20250118
DTSTAMP:20260419T071241
CREATED:20241207T001056Z
LAST-MODIFIED:20241207T001056Z
UID:4300001089-1736726400-1737158399@nbhap.org
SUMMARY:2025 Montana Winter Institute
DESCRIPTION:
URL:https://nbhap.org/event/2025-montana-winter-institute/
LOCATION:online
END:VEVENT
BEGIN:VEVENT
DTSTART;VALUE=DATE:20250113
DTEND;VALUE=DATE:20250114
DTSTAMP:20260419T071241
CREATED:20241204T231541Z
LAST-MODIFIED:20241204T231541Z
UID:4300001074-1736726400-1736812799@nbhap.org
SUMMARY:Ethics for Addiction Counselors
DESCRIPTION:
URL:https://nbhap.org/event/ethics-for-addiction-counselors/
LOCATION:online
CATEGORIES:webinar or workshop
END:VEVENT
BEGIN:VEVENT
DTSTART;VALUE=DATE:20250112
DTEND;VALUE=DATE:20250113
DTSTAMP:20260419T071241
CREATED:20241204T231501Z
LAST-MODIFIED:20241204T231501Z
UID:4300001073-1736640000-1736726399@nbhap.org
SUMMARY:Smart Strategies to Work with Clients Using Telemental Health
DESCRIPTION:
URL:https://nbhap.org/event/smart-strategies-to-work-with-clients-using-telemental-health/
LOCATION:online
CATEGORIES:webinar or workshop
END:VEVENT
BEGIN:VEVENT
DTSTART;VALUE=DATE:20250111
DTEND;VALUE=DATE:20250112
DTSTAMP:20260419T071241
CREATED:20241204T231412Z
LAST-MODIFIED:20241204T231412Z
UID:4300001072-1736553600-1736639999@nbhap.org
SUMMARY:CFR 42\, HIPAA and Confidentiality
DESCRIPTION:
URL:https://nbhap.org/event/cfr-42-hipaa-and-confidentiality/
LOCATION:online
CATEGORIES:webinar or workshop
END:VEVENT
BEGIN:VEVENT
DTSTART;VALUE=DATE:20250110
DTEND;VALUE=DATE:20250114
DTSTAMP:20260419T071241
CREATED:20241204T231323Z
LAST-MODIFIED:20241204T231323Z
UID:4300001071-1736467200-1736812799@nbhap.org
SUMMARY:CCIT Virtual Training Summit
DESCRIPTION:
URL:https://nbhap.org/event/ccit-virtual-training-summit/
LOCATION:online
END:VEVENT
BEGIN:VEVENT
DTSTART;TZID=America/Los_Angeles:20250108T080000
DTEND;TZID=America/Los_Angeles:20250108T090000
DTSTAMP:20260419T071241
CREATED:20240808T233015Z
LAST-MODIFIED:20240808T233015Z
UID:4300000998-1736323200-1736326800@nbhap.org
SUMMARY:Caring Across Cultures: Suicide Prevention Readiness Training
DESCRIPTION:
URL:https://nbhap.org/event/caring-across-cultures-suicide-prevention-readiness-training-13/
LOCATION:online
CATEGORIES:webinar or workshop
END:VEVENT
BEGIN:VEVENT
DTSTART;TZID=America/Los_Angeles:20241211T080000
DTEND;TZID=America/Los_Angeles:20241211T090000
DTSTAMP:20260419T071241
CREATED:20240808T232437Z
LAST-MODIFIED:20240808T232437Z
UID:4300000991-1733904000-1733907600@nbhap.org
SUMMARY:Caring Across Cultures: Suicide Prevention Readiness Training
DESCRIPTION:
URL:https://nbhap.org/event/caring-across-cultures-suicide-prevention-readiness-training-6/
LOCATION:online
CATEGORIES:webinar or workshop
END:VEVENT
BEGIN:VEVENT
DTSTART;VALUE=DATE:20241211
DTEND;VALUE=DATE:20241212
DTSTAMP:20260419T071241
CREATED:20241023T195039Z
LAST-MODIFIED:20250327T173504Z
UID:4300001063-1733875200-1733961599@nbhap.org
SUMMARY:Attending to Spiritual and Religious Concerns
DESCRIPTION:
URL:https://nbhap.org/event/attending-to-spiritual-and-religious-concerns/
LOCATION:online
CATEGORIES:webinar or workshop
END:VEVENT
BEGIN:VEVENT
DTSTART;VALUE=DATE:20241207
DTEND;VALUE=DATE:20241208
DTSTAMP:20260419T071241
CREATED:20241022T222625Z
LAST-MODIFIED:20241022T222625Z
UID:4300001059-1733529600-1733615999@nbhap.org
SUMMARY:The Science of Addiction
DESCRIPTION:
URL:https://nbhap.org/event/the-science-of-addiction/
LOCATION:online
CATEGORIES:webinar or workshop
END:VEVENT
BEGIN:VEVENT
DTSTART;VALUE=DATE:20241206
DTEND;VALUE=DATE:20241207
DTSTAMP:20260419T071241
CREATED:20241022T222535Z
LAST-MODIFIED:20241022T222535Z
UID:4300001058-1733443200-1733529599@nbhap.org
SUMMARY:Pharmacology of Psychoactive Chemicals: Psychoactive Chemical Use\, Abuse and Dependence
DESCRIPTION:
URL:https://nbhap.org/event/pharmacology-of-psychoactive-chemicals-psychoactive-chemical-use-abuse-and-dependence/
LOCATION:online
CATEGORIES:webinar or workshop
END:VEVENT
BEGIN:VEVENT
DTSTART;VALUE=DATE:20241204
DTEND;VALUE=DATE:20241205
DTSTAMP:20260419T071241
CREATED:20241023T194937Z
LAST-MODIFIED:20250327T173521Z
UID:4300001062-1733270400-1733356799@nbhap.org
SUMMARY:Religion\, Spirituality & Wellbeing
DESCRIPTION:
URL:https://nbhap.org/event/religion-spirituality-wellbeing/
LOCATION:online
CATEGORIES:webinar or workshop
END:VEVENT
BEGIN:VEVENT
DTSTART;VALUE=DATE:20241121
DTEND;VALUE=DATE:20241122
DTSTAMP:20260419T071241
CREATED:20241022T221122Z
LAST-MODIFIED:20241022T221122Z
UID:4300001053-1732147200-1732233599@nbhap.org
SUMMARY:Adult Treatment Provider Training
DESCRIPTION:
URL:https://nbhap.org/event/adult-treatment-provider-training-2/
LOCATION:online
CATEGORIES:webinar or workshop
END:VEVENT
END:VCALENDAR