BEGIN:VCALENDAR
VERSION:2.0
PRODID:-//National Behavioral Health Association of Providers (NBHAP) - ECPv6.15.20//NONSGML v1.0//EN
CALSCALE:GREGORIAN
METHOD:PUBLISH
X-ORIGINAL-URL:https://nbhap.org
X-WR-CALDESC:Events for National Behavioral Health Association of Providers (NBHAP)
REFRESH-INTERVAL;VALUE=DURATION:PT1H
X-Robots-Tag:noindex
X-PUBLISHED-TTL:PT1H
BEGIN:VTIMEZONE
TZID:America/Los_Angeles
BEGIN:DAYLIGHT
TZOFFSETFROM:-0800
TZOFFSETTO:-0700
TZNAME:PDT
DTSTART:20220313T100000
END:DAYLIGHT
BEGIN:STANDARD
TZOFFSETFROM:-0700
TZOFFSETTO:-0800
TZNAME:PST
DTSTART:20221106T090000
END:STANDARD
BEGIN:DAYLIGHT
TZOFFSETFROM:-0800
TZOFFSETTO:-0700
TZNAME:PDT
DTSTART:20230312T100000
END:DAYLIGHT
BEGIN:STANDARD
TZOFFSETFROM:-0700
TZOFFSETTO:-0800
TZNAME:PST
DTSTART:20231105T090000
END:STANDARD
BEGIN:DAYLIGHT
TZOFFSETFROM:-0800
TZOFFSETTO:-0700
TZNAME:PDT
DTSTART:20240310T100000
END:DAYLIGHT
BEGIN:STANDARD
TZOFFSETFROM:-0700
TZOFFSETTO:-0800
TZNAME:PST
DTSTART:20241103T090000
END:STANDARD
BEGIN:DAYLIGHT
TZOFFSETFROM:-0800
TZOFFSETTO:-0700
TZNAME:PDT
DTSTART:20250309T100000
END:DAYLIGHT
BEGIN:STANDARD
TZOFFSETFROM:-0700
TZOFFSETTO:-0800
TZNAME:PST
DTSTART:20251102T090000
END:STANDARD
END:VTIMEZONE
BEGIN:VEVENT
DTSTART;VALUE=DATE:20241023
DTEND;VALUE=DATE:20241025
DTSTAMP:20260419T133113
CREATED:20241022T213647Z
LAST-MODIFIED:20241022T213647Z
UID:4300001041-1729641600-1729814399@nbhap.org
SUMMARY:Trauma\, Healing\, and the Ethical Path: A Virtual Pop-Up Training Conference
DESCRIPTION:
URL:https://nbhap.org/event/trauma-healing-and-the-ethical-path-a-virtual-pop-up-training-conference/
LOCATION:online
CATEGORIES:conference or summit
END:VEVENT
BEGIN:VEVENT
DTSTART;VALUE=DATE:20241018
DTEND;VALUE=DATE:20241020
DTSTAMP:20260419T133113
CREATED:20240809T214457Z
LAST-MODIFIED:20240809T214457Z
UID:4300001018-1729209600-1729382399@nbhap.org
SUMMARY:2024 Addiction Medicine Essentials
DESCRIPTION:
URL:https://nbhap.org/event/2024-addiction-medicine-essentials/
LOCATION:online
CATEGORIES:conference or summit
END:VEVENT
BEGIN:VEVENT
DTSTART;TZID=America/Los_Angeles:20241009T080000
DTEND;TZID=America/Los_Angeles:20241009T090000
DTSTAMP:20260419T133113
CREATED:20240808T232327Z
LAST-MODIFIED:20240808T232327Z
UID:4300000990-1728460800-1728464400@nbhap.org
SUMMARY:Caring Across Cultures: Suicide Prevention Readiness Training
DESCRIPTION:
URL:https://nbhap.org/event/caring-across-cultures-suicide-prevention-readiness-training-4/
LOCATION:online
CATEGORIES:webinar or workshop
END:VEVENT
BEGIN:VEVENT
DTSTART;VALUE=DATE:20240926
DTEND;VALUE=DATE:20240928
DTSTAMP:20260419T133113
CREATED:20240402T160347Z
LAST-MODIFIED:20240402T160347Z
UID:4300000950-1727308800-1727481599@nbhap.org
SUMMARY:4th Annual Conference on Precision Psychiatry: Innovation to Implementation
DESCRIPTION:
URL:https://nbhap.org/event/4th-annual-conference-on-precision-psychiatry-innovation-to-implementation/
LOCATION:online
CATEGORIES:conference or summit
END:VEVENT
BEGIN:VEVENT
DTSTART;TZID=America/Los_Angeles:20240925T090000
DTEND;TZID=America/Los_Angeles:20240925T150000
DTSTAMP:20260419T133113
CREATED:20240829T222431Z
LAST-MODIFIED:20240829T222431Z
UID:4300001029-1727254800-1727276400@nbhap.org
SUMMARY:2024 Peer Mentoring Recovery Coaching Annual Collaborative Forum
DESCRIPTION:
URL:https://nbhap.org/event/2024-peer-mentoring-recovery-coaching-annual-collaborative-forum/
LOCATION:online
CATEGORIES:webinar or workshop
END:VEVENT
BEGIN:VEVENT
DTSTART;TZID=America/Los_Angeles:20240925T080000
DTEND;TZID=America/Los_Angeles:20240925T090000
DTSTAMP:20260419T133113
CREATED:20240808T232252Z
LAST-MODIFIED:20240808T232252Z
UID:4300000988-1727251200-1727254800@nbhap.org
SUMMARY:Caring Across Cultures: Suicide Prevention Readiness Training
DESCRIPTION:
URL:https://nbhap.org/event/caring-across-cultures-suicide-prevention-readiness-training-3/
LOCATION:online
CATEGORIES:webinar or workshop
END:VEVENT
BEGIN:VEVENT
DTSTART;TZID=America/Los_Angeles:20240913T080000
DTEND;TZID=America/Los_Angeles:20240913T160000
DTSTAMP:20260419T133113
CREATED:20240829T221959Z
LAST-MODIFIED:20240829T221959Z
UID:4300001028-1726214400-1726243200@nbhap.org
SUMMARY:MAT and Co-Occurring Disorders: Integrated Approaches to Treatment
DESCRIPTION:
URL:https://nbhap.org/event/mat-and-co-occurring-disorders-integrated-approaches-to-treatment/
LOCATION:online
CATEGORIES:webinar or workshop
END:VEVENT
BEGIN:VEVENT
DTSTART;TZID=America/Los_Angeles:20240912T080000
DTEND;TZID=America/Los_Angeles:20240912T150000
DTSTAMP:20260419T133113
CREATED:20240822T231720Z
LAST-MODIFIED:20240822T231720Z
UID:4300001023-1726128000-1726153200@nbhap.org
SUMMARY:167th Meeting of the National Advisory Council on Alcohol Abuse and Alcoholism
DESCRIPTION:
URL:https://nbhap.org/event/167th-meeting-of-the-national-advisory-council-on-alcohol-abuse-and-alcoholism/
LOCATION:online
CATEGORIES:annual meeting
END:VEVENT
BEGIN:VEVENT
DTSTART;TZID=America/Los_Angeles:20240911T080000
DTEND;TZID=America/Los_Angeles:20240911T090000
DTSTAMP:20260419T133113
CREATED:20240808T232201Z
LAST-MODIFIED:20240808T232201Z
UID:4300000987-1726041600-1726045200@nbhap.org
SUMMARY:Caring Across Cultures: Suicide Prevention Readiness Training
DESCRIPTION:
URL:https://nbhap.org/event/caring-across-cultures-suicide-prevention-readiness-training-2/
LOCATION:online
CATEGORIES:webinar or workshop
END:VEVENT
BEGIN:VEVENT
DTSTART;VALUE=DATE:20240826
DTEND;VALUE=DATE:20240831
DTSTAMP:20260419T133113
CREATED:20240808T152807Z
LAST-MODIFIED:20240808T152807Z
UID:4300000985-1724630400-1725062399@nbhap.org
SUMMARY:2024 Annual New England School of Best Practices in Addiction Services
DESCRIPTION:
URL:https://nbhap.org/event/2024-annual-new-england-school-of-best-practices-in-addiction-services/
LOCATION:online
CATEGORIES:conference or summit
END:VEVENT
BEGIN:VEVENT
DTSTART;TZID=America/Los_Angeles:20240814T080000
DTEND;TZID=America/Los_Angeles:20240814T090000
DTSTAMP:20260419T133113
CREATED:20240808T232121Z
LAST-MODIFIED:20240808T232121Z
UID:4300000986-1723622400-1723626000@nbhap.org
SUMMARY:Caring Across Cultures: Suicide Prevention Readiness Training
DESCRIPTION:
URL:https://nbhap.org/event/caring-across-cultures-suicide-prevention-readiness-training/
LOCATION:online
CATEGORIES:webinar or workshop
END:VEVENT
BEGIN:VEVENT
DTSTART;TZID=America/Los_Angeles:20240529T100000
DTEND;TZID=America/Los_Angeles:20240529T110000
DTSTAMP:20260419T133113
CREATED:20240411T192242Z
LAST-MODIFIED:20240411T192329Z
UID:4300000959-1716976800-1716980400@nbhap.org
SUMMARY:Webinar: 2024 Mid-Year Advocacy Update
DESCRIPTION:This webinar will look at the progress being made in Washington D.C. as we continue to advocate for advances in SUD policy. Our priorities continue to be a stronger workforce\, better reimbursement options\, expanded medication access\, and increased recovery support services.
URL:https://nbhap.org/event/webinar-2024-mid-year-advocacy-update/
LOCATION:online
CATEGORIES:NBHAP event,webinar or workshop
ATTACH;FMTTYPE=image/png:https://nbhap.org/wp-content/uploads/webinar-2024-Mid-Year-Advocacy-Update.png
ORGANIZER;CN="NBHAP (National Behavioral Health Association of Providers)":MAILTO:info@nbhap.org
END:VEVENT
BEGIN:VEVENT
DTSTART;VALUE=DATE:20240513
DTEND;VALUE=DATE:20240514
DTSTAMP:20260419T133113
CREATED:20240325T211137Z
LAST-MODIFIED:20240325T211137Z
UID:4300000945-1715558400-1715644799@nbhap.org
SUMMARY:Rapid Intense Mini Opioid Training Conference
DESCRIPTION:
URL:https://nbhap.org/event/rapid-intense-mini-opioid-training-conference/
LOCATION:online
CATEGORIES:conference or summit
END:VEVENT
BEGIN:VEVENT
DTSTART;VALUE=DATE:20240509
DTEND;VALUE=DATE:20240511
DTSTAMP:20260419T133113
CREATED:20240202T214632Z
LAST-MODIFIED:20240202T214632Z
UID:4300000922-1715212800-1715385599@nbhap.org
SUMMARY:2024 NACBT National Conference
DESCRIPTION:
URL:https://nbhap.org/event/2024-nacbt-national-conference/
LOCATION:online
CATEGORIES:conference or summit
END:VEVENT
BEGIN:VEVENT
DTSTART;TZID=America/Los_Angeles:20240424T100000
DTEND;TZID=America/Los_Angeles:20240424T110000
DTSTAMP:20260419T133113
CREATED:20240306T171944Z
LAST-MODIFIED:20240306T171944Z
UID:4300000938-1713952800-1713956400@nbhap.org
SUMMARY:Webinar: Curriculum Best Practices — How Does Your Program Stack Up?
DESCRIPTION:Is your staff and clients excited about the programs you offer? How are you leveraging evidence-based practices? Is it easy to find\, access\, and share your programing with clients? How are you reducing the time and stress of your staff to document each session? Join us for this 1 CE-based webinar.
URL:https://nbhap.org/event/webinar-curriculum-best-practices-how-does-your-program-stack-up/
LOCATION:online
CATEGORIES:NBHAP event,webinar or workshop
ATTACH;FMTTYPE=image/png:https://nbhap.org/wp-content/uploads/2024_0424-NBHAP-webinar-Curriculum-Best-Practices-main.png
ORGANIZER;CN="NBHAP (National Behavioral Health Association of Providers)":MAILTO:info@nbhap.org
END:VEVENT
BEGIN:VEVENT
DTSTART;VALUE=DATE:20240419
DTEND;VALUE=DATE:20240423
DTSTAMP:20260419T133113
CREATED:20231128T203506Z
LAST-MODIFIED:20231128T203506Z
UID:4300000893-1713484800-1713830399@nbhap.org
SUMMARY:GACA's 39th Spring Conference
DESCRIPTION:
URL:https://nbhap.org/event/gacas-39th-spring-conference/
LOCATION:online
CATEGORIES:conference or summit
END:VEVENT
BEGIN:VEVENT
DTSTART;VALUE=DATE:20240419
DTEND;VALUE=DATE:20240422
DTSTAMP:20260419T133113
CREATED:20240410T155420Z
LAST-MODIFIED:20240410T155420Z
UID:4300000958-1713484800-1713743999@nbhap.org
SUMMARY:2024 Therapeutic + Applied Geek + Gaming Summit (TAGGS)
DESCRIPTION:
URL:https://nbhap.org/event/2024-therapeutic-applied-geek-gaming-summit-taggs/
LOCATION:online
CATEGORIES:conference or summit
ORGANIZER;CN="Geek Therapy":MAILTO:https://geektherapy.org/
END:VEVENT
BEGIN:VEVENT
DTSTART;TZID=America/Los_Angeles:20240410T100000
DTEND;TZID=America/Los_Angeles:20240410T110000
DTSTAMP:20260419T133113
CREATED:20240305T185855Z
LAST-MODIFIED:20240306T172058Z
UID:4300000937-1712743200-1712746800@nbhap.org
SUMMARY:Webinar: Leadership: Is Now a Good Time?
DESCRIPTION:Multitasking used to be a good thing. It meant that we were adept at juggling multiple priorities and landing each one successfully. How do we prioritize that which moves us forward – with our team\, in our professional development and in our lives? Join us for a webinar on executive burnout and clever ways to defeat it.
URL:https://nbhap.org/event/webinar-leadership-is-now-a-good-time/
LOCATION:online
CATEGORIES:NBHAP event,webinar or workshop
ATTACH;FMTTYPE=image/png:https://nbhap.org/wp-content/uploads/webinar-Leadership-Is-Now-a-Good-Time-main.png
ORGANIZER;CN="NBHAP (National Behavioral Health Association of Providers)":MAILTO:info@nbhap.org
END:VEVENT
BEGIN:VEVENT
DTSTART;VALUE=DATE:20240308
DTEND;VALUE=DATE:20240311
DTSTAMP:20260419T133113
CREATED:20231215T231606Z
LAST-MODIFIED:20231215T231606Z
UID:4300000907-1709856000-1710115199@nbhap.org
SUMMARY:Child & Adolescent Psychopharmacology 2024
DESCRIPTION:
URL:https://nbhap.org/event/child-adolescent-psychopharmacology-2024/
LOCATION:online
CATEGORIES:conference or summit
END:VEVENT
BEGIN:VEVENT
DTSTART;TZID=America/Los_Angeles:20240228T100000
DTEND;TZID=America/Los_Angeles:20240228T110000
DTSTAMP:20260419T133113
CREATED:20240104T232510Z
LAST-MODIFIED:20240104T232510Z
UID:4300000917-1709114400-1709118000@nbhap.org
SUMMARY:Webinar: Understanding Chemsex Addiction
DESCRIPTION:What is chemsex? How is it treated? And how can we as a community help in addressing problematic substance abuse issues that are sexually driven? Join us for this 1 CE-based webinar.
URL:https://nbhap.org/event/webinar-understanding-chemsex-addiction/
LOCATION:online
CATEGORIES:NBHAP event,webinar or workshop
ATTACH;FMTTYPE=image/png:https://nbhap.org/wp-content/uploads/2024_0224-NBHAP-webinar-Understanding-Chemsex-Addiction.png
ORGANIZER;CN="NBHAP (National Behavioral Health Association of Providers)":MAILTO:info@nbhap.org
END:VEVENT
BEGIN:VEVENT
DTSTART;TZID=America/Los_Angeles:20240214T100000
DTEND;TZID=America/Los_Angeles:20240214T110000
DTSTAMP:20260419T133113
CREATED:20240108T194411Z
LAST-MODIFIED:20240108T194411Z
UID:4300000918-1707904800-1707908400@nbhap.org
SUMMARY:Webinar: Opportunities in Recovery Residence Housing
DESCRIPTION:Recovery residences are an integral part of the recovery continuum. They not only provide supportive environments for those in recovery\, but they represent promising opportunities for individuals to relearn important life skills that contribute towards sustained recovery. With growing demand for recovery residences\, this space is seeing growth and opportunities have emerged for entrepreneurs interested in contributing meaningfully to the recovery sector. In this webinar\, attendees will learn about emerging opportunities in this space as well as gain a basic understanding for what it means to build a residence that contributes meaningfully to an individual’s recovery.
URL:https://nbhap.org/event/webinar-opportunities-in-recovery-residence-housing/
LOCATION:online
CATEGORIES:NBHAP event,webinar or workshop
ATTACH;FMTTYPE=image/png:https://nbhap.org/wp-content/uploads/2024_0214-Opportunities-in-Recovery-Residence-Housing-main.png
ORGANIZER;CN="NBHAP (National Behavioral Health Association of Providers)":MAILTO:info@nbhap.org
END:VEVENT
BEGIN:VEVENT
DTSTART;VALUE=DATE:20240208
DTEND;VALUE=DATE:20240210
DTSTAMP:20260419T133113
CREATED:20231221T172037Z
LAST-MODIFIED:20231221T172037Z
UID:4300000913-1707350400-1707523199@nbhap.org
SUMMARY:2024 Engagement in the Black Community
DESCRIPTION:
URL:https://nbhap.org/event/2024-engagement-in-the-black-community/
LOCATION:online
CATEGORIES:conference or summit
END:VEVENT
BEGIN:VEVENT
DTSTART;VALUE=DATE:20240129
DTEND;VALUE=DATE:20240130
DTSTAMP:20260419T133113
CREATED:20231206T235732Z
LAST-MODIFIED:20231206T235732Z
UID:4300000904-1706486400-1706572799@nbhap.org
SUMMARY:2024 SAMHSA's Prevention Day
DESCRIPTION:
URL:https://nbhap.org/event/2024-samhsas-prevention-day/
LOCATION:online
CATEGORIES:observance
END:VEVENT
BEGIN:VEVENT
DTSTART;TZID=America/Los_Angeles:20231213T130000
DTEND;TZID=America/Los_Angeles:20231213T140000
DTSTAMP:20260419T133113
CREATED:20230824T175032Z
LAST-MODIFIED:20230829T171654Z
UID:4300000881-1702472400-1702476000@nbhap.org
SUMMARY:Webinar: Mandated Reporting: What is It and How Does it Apply to Me?
DESCRIPTION:Buried within many statutes\, regulations and contracts are provisions that require that SUD facilities affirmatively and timely self-report certain events and occurrences. This webinar will go over significant reporting requirements for SUD facilities\, including reporting adverse events such as patient injuries to government agencies\, identified overpayments to payors\, and much more. Free CE if you attend live!
URL:https://nbhap.org/event/webinar-mandated-reporting/
LOCATION:online
CATEGORIES:NBHAP event,webinar or workshop
ATTACH;FMTTYPE=image/png:https://nbhap.org/wp-content/uploads/2023_1011-webinar-Mandated-Reporting.png
ORGANIZER;CN="NBHAP (National Behavioral Health Association of Providers)":MAILTO:info@nbhap.org
END:VEVENT
BEGIN:VEVENT
DTSTART;TZID=America/Los_Angeles:20231129T100000
DTEND;TZID=America/Los_Angeles:20231129T110000
DTSTAMP:20260419T133113
CREATED:20230814T154619Z
LAST-MODIFIED:20230814T154619Z
UID:4300000878-1701252000-1701255600@nbhap.org
SUMMARY:Webinar: Serious Business: Therapeutic Use of Humor
DESCRIPTION:The therapeutic effectiveness of humor is not a newly conceived idea\, with references dating back to ancient Greece and the Bible (Proverbs 17:22)\, to the real-life Patch Adams and continuing through today with recovery-focused comedians\, the most notable of whom is Mark Lundholm. Well-timed humor can also be effective in the overall development of the therapeutic relationship and has a positive effect on learning\, with some examples in this webinar itself and allowing for the participants to offer their own perspectives. Free CE if you attend live!
URL:https://nbhap.org/event/webinar-serious-business-therapeutic-use-of-humor/
LOCATION:online
CATEGORIES:NBHAP event,webinar or workshop
ATTACH;FMTTYPE=image/png:https://nbhap.org/wp-content/uploads/2023_1129-webinar-Serious-Business-main.png
ORGANIZER;CN="NBHAP (National Behavioral Health Association of Providers)":MAILTO:info@nbhap.org
END:VEVENT
BEGIN:VEVENT
DTSTART;TZID=America/Los_Angeles:20231115T100000
DTEND;TZID=America/Los_Angeles:20231115T110000
DTSTAMP:20260419T133113
CREATED:20230823T194115Z
LAST-MODIFIED:20230823T194115Z
UID:4300000880-1700042400-1700046000@nbhap.org
SUMMARY:Webinar: Fall 2023 Advocacy Update
DESCRIPTION:Andrew Kessler gives an update as to what NBHAP has been up to as well as general advocacy information for the behavioral health and addiction treatment industry. Free CE if you attend live!
URL:https://nbhap.org/event/webinar-fall-2023-advocacy-update/
LOCATION:online
CATEGORIES:NBHAP event,webinar or workshop
ATTACH;FMTTYPE=image/png:https://nbhap.org/wp-content/uploads/2023_1115-Fall-2023-Advocacy-Update.png
ORGANIZER;CN="NBHAP (National Behavioral Health Association of Providers)":MAILTO:info@nbhap.org
END:VEVENT
BEGIN:VEVENT
DTSTART;TZID=America/Los_Angeles:20231101T100000
DTEND;TZID=America/Los_Angeles:20231101T110000
DTSTAMP:20260419T133113
CREATED:20230823T192244Z
LAST-MODIFIED:20230823T192253Z
UID:4300000879-1698832800-1698836400@nbhap.org
SUMMARY:Webinar: The Devastating Impact of ACEs
DESCRIPTION:Developing a trauma-informed mindset is critical to help others deal with a world filled with stress. In this webinar\, you will get an in-depth look at toxic stress and Adverse Childhood Experiences (ACEs) and the research that has been done. The research will show the impact of toxic stress on the development of the brain in children and how to build resilience in children to help overcome that trauma. Free CE if you attend live!
URL:https://nbhap.org/event/webinar-the-devastating-impact-of-aces/
LOCATION:online
CATEGORIES:NBHAP event,webinar or workshop
ATTACH;FMTTYPE=image/png:https://nbhap.org/wp-content/uploads/2023_1101-webinar-The-Devastating-Impact-of-ACEs.png
ORGANIZER;CN="NBHAP (National Behavioral Health Association of Providers)":MAILTO:info@nbhap.org
END:VEVENT
BEGIN:VEVENT
DTSTART;VALUE=DATE:20231026
DTEND;VALUE=DATE:20231028
DTSTAMP:20260419T133113
CREATED:20230320T221705Z
LAST-MODIFIED:20230320T221705Z
UID:4300000847-1698278400-1698451199@nbhap.org
SUMMARY:Sana Symposium 2023
DESCRIPTION:
URL:https://nbhap.org/event/sana-symposium-2023/
LOCATION:online
CATEGORIES:conference or summit
END:VEVENT
BEGIN:VEVENT
DTSTART;VALUE=DATE:20231013
DTEND;VALUE=DATE:20231015
DTSTAMP:20260419T133113
CREATED:20230706T202726Z
LAST-MODIFIED:20230706T202726Z
UID:4300000867-1697155200-1697327999@nbhap.org
SUMMARY:Addiction Medicine Essentials 2023
DESCRIPTION:
URL:https://nbhap.org/event/addiction-medicine-essentials-2023/
LOCATION:online
CATEGORIES:conference or summit
END:VEVENT
BEGIN:VEVENT
DTSTART;VALUE=DATE:20231006
DTEND;VALUE=DATE:20231007
DTSTAMP:20260419T133113
CREATED:20230912T161857Z
LAST-MODIFIED:20230912T162355Z
UID:4300000884-1696550400-1696636799@nbhap.org
SUMMARY:ConnectED 2023
DESCRIPTION:
URL:https://nbhap.org/event/connected-2023/
LOCATION:online
CATEGORIES:conference or summit
END:VEVENT
END:VCALENDAR