BEGIN:VCALENDAR
VERSION:2.0
PRODID:-//National Behavioral Health Association of Providers (NBHAP) - ECPv6.15.20//NONSGML v1.0//EN
CALSCALE:GREGORIAN
METHOD:PUBLISH
X-ORIGINAL-URL:https://nbhap.org
X-WR-CALDESC:Events for National Behavioral Health Association of Providers (NBHAP)
REFRESH-INTERVAL;VALUE=DURATION:PT1H
X-Robots-Tag:noindex
X-PUBLISHED-TTL:PT1H
BEGIN:VTIMEZONE
TZID:America/Los_Angeles
BEGIN:DAYLIGHT
TZOFFSETFROM:-0800
TZOFFSETTO:-0700
TZNAME:PDT
DTSTART:20210314T100000
END:DAYLIGHT
BEGIN:STANDARD
TZOFFSETFROM:-0700
TZOFFSETTO:-0800
TZNAME:PST
DTSTART:20211107T090000
END:STANDARD
BEGIN:DAYLIGHT
TZOFFSETFROM:-0800
TZOFFSETTO:-0700
TZNAME:PDT
DTSTART:20220313T100000
END:DAYLIGHT
BEGIN:STANDARD
TZOFFSETFROM:-0700
TZOFFSETTO:-0800
TZNAME:PST
DTSTART:20221106T090000
END:STANDARD
BEGIN:DAYLIGHT
TZOFFSETFROM:-0800
TZOFFSETTO:-0700
TZNAME:PDT
DTSTART:20230312T100000
END:DAYLIGHT
BEGIN:STANDARD
TZOFFSETFROM:-0700
TZOFFSETTO:-0800
TZNAME:PST
DTSTART:20231105T090000
END:STANDARD
BEGIN:DAYLIGHT
TZOFFSETFROM:-0800
TZOFFSETTO:-0700
TZNAME:PDT
DTSTART:20240310T100000
END:DAYLIGHT
BEGIN:STANDARD
TZOFFSETFROM:-0700
TZOFFSETTO:-0800
TZNAME:PST
DTSTART:20241103T090000
END:STANDARD
END:VTIMEZONE
BEGIN:VEVENT
DTSTART;TZID=America/Los_Angeles:20230920T100000
DTEND;TZID=America/Los_Angeles:20230920T110000
DTSTAMP:20260419T183440
CREATED:20230807T182023Z
LAST-MODIFIED:20230807T182052Z
UID:4300000875-1695204000-1695207600@nbhap.org
SUMMARY:Webinar: Children of Parental Addiction
DESCRIPTION:Children of parental addiction live with trauma and chronic stress. In this webinar\, Wendy Wade will show how to understand needs and nurture relationships. Free CE if you attend live!
URL:https://nbhap.org/event/webinar-children-of-parental-addiction/
LOCATION:online
CATEGORIES:NBHAP event
ATTACH;FMTTYPE=image/png:https://nbhap.org/wp-content/uploads/2023_0920-webinar-Children-of-Parental-Addiction-main.png
ORGANIZER;CN="NBHAP (National Behavioral Health Association of Providers)":MAILTO:info@nbhap.org
END:VEVENT
BEGIN:VEVENT
DTSTART;VALUE=DATE:20230831
DTEND;VALUE=DATE:20230901
DTSTAMP:20260419T183440
CREATED:20230712T204739Z
LAST-MODIFIED:20230712T204739Z
UID:4300000873-1693440000-1693526399@nbhap.org
SUMMARY:International Overdose Awareness Day 2023
DESCRIPTION:The IOAD 2023 theme “Recognizing those people who go unseen” is about acknowledging people in our communities who are affected by overdose but might go unseen in the crisis.
URL:https://nbhap.org/event/international-overdose-awareness-day-2023/
LOCATION:online
CATEGORIES:observance
END:VEVENT
BEGIN:VEVENT
DTSTART;VALUE=DATE:20230828
DTEND;VALUE=DATE:20230902
DTSTAMP:20260419T183440
CREATED:20230803T154507Z
LAST-MODIFIED:20230803T154507Z
UID:4300000874-1693180800-1693612799@nbhap.org
SUMMARY:Annual New England School of Best Practices in Addiction Services 2023
DESCRIPTION:
URL:https://nbhap.org/event/annual-new-england-school-of-best-practices-in-addiction-services-2023/
LOCATION:online
CATEGORIES:conference or summit
END:VEVENT
BEGIN:VEVENT
DTSTART;TZID=America/Los_Angeles:20230809T100000
DTEND;TZID=America/Los_Angeles:20230809T110000
DTSTAMP:20260419T183440
CREATED:20230626T190758Z
LAST-MODIFIED:20230626T190806Z
UID:4300000864-1691575200-1691578800@nbhap.org
SUMMARY:Webinar: Confidentiality Matters: HIPAA Training with a Focus on Behavioral Health
DESCRIPTION:This webinar emphasizes the importance of developing a strong HIPAA compliance program for addiction treatment programs\, as well as the basics of HIPAA compliance\, Title 42 Part 2\, and best practices for implementing these regulations in care settings\, HIPAA security safeguards\, surviving the enforcement process\, and fostering a culture of compliance.
URL:https://nbhap.org/event/webinar-confidentiality-matters-hipaa-training-with-a-focus-on-behavioral-health/
LOCATION:online
CATEGORIES:NBHAP event,webinar or workshop
ATTACH;FMTTYPE=image/png:https://nbhap.org/wp-content/uploads/2023_0809-webinar-Confidentiality-Matters-HIPAA-WordPress-main.png
ORGANIZER;CN="NBHAP (National Behavioral Health Association of Providers)":MAILTO:info@nbhap.org
END:VEVENT
BEGIN:VEVENT
DTSTART;TZID=America/Los_Angeles:20230621T100000
DTEND;TZID=America/Los_Angeles:20230621T113000
DTSTAMP:20260419T183440
CREATED:20230306T200831Z
LAST-MODIFIED:20230420T205603Z
UID:4300000836-1687341600-1687347000@nbhap.org
SUMMARY:Webinar: The Brain of Addiction: For Loved Ones
DESCRIPTION:Dr. Bob Weathers\, addiction educator and recovery coach\, shares over forty years of clinical experience and research on navigating recovery from addiction. He addresses\, in plain English\, key questions that most often arise in working with the loved ones of individuals seeking recovery in this CE-based webinar. \nFree to attend\, and 1.5 CEs provided to those who attend live.
URL:https://nbhap.org/event/webinar-a-glimpse-behind-walls-responding-to-sex-trafficking-post-incarceration/
LOCATION:online
CATEGORIES:NBHAP event,webinar or workshop
ATTACH;FMTTYPE=image/png:https://nbhap.org/wp-content/uploads/2023_0621-webinar-The-Brain-of-Addiction-For-Loved-Ones-main.png
ORGANIZER;CN="NBHAP (National Behavioral Health Association of Providers)":MAILTO:info@nbhap.org
END:VEVENT
BEGIN:VEVENT
DTSTART;TZID=America/Los_Angeles:20230531T100000
DTEND;TZID=America/Los_Angeles:20230531T110000
DTSTAMP:20260419T183440
CREATED:20230412T181516Z
LAST-MODIFIED:20230412T181516Z
UID:4300000850-1685527200-1685530800@nbhap.org
SUMMARY:Webinar: he Shifting SUD Policy Landscape
DESCRIPTION:2023 has brought with it a shift in the SUD policy landscape. Learn more about NBHAP’s advocacy work and what’s been happening in this CE-based webinar. \nFree to attend\, and 1 CE provided to those who attend live.
URL:https://nbhap.org/event/webinar-he-shifting-sud-policy-landscape/
LOCATION:online
CATEGORIES:NBHAP event,webinar or workshop
ATTACH;FMTTYPE=image/png:https://nbhap.org/wp-content/uploads/2023_0531-webinar-The-Shifting-SUD-Policy-Landscape-WordPress-main.png
ORGANIZER;CN="NBHAP (National Behavioral Health Association of Providers)":MAILTO:info@nbhap.org
END:VEVENT
BEGIN:VEVENT
DTSTART;TZID=America/Los_Angeles:20230517T093000
DTEND;TZID=America/Los_Angeles:20230517T103000
DTSTAMP:20260419T183440
CREATED:20230322T191323Z
LAST-MODIFIED:20230322T191508Z
UID:4300000849-1684315800-1684319400@nbhap.org
SUMMARY:Webinar: SUD Patient Records & Changing Federal Confidentiality Regulations
DESCRIPTION:This one-hour CE webinar will provide participants with a summative review of the changes to 42 CFR Part 2 regulations\, with a special emphasis on how the recent changes both align with and differ from other related federal privacy regulations (HIPAA\, the HITECH Act\, and the CARES Act). \nFree to attend\, and 1 CE provided to those who attend live.
URL:https://nbhap.org/event/webinar-sud-patient-records-changing-federal-confidentiality-regulations/
LOCATION:online
CATEGORIES:NBHAP event,webinar or workshop
ATTACH;FMTTYPE=image/png:https://nbhap.org/wp-content/uploads/2023_0517-webinar-SUD-Patient-Records-main.png
ORGANIZER;CN="NBHAP (National Behavioral Health Association of Providers)":MAILTO:info@nbhap.org
END:VEVENT
BEGIN:VEVENT
DTSTART;VALUE=DATE:20230511
DTEND;VALUE=DATE:20230514
DTSTAMP:20260419T183440
CREATED:20220519T002014Z
LAST-MODIFIED:20220519T002052Z
UID:4300000759-1683763200-1684022399@nbhap.org
SUMMARY:Psychiatry Summit
DESCRIPTION:Join fellow healthcare professionals from around the world for the Psychiatry Summit\, which sets the standard for timely\, unbiased\, evidence-based education from the world’s leading experts!
URL:https://nbhap.org/event/psychiatry-summit-2023/
LOCATION:online
END:VEVENT
BEGIN:VEVENT
DTSTART;VALUE=DATE:20230511
DTEND;VALUE=DATE:20230513
DTSTAMP:20260419T183440
CREATED:20230418T172620Z
LAST-MODIFIED:20230418T172620Z
UID:4300000855-1683763200-1683935999@nbhap.org
SUMMARY:NACBT National Conference
DESCRIPTION:
URL:https://nbhap.org/event/nacbt-national-conference/
LOCATION:online
CATEGORIES:conference or summit
END:VEVENT
BEGIN:VEVENT
DTSTART;VALUE=DATE:20230511
DTEND;VALUE=DATE:20230512
DTSTAMP:20260419T183440
CREATED:20230309T202840Z
LAST-MODIFIED:20230309T202840Z
UID:4300000846-1683763200-1683849599@nbhap.org
SUMMARY:6th Annual Older Adult Mental Health Awareness Day Symposium
DESCRIPTION:
URL:https://nbhap.org/event/6th-annual-older-adult-mental-health-awareness-day-symposium/
LOCATION:online
END:VEVENT
BEGIN:VEVENT
DTSTART;VALUE=DATE:20230421
DTEND;VALUE=DATE:20230425
DTSTAMP:20260419T183440
CREATED:20221213T183423Z
LAST-MODIFIED:20221213T183436Z
UID:4300000806-1682035200-1682380799@nbhap.org
SUMMARY:GACA's Spring Conference 2023
DESCRIPTION:Speaker proposals due 01/15/23.
URL:https://nbhap.org/event/gacas-spring-conference-2023/
LOCATION:online
CATEGORIES:conference or summit
END:VEVENT
BEGIN:VEVENT
DTSTART;VALUE=DATE:20230414
DTEND;VALUE=DATE:20230417
DTSTAMP:20260419T183440
CREATED:20230302T184651Z
LAST-MODIFIED:20230302T184651Z
UID:4300000830-1681430400-1681689599@nbhap.org
SUMMARY:Spring Pop-Up Virtual Conference 2023
DESCRIPTION:
URL:https://nbhap.org/event/spring-pop-up-virtual-conference-2023/
LOCATION:online
CATEGORIES:conference or summit
END:VEVENT
BEGIN:VEVENT
DTSTART;TZID=America/Los_Angeles:20230214T100000
DTEND;TZID=America/Los_Angeles:20230214T110000
DTSTAMP:20260419T183440
CREATED:20230105T173741Z
LAST-MODIFIED:20230105T173741Z
UID:4300000813-1676368800-1676372400@nbhap.org
SUMMARY:Webinar: Beyond Sobriety: How the Recovery Capital Index Supports Clients\, Practitioners and Organizational Outcomes
DESCRIPTION:The Recovery Capital Index (RCI) is becoming the defacto standard for outcomes measurement across the industry. Delivered with simple\, ubiquitous technology\, it is being used to measure and improve outcomes\, and scale communication with your people. Learn about the Recovery Capital Index (RCI) and how it is delivered in this CE-based webinar. \nFree to attend\, and 1 CE provided to those who attend live.
URL:https://nbhap.org/event/webinar-beyond-sobriety-how-the-recovery-capital-index-supports-clients-practitioners-and-organizational-outcomes/
LOCATION:online
CATEGORIES:NBHAP event,webinar or workshop
ATTACH;FMTTYPE=image/png:https://nbhap.org/wp-content/uploads/2023_0214-Beyond-Sobriety-webinar-main.png
ORGANIZER;CN="NBHAP (National Behavioral Health Association of Providers)":MAILTO:info@nbhap.org
END:VEVENT
BEGIN:VEVENT
DTSTART;VALUE=DATE:20230209
DTEND;VALUE=DATE:20230211
DTSTAMP:20260419T183440
CREATED:20221213T181551Z
LAST-MODIFIED:20221213T181551Z
UID:4300000802-1675900800-1676073599@nbhap.org
SUMMARY:Engagement in the Black Community 2023
DESCRIPTION:
URL:https://nbhap.org/event/engagement-in-the-black-community-2023/
LOCATION:online
CATEGORIES:conference or summit
END:VEVENT
BEGIN:VEVENT
DTSTART;TZID=America/Los_Angeles:20230110T100000
DTEND;TZID=America/Los_Angeles:20230110T110000
DTSTAMP:20260419T183440
CREATED:20221116T185756Z
LAST-MODIFIED:20221116T185846Z
UID:4300000790-1673344800-1673348400@nbhap.org
SUMMARY:Webinar: Being “SMART” About Treatment Approaches to Harm Reduction
DESCRIPTION:This webinar will help participants understand the SMART recovery approach to behavioral change. \nFree to attend\, and 1 CE provided to those who attend live.
URL:https://nbhap.org/event/webinar-being-smart-about-treatment-approaches-to-harm-reduction/
LOCATION:online
CATEGORIES:NBHAP event,webinar or workshop
ATTACH;FMTTYPE=image/png:https://nbhap.org/wp-content/uploads/webinar-Being-SMART-About-Treatment-Approaches-to-Harm-Reduction-main.png
ORGANIZER;CN="NBHAP (National Behavioral Health Association of Providers)":MAILTO:info@nbhap.org
END:VEVENT
BEGIN:VEVENT
DTSTART;TZID=America/Los_Angeles:20221220T100000
DTEND;TZID=America/Los_Angeles:20221220T110000
DTSTAMP:20260419T183440
CREATED:20221116T185514Z
LAST-MODIFIED:20221116T185749Z
UID:4300000789-1671530400-1671534000@nbhap.org
SUMMARY:Webinar: Maximizing Revenue and Outcomes
DESCRIPTION:While compliance can be measured easily\, organizational health cannot. In this CE-based webinar\, you will learn how to maximize outcomes through organizational health\, compliance\, and performance improvement. \nFree to attend\, and 1 CE provided to those who attend live.
URL:https://nbhap.org/event/webinar-maximizing-revenue-and-outcomes/
LOCATION:online
CATEGORIES:NBHAP event,webinar or workshop
ATTACH;FMTTYPE=image/png:https://nbhap.org/wp-content/uploads/Maximizing-Revenue-and-Outcomes-WordPress-event-main-image-400x250-1.png
ORGANIZER;CN="NBHAP (National Behavioral Health Association of Providers)":MAILTO:info@nbhap.org
END:VEVENT
BEGIN:VEVENT
DTSTART;TZID=America/Los_Angeles:20221122T100000
DTEND;TZID=America/Los_Angeles:20221122T110000
DTSTAMP:20260419T183440
CREATED:20221103T184242Z
LAST-MODIFIED:20221103T184242Z
UID:4300000788-1669111200-1669114800@nbhap.org
SUMMARY:7 Best Ways to Reduce AMA/ACA During the Holidays and what Patients Wish Clinicians Knew
DESCRIPTION:With the holidays right around the corner\, AMA/ACA tends to be a rising issue with Behavioral Health centers during the holidays. Tune in while deep diving into closing the loop with the client and patient involvement with their treatment journey as we identify what works and what doesn’t within practices and provide techniques that improve patient retention scores. In this webinar\, we will share what works best for providers and practices with key strategies that will take the guesswork out and efficiencies in. \nIncludes an expert panel\, tips on improving the stay\, use of therapy to discourage an AMA\, and more. \n• Creating an environment to increase patient contentment\n• Improving patient’s recovery journey of care\n• Strategies for reducing AMA\n• Therapy techniques to discourage an AMA\n• Tips for helping patients during the holidays\n• Panelists share stories on client care during the holidays\n• Tools to improve the process by minimizing AMA/ACA
URL:https://nbhap.org/event/7-best-ways-to-reduce-ama-aca-during-the-holidays-and-what-patients-wish-clinicians-knew/
LOCATION:online
CATEGORIES:partner event,webinar or workshop
END:VEVENT
BEGIN:VEVENT
DTSTART;VALUE=DATE:20221107
DTEND;VALUE=DATE:20221119
DTSTAMP:20260419T183440
CREATED:20220512T201756Z
LAST-MODIFIED:20220512T203953Z
UID:4300000749-1667779200-1668815999@nbhap.org
SUMMARY:Behavioral Health Peer Support Training
DESCRIPTION:The Behavioral Health Peer Support training is an innovative new approach to healing people’s lives that is unlike any other training. Utilizing a dynamic approach to learning that blends both process and content\, this training satisfies education requirements for the Certified Mental Health Peer Credential and SUD Peer Recovery Mentor Credential.
URL:https://nbhap.org/event/behavioral-health-peer-support-training-110722/
LOCATION:online
CATEGORIES:partner event
END:VEVENT
BEGIN:VEVENT
DTSTART;VALUE=DATE:20221102
DTEND;VALUE=DATE:20221105
DTSTAMP:20260419T183440
CREATED:20220120T213603Z
LAST-MODIFIED:20220418T221544Z
UID:4300000591-1667347200-1667606399@nbhap.org
SUMMARY:Cocaine\, Meth & Stimulant Summit
DESCRIPTION:The annual Summit boasts 2-tracks that provide focused education for clinical and public health personnel as well as law enforcement and public safety officials. It is the only educational event providing clinical\, law enforcement\, and public safety professionals with practical strategies and solutions to address the country’s stimulant crisis. \nThe session programs and presentations will be tailored to provide stakeholders timely and relevant information for their particular fields. \nSpeaker proposals due 03/01/22.
URL:https://nbhap.org/event/cocaine-meth-stimulant-summit-2022/
LOCATION:online
CATEGORIES:conference or summit
END:VEVENT
BEGIN:VEVENT
DTSTART;VALUE=DATE:20221021
DTEND;VALUE=DATE:20221023
DTSTAMP:20260419T183440
CREATED:20220418T214747Z
LAST-MODIFIED:20220418T214747Z
UID:4300000742-1666310400-1666483199@nbhap.org
SUMMARY:Addiction Medicine Essentials
DESCRIPTION:Addiction Medicine Spring and Fall Conferences provide up-to-date substance use related education\, applicable across general medical as well as addiction specialty practices.
URL:https://nbhap.org/event/addiction-medicine-essentials-2022/
LOCATION:online
CATEGORIES:conference or summit
END:VEVENT
BEGIN:VEVENT
DTSTART;VALUE=DATE:20220831
DTEND;VALUE=DATE:20220901
DTSTAMP:20260419T183440
CREATED:20220518T232948Z
LAST-MODIFIED:20220518T232948Z
UID:4300000752-1661904000-1661990399@nbhap.org
SUMMARY:Overdose Awareness Day 2022
DESCRIPTION:This year the overdose epidemic continues to grow and IOAD continues evolve. Help raise awareness and remember those lost to overdose.
URL:https://nbhap.org/event/overdose-awareness-day-2022/
LOCATION:online
CATEGORIES:observance
END:VEVENT
BEGIN:VEVENT
DTSTART;VALUE=DATE:20220829
DTEND;VALUE=DATE:20220902
DTSTAMP:20260419T183440
CREATED:20220317T185920Z
LAST-MODIFIED:20220317T185920Z
UID:4300000739-1661731200-1662076799@nbhap.org
SUMMARY:Annual New England School of Best Practices in Addiction Services
DESCRIPTION:This multi-day event gives established addiction professionals the opportunity for in-depth study of an area of special interest. The program includes advanced clinical and administrative skilled-based treatment in best practices and evidence-based practices treatment approaches\, as well as a current and emerging best opioid treatment practices\, advanced prevention coursework\, and clinical supervision and management training.
URL:https://nbhap.org/event/annual-new-england-school-of-best-practices-in-addiction-services-2022/
LOCATION:online
CATEGORIES:conference or summit
END:VEVENT
BEGIN:VEVENT
DTSTART;VALUE=DATE:20220823
DTEND;VALUE=DATE:20220826
DTSTAMP:20260419T183440
CREATED:20220419T215257Z
LAST-MODIFIED:20220419T215257Z
UID:4300000746-1661212800-1661471999@nbhap.org
SUMMARY:Positive Culture Framework Training 2022
DESCRIPTION:The Positive Culture Framework is an approach based on research about improving health and safety in communities and organizations. The Framework builds on shared values and beliefs that already exist in a culture to improve health and safety. It addresses key skills (the how)\, steps in a process (the what)\, and the context for doing the work (the where).
URL:https://nbhap.org/event/positive-culture-framework-training-2022/
LOCATION:online
END:VEVENT
BEGIN:VEVENT
DTSTART;VALUE=DATE:20220823
DTEND;VALUE=DATE:20220826
DTSTAMP:20260419T183440
CREATED:20220216T213357Z
LAST-MODIFIED:20220418T221654Z
UID:4300000602-1661212800-1661471999@nbhap.org
SUMMARY:Annual National Prevention Network Conference
DESCRIPTION:The NPN Conference hosts federal\, state and local professionals from the substance abuse prevention field and related disciplines. Speaker proposals due 04/18/22.
URL:https://nbhap.org/event/annual-national-prevention-network-conference-2022/
LOCATION:online
CATEGORIES:conference or summit
END:VEVENT
BEGIN:VEVENT
DTSTART;TZID=America/Los_Angeles:20220816T100000
DTEND;TZID=America/Los_Angeles:20220816T110000
DTSTAMP:20260419T183440
CREATED:20220419T195715Z
LAST-MODIFIED:20220419T195715Z
UID:4300000745-1660644000-1660647600@nbhap.org
SUMMARY:Webinar: EKRA Essentials — What Providers Need to Know
DESCRIPTION:This one-hour CE event will show providers what they need to know about risks\, compliance and enforcement related to the Eliminating Kickbacks in Recovery Act (EKRA) and related laws. \nFree to attend\, and 1 CE provided to those who attend live.
URL:https://nbhap.org/event/webinar-ekra-essentials-what-providers-need-to-know/
LOCATION:online
CATEGORIES:NBHAP event,webinar or workshop
ATTACH;FMTTYPE=image/png:https://nbhap.org/wp-content/uploads/2022_0816-webinar-EKRA-Essentials-main-.png
ORGANIZER;CN="NBHAP (National Behavioral Health Association of Providers)":MAILTO:info@nbhap.org
END:VEVENT
BEGIN:VEVENT
DTSTART;VALUE=DATE:20220811
DTEND;VALUE=DATE:20220813
DTSTAMP:20260419T183440
CREATED:20220414T190124Z
LAST-MODIFIED:20220414T190124Z
UID:4300000623-1660176000-1660348799@nbhap.org
SUMMARY:LGBTQIA2+ Certificate Training
DESCRIPTION:Improve your LGBTQIA2+ friendliness\, education 101\, terminology\, and understanding of history in this online course\, CCAPP’s LGBTQIA2+ Certificate. Earn 12 CEUs. $240 for non-CCAPP members\, $180 for members.
URL:https://nbhap.org/event/lgbtqia2-certificate-training/
LOCATION:online
CATEGORIES:partner event
END:VEVENT
BEGIN:VEVENT
DTSTART;TZID=America/Los_Angeles:20220712T100000
DTEND;TZID=America/Los_Angeles:20220712T110000
DTSTAMP:20260419T183440
CREATED:20220519T205056Z
LAST-MODIFIED:20220519T205056Z
UID:4300000760-1657620000-1657623600@nbhap.org
SUMMARY:Webinar: OMG! What's Next? The Basics of Disaster Preparedness
DESCRIPTION:In this CE-based webinar\, you will learn the basics of disaster preparedness and best practices for implementation within your care settings. \nFree to attend\, and 1 CE provided to those who attend live.
URL:https://nbhap.org/event/webinar-omg-whats-next-the-basics-of-disaster-preparedness/
LOCATION:online
CATEGORIES:NBHAP event,webinar or workshop
ATTACH;FMTTYPE=image/png:https://nbhap.org/wp-content/uploads/2022_0712-BHAP-webinar-The-Basics-of-Disaster-Preparedness-main.png
ORGANIZER;CN="NBHAP (National Behavioral Health Association of Providers)":MAILTO:info@nbhap.org
END:VEVENT
BEGIN:VEVENT
DTSTART;VALUE=DATE:20220623
DTEND;VALUE=DATE:20220625
DTSTAMP:20260419T183440
CREATED:20220418T221016Z
LAST-MODIFIED:20220418T221016Z
UID:4300000743-1655942400-1656115199@nbhap.org
SUMMARY:NJPN Annual Addiction Conference 2022
DESCRIPTION:
URL:https://nbhap.org/event/njpn-annual-addiction-conference-2022/
LOCATION:online
CATEGORIES:conference or summit
END:VEVENT
BEGIN:VEVENT
DTSTART;VALUE=DATE:20220623
DTEND;VALUE=DATE:20220624
DTSTAMP:20260419T183440
CREATED:20220418T214156Z
LAST-MODIFIED:20220418T214217Z
UID:4300000740-1655942400-1656028799@nbhap.org
SUMMARY:Justice\, Equity\, Diversity & Inclusion (JEDI) Summit
DESCRIPTION:
URL:https://nbhap.org/event/ustice-equity-diversity-inclusion-jedi-summit-2022/
LOCATION:online
END:VEVENT
BEGIN:VEVENT
DTSTART;VALUE=DATE:20220609
DTEND;VALUE=DATE:20220612
DTSTAMP:20260419T183440
CREATED:20211018T234034Z
LAST-MODIFIED:20220201T184824Z
UID:4300000534-1654732800-1654991999@nbhap.org
SUMMARY:International Conference on Eating Disorders
DESCRIPTION:
URL:https://nbhap.org/event/international-conference-on-eating-disorders-2022/
LOCATION:online
CATEGORIES:conference or summit
END:VEVENT
END:VCALENDAR