BEGIN:VCALENDAR
VERSION:2.0
PRODID:-//National Behavioral Health Association of Providers (NBHAP) - ECPv6.15.20//NONSGML v1.0//EN
CALSCALE:GREGORIAN
METHOD:PUBLISH
X-ORIGINAL-URL:https://nbhap.org
X-WR-CALDESC:Events for National Behavioral Health Association of Providers (NBHAP)
REFRESH-INTERVAL;VALUE=DURATION:PT1H
X-Robots-Tag:noindex
X-PUBLISHED-TTL:PT1H
BEGIN:VTIMEZONE
TZID:America/Los_Angeles
BEGIN:DAYLIGHT
TZOFFSETFROM:-0800
TZOFFSETTO:-0700
TZNAME:PDT
DTSTART:20200308T100000
END:DAYLIGHT
BEGIN:STANDARD
TZOFFSETFROM:-0700
TZOFFSETTO:-0800
TZNAME:PST
DTSTART:20201101T090000
END:STANDARD
BEGIN:DAYLIGHT
TZOFFSETFROM:-0800
TZOFFSETTO:-0700
TZNAME:PDT
DTSTART:20210314T100000
END:DAYLIGHT
BEGIN:STANDARD
TZOFFSETFROM:-0700
TZOFFSETTO:-0800
TZNAME:PST
DTSTART:20211107T090000
END:STANDARD
BEGIN:DAYLIGHT
TZOFFSETFROM:-0800
TZOFFSETTO:-0700
TZNAME:PDT
DTSTART:20220313T100000
END:DAYLIGHT
BEGIN:STANDARD
TZOFFSETFROM:-0700
TZOFFSETTO:-0800
TZNAME:PST
DTSTART:20221106T090000
END:STANDARD
BEGIN:DAYLIGHT
TZOFFSETFROM:-0800
TZOFFSETTO:-0700
TZNAME:PDT
DTSTART:20230312T100000
END:DAYLIGHT
BEGIN:STANDARD
TZOFFSETFROM:-0700
TZOFFSETTO:-0800
TZNAME:PST
DTSTART:20231105T090000
END:STANDARD
END:VTIMEZONE
BEGIN:VEVENT
DTSTART;VALUE=DATE:20220606
DTEND;VALUE=DATE:20220611
DTSTAMP:20260419T234959
CREATED:20220317T185820Z
LAST-MODIFIED:20220317T185820Z
UID:4300000738-1654473600-1654905599@nbhap.org
SUMMARY:Annual New England School of Addiction and Prevention Studies
DESCRIPTION:The New England School of Addiction and Prevention Studies\, commonly called Summer School\, is a multi-day intensive experience for participants to further their knowledge\, skills\, and experience in the field of substance use disorder services through in-depth coursework.
URL:https://nbhap.org/event/annual-new-england-school-of-addiction-and-prevention-studies-2022/
LOCATION:online
CATEGORIES:conference or summit
END:VEVENT
BEGIN:VEVENT
DTSTART;TZID=America/Los_Angeles:20220517T100000
DTEND;TZID=America/Los_Angeles:20220517T110000
DTSTAMP:20260419T234959
CREATED:20220314T195244Z
LAST-MODIFIED:20220419T195425Z
UID:4300000729-1652781600-1652785200@nbhap.org
SUMMARY:Webinar: Recent Development in the Mental Health Parity Laws: What You Need to Know for Improving Reimbursement
DESCRIPTION:In the past several years\, there have been significant efforts at both the state and federal level to strengthen mental health parity legislation. This CE-based webinar will delve into the most notable existing and prospective legislation\, with an emphasis on California’s SB 855. \nFree to attend\, and 1 CE provided to those who attend live.
URL:https://nbhap.org/event/webinar-mental-health-parity-laws/
LOCATION:online
CATEGORIES:NBHAP event,webinar or workshop
ATTACH;FMTTYPE=image/png:https://nbhap.org/wp-content/uploads/2022_0517webinar-Mental-Health-Parity-Laws-WordPress.png
ORGANIZER;CN="NBHAP (National Behavioral Health Association of Providers)":MAILTO:info@nbhap.org
END:VEVENT
BEGIN:VEVENT
DTSTART;VALUE=DATE:20220512
DTEND;VALUE=DATE:20220514
DTSTAMP:20260419T234959
CREATED:20220216T212813Z
LAST-MODIFIED:20220216T212813Z
UID:4300000600-1652313600-1652486399@nbhap.org
SUMMARY:NACBT National Conference
DESCRIPTION:Free to attend for NACBT members.
URL:https://nbhap.org/event/nacbt-national-conference-2022/
LOCATION:online
CATEGORIES:conference or summit
END:VEVENT
BEGIN:VEVENT
DTSTART;TZID=America/Los_Angeles:20220510T100000
DTEND;TZID=America/Los_Angeles:20220510T110000
DTSTAMP:20260419T234959
CREATED:20220419T195536Z
LAST-MODIFIED:20220419T195536Z
UID:4300000744-1652176800-1652180400@nbhap.org
SUMMARY:Webinar: Reclaiming the Podium: Making SUD Policy a Priority Once Again
DESCRIPTION:This one-hour CE event will examine how Congress is addressing SUD prevention\, treatment\, and recovery. \nFree to attend\, and 1 CE provided to those who attend live.
URL:https://nbhap.org/event/webinar-reclaiming-the-podium-making-sud-policy-a-priority-once-again/
LOCATION:online
CATEGORIES:NBHAP event,webinar or workshop
ATTACH;FMTTYPE=image/png:https://nbhap.org/wp-content/uploads/2022_0510-BHAP-webinar-Reclaiming-the-Podium-main.png
ORGANIZER;CN="NBHAP (National Behavioral Health Association of Providers)":MAILTO:info@nbhap.org
END:VEVENT
BEGIN:VEVENT
DTSTART;VALUE=DATE:20220508
DTEND;VALUE=DATE:20220515
DTSTAMP:20260419T234959
CREATED:20211118T004509Z
LAST-MODIFIED:20211118T004517Z
UID:4300000673-1651968000-1652572799@nbhap.org
SUMMARY:National Prevention Week
DESCRIPTION:National Prevention Week (NPW) is a public education platform that promotes prevention year-round through providing ideas\, capacity building\, tools\, and resources to help individuals and communities make substance use prevention happen every day. \nNPW culminates in May recognizing the important work that has been done in communities throughout the year to inspire action and prevent substance use and mental disorders.
URL:https://nbhap.org/event/national-prevention-week-2022/
LOCATION:online
CATEGORIES:observance
END:VEVENT
BEGIN:VEVENT
DTSTART;VALUE=DATE:20220504
DTEND;VALUE=DATE:20220519
DTSTAMP:20260419T234959
CREATED:20220216T221104Z
LAST-MODIFIED:20220418T222017Z
UID:4300000720-1651622400-1652918399@nbhap.org
SUMMARY:CASRA Spring Conference
DESCRIPTION:Dates are May 4\, 11\, and 18\, 2022. \nThe theme of the CASRA 2022 Spring Conference is “Wellness and the Workplace”. As we continue returning to our work environments\, we have opportunities to reinforce our values\, retool and readjust our work to the changing times. \nEach day will consist of a Keynote Speaker\, a one-hour “Continental Breakfast” of multiple presentations conducted simultaneously\, and a two-hour in depth exploration of a topic. Speaker proposals due 04/08/22.
URL:https://nbhap.org/event/casra-spring-conference-2022/
LOCATION:online
CATEGORIES:conference or summit
END:VEVENT
BEGIN:VEVENT
DTSTART;VALUE=DATE:20220419
DTEND;VALUE=DATE:20220422
DTSTAMP:20260419T234959
CREATED:20220216T212422Z
LAST-MODIFIED:20220315T151610Z
UID:4300000598-1650326400-1650585599@nbhap.org
SUMMARY:Advocacy in Action Conference & Virtual Hill Day
DESCRIPTION:The Advocacy in Action Conference will feature speakers from government agencies and private organizations\, and will include a workforce panel and a cannabis panel.
URL:https://nbhap.org/event/advocacy-in-action-conference-virtual-hill-day-2022/
LOCATION:online
CATEGORIES:conference or summit
END:VEVENT
BEGIN:VEVENT
DTSTART;VALUE=DATE:20220407
DTEND;VALUE=DATE:20220409
DTSTAMP:20260419T234959
CREATED:20220222T213934Z
LAST-MODIFIED:20220222T213934Z
UID:4300000724-1649289600-1649462399@nbhap.org
SUMMARY:2022 Spring Conference
DESCRIPTION:
URL:https://nbhap.org/event/2022-spring-conference/
LOCATION:online
CATEGORIES:conference or summit
END:VEVENT
BEGIN:VEVENT
DTSTART;TZID=America/Los_Angeles:20220405T100000
DTEND;TZID=America/Los_Angeles:20220405T110000
DTSTAMP:20260419T234959
CREATED:20220217T234146Z
LAST-MODIFIED:20220314T195235Z
UID:4300000723-1649152800-1649156400@nbhap.org
SUMMARY:Webinar: Recovery Resilience vs. Shame and Stigma: Necessary Innovations in Addiction Treatment
DESCRIPTION:This webinar will navigate recovery from addiction while addressing barriers like personal shame and cultural stigma. Tying in principles and methods from his recent books on recovery resilience\, Dr. Bob Weathers will start with a diagnostic approach\, then address resources and limitations inherent in early recovery. Finally\, he’ll incorporate cognitive-behavioral and mindfulness strategies\, along with the creative process and relational neuroscience\, into a more advanced set of resources to aid in a sustained and successful recovery. \nFree to attend\, and 1 CE provided to those who attend live.
URL:https://nbhap.org/event/webinar-recovery-resilience-vs-shame-and-stigma-necessary-innovations-in-addiction-treatment/
LOCATION:online
CATEGORIES:NBHAP event,webinar or workshop
ATTACH;FMTTYPE=image/png:https://nbhap.org/wp-content/uploads/Recovery-Resilience-vs-Shame-and-Stigma-webinar-main.png
ORGANIZER;CN="NBHAP (National Behavioral Health Association of Providers)":MAILTO:info@nbhap.org
END:VEVENT
BEGIN:VEVENT
DTSTART;VALUE=DATE:20220405
DTEND;VALUE=DATE:20220406
DTSTAMP:20260419T234959
CREATED:20211217T220523Z
LAST-MODIFIED:20211217T220523Z
UID:4300000696-1649116800-1649203199@nbhap.org
SUMMARY:NJAMHAA Spring Conference
DESCRIPTION:Speaker proposals due 14/14/21.
URL:https://nbhap.org/event/njamhaa-spring-conference/
LOCATION:online
CATEGORIES:conference or summit
END:VEVENT
BEGIN:VEVENT
DTSTART;VALUE=DATE:20220322
DTEND;VALUE=DATE:20220326
DTSTAMP:20260419T234959
CREATED:20211217T222115Z
LAST-MODIFIED:20211217T222115Z
UID:4300000698-1647907200-1648252799@nbhap.org
SUMMARY:SOPHE Annual Conference 2022
DESCRIPTION:
URL:https://nbhap.org/event/sophe-annual-conference-2022/
LOCATION:online
CATEGORIES:conference or summit
END:VEVENT
BEGIN:VEVENT
DTSTART;VALUE=DATE:20220321
DTEND;VALUE=DATE:20220328
DTSTAMP:20260419T234959
CREATED:20211117T232116Z
LAST-MODIFIED:20211117T232116Z
UID:4300000659-1647820800-1648425599@nbhap.org
SUMMARY:National Drug & Alcohol Facts Week
DESCRIPTION:During National Drug and Alcohol Facts Week\, the National Institute on Drug Abuse (NIDA) encourages event planners to use NIDA’s resources to help support teens and focus on increasing protective factors to help reduce negative outcomes.
URL:https://nbhap.org/event/national-drug-alcohol-facts-week-2022/
LOCATION:online
CATEGORIES:observance
END:VEVENT
BEGIN:VEVENT
DTSTART;VALUE=DATE:20220318
DTEND;VALUE=DATE:20220321
DTSTAMP:20260419T234959
CREATED:20211217T195709Z
LAST-MODIFIED:20211217T195709Z
UID:4300000687-1647561600-1647820799@nbhap.org
SUMMARY:Child & Adolescent Psychopharmacology 2022
DESCRIPTION:Complex challenges and evolving guidelines are changing the way you care for young psychiatric patients. These areas include new diagnostic criteria\, patient-centered care models\, new trends in substance abuse\, research advances on genetics\, and much more. It is more important than ever to find the education that not only covers all these topics\, but is also innovative\, engaging\, and empowers you to reach improved outcomes.
URL:https://nbhap.org/event/child-adolescent-psychopharmacology-2022/
LOCATION:online
CATEGORIES:conference or summit
END:VEVENT
BEGIN:VEVENT
DTSTART;VALUE=DATE:20220311
DTEND;VALUE=DATE:20220314
DTSTAMP:20260419T234959
CREATED:20220216T212004Z
LAST-MODIFIED:20220216T212004Z
UID:4300000597-1646956800-1647215999@nbhap.org
SUMMARY:Annual Scientific Meeting
DESCRIPTION:
URL:https://nbhap.org/event/annual-scientific-meeting/
LOCATION:online
CATEGORIES:conference or summit
END:VEVENT
BEGIN:VEVENT
DTSTART;VALUE=DATE:20220307
DTEND;VALUE=DATE:20220309
DTSTAMP:20260419T234959
CREATED:20220216T211602Z
LAST-MODIFIED:20220216T211602Z
UID:4300000595-1646611200-1646783999@nbhap.org
SUMMARY:Addiction Medicine Advocacy Conference 2022
DESCRIPTION:ASAM\, AOAAM\, ACAAM\, and ACMT members are encouraged to join colleagues from across the country for a two-day virtual advocacy event. \nOn day one\, attendees will receive training from expert advocacy professionals on the issues most important to addiction medicine and hear from key policy leaders. On day two\, attendees will participate in carefully planned virtual meetings with Capitol Hill policymakers and their staff to advance an ambitious policy agenda designed to support addiction treatment professionals as they treat patients and save lives.
URL:https://nbhap.org/event/addiction-medicine-advocacy-conference-2022/
LOCATION:online
CATEGORIES:conference or summit
END:VEVENT
BEGIN:VEVENT
DTSTART;VALUE=DATE:20220228
DTEND;VALUE=DATE:20220306
DTSTAMP:20260419T234959
CREATED:20211006T153232Z
LAST-MODIFIED:20211006T153232Z
UID:4300000622-1646006400-1646524799@nbhap.org
SUMMARY:AGPA Connect
DESCRIPTION:AGPA Connect is designed for clinicians\, as well as mental health workers\, psychiatric residents and graduate students in mental health degree programs. It is composed of three major sections: the Special Institute\, the Two-Day Institute\, and the Conference.
URL:https://nbhap.org/event/agpa-connect/
LOCATION:online
CATEGORIES:conference or summit
END:VEVENT
BEGIN:VEVENT
DTSTART;TZID=America/Los_Angeles:20220226T090000
DTEND;TZID=America/Los_Angeles:20220226T130000
DTSTAMP:20260419T234959
CREATED:20220210T193929Z
LAST-MODIFIED:20220210T193929Z
UID:4300000593-1645866000-1645880400@nbhap.org
SUMMARY:IC&RC Exam Prep
DESCRIPTION:This workshop will prepare students for the IC&RC exam\, a requirement to become certified counselors. It includes reviewing all content areas of the test questions. Free for CCAPP students only.
URL:https://nbhap.org/event/icrc-exam-prep/
LOCATION:online
CATEGORIES:partner event,webinar or workshop
END:VEVENT
BEGIN:VEVENT
DTSTART;VALUE=DATE:20220224
DTEND;VALUE=DATE:20220226
DTSTAMP:20260419T234959
CREATED:20220120T000445Z
LAST-MODIFIED:20220120T000445Z
UID:4300000709-1645660800-1645833599@nbhap.org
SUMMARY:Engagement in the Black Community
DESCRIPTION:This virtual event will feature prominent industry professionals discussing critical issues in the Black community relevant to treatment and recovery. Earn up to 8 CEs! \nFor those who are unable to attend the summit live\, five of the six sessions at the Engagement in the Black Community: A Virtual NAADAC Summit will be available on-demand for you to view anytime\, anywhere! Earn up to 6.5 CEs on demand! \nOpen to all professionals\, this summit seeks to foster diversity\, openness\, and inclusion within the recovery community\, and highlight some of the unique needs and traits of this identified group.
URL:https://nbhap.org/event/engagement-in-the-black-community/
LOCATION:online
END:VEVENT
BEGIN:VEVENT
DTSTART;VALUE=DATE:20220220
DTEND;VALUE=DATE:20220224
DTSTAMP:20260419T234959
CREATED:20220120T000157Z
LAST-MODIFIED:20220120T000157Z
UID:4300000708-1645315200-1645660799@nbhap.org
SUMMARY:Substance Use Disorders: A Comprehensive Review and Update 2022
DESCRIPTION:Substance use disorders are complex and have a huge impact on patients\, families and communities. They challenge even experienced health care professionals to stay current with evolving guidelines. And they are seen and treated across all professions\, disciplines and practice settings. This includes primary care\, psychiatry\, social work\, psychology\, family practice\, nursing and more.
URL:https://nbhap.org/event/substance-use-disorders-a-comprehensive-review-and-update-2022/
LOCATION:online
CATEGORIES:conference or summit
END:VEVENT
BEGIN:VEVENT
DTSTART;VALUE=DATE:20220211
DTEND;VALUE=DATE:20220213
DTSTAMP:20260419T234959
CREATED:20220120T181456Z
LAST-MODIFIED:20220120T181502Z
UID:4300000716-1644537600-1644710399@nbhap.org
SUMMARY:Intersection of Science\, Treatment and Policy Conference
DESCRIPTION:This conference has been designed for physicians\, medical students/residents\, and addiction professionals. Join physicians and other health professionals at the New York Society of Addiction Medicine’s Annual Medical-Scientific Conference. Learn about cutting-edge addiction medicine issues and exchange ideas about developments in NYS and across the nation. This conference offers state-of-the-art presentations highlighting the most recent developments in addiction medicine. This conference will increase your skills and build your confidence in evaluating and making appropriate decisions for treating addictive disorders in diverse populations.
URL:https://nbhap.org/event/intersection-of-science-treatment-and-policy-conference-2022/
LOCATION:online
CATEGORIES:conference or summit
END:VEVENT
BEGIN:VEVENT
DTSTART;TZID=America/Los_Angeles:20220202T140000
DTEND;TZID=America/Los_Angeles:20220202T150000
DTSTAMP:20260419T234959
CREATED:20220104T203301Z
LAST-MODIFIED:20220104T203301Z
UID:4300000703-1643810400-1643814000@nbhap.org
SUMMARY:Webinar: Cyber Security and Insurance Needs in the Health Care Field
DESCRIPTION:
URL:https://nbhap.org/event/webinar-cyber-security-and-insurance-needs-in-the-health-care-field/
LOCATION:online
CATEGORIES:partner event,webinar or workshop
END:VEVENT
BEGIN:VEVENT
DTSTART;VALUE=DATE:20220127
DTEND;VALUE=DATE:20220130
DTSTAMP:20260419T234959
CREATED:20211229T225119Z
LAST-MODIFIED:20211229T225408Z
UID:4300000701-1643241600-1643500799@nbhap.org
SUMMARY:Annual Virtual Conference on Suicide: Equity and Equality: Expanding the Conversation and Offering Solutions
DESCRIPTION:This Conference is recognized by many to be the premier behavioral health conference dedicated to suicide prevention in southeastern Michigan and throughout the Great Lakes region. At the 2022 Conference on Suicide\, we are anticipating over 400 educators\, mental health professionals\, business and community leaders\, as well as members of the public\, loss survivors of suicide and attempt survivors to discuss suicide as a public health crisis in an effort to better understand and prevent suicide and SAVE LIVES.
URL:https://nbhap.org/event/annual-virtual-conference-on-suicide-equity-and-equality-expanding-the-conversation-and-offering-solutions-2022/
LOCATION:online
CATEGORIES:conference or summit
END:VEVENT
BEGIN:VEVENT
DTSTART;VALUE=DATE:20220124
DTEND;VALUE=DATE:20220127
DTSTAMP:20260419T234959
CREATED:20220105T175624Z
LAST-MODIFIED:20220105T175624Z
UID:4300000706-1642982400-1643241599@nbhap.org
SUMMARY:Annual Kansas Prevention Advocacy Days
DESCRIPTION:The 2022 Kansas Prevention Advocacy Event is a celebration of the prevention efforts happening across Kansas. By registering you will have access to advocacy opportunities\, peer meet ups\, informative content\, and prevention resources.
URL:https://nbhap.org/event/annual-kansas-prevention-advocacy-days/
LOCATION:online
END:VEVENT
BEGIN:VEVENT
DTSTART;TZID=America/Los_Angeles:20220120T100000
DTEND;TZID=America/Los_Angeles:20220120T120000
DTSTAMP:20260419T234959
CREATED:20220105T175344Z
LAST-MODIFIED:20220518T232421Z
UID:4300000705-1642672800-1642680000@nbhap.org
SUMMARY:PreventionWorKS
DESCRIPTION:Gear up for advocacy day by joining us at PreventionWorKS on January 20. Learn about using P.I.E. (Positive\, Inclusive\, Empowering) Guidelines to communicate your prevention message. Time is Central time zone.
URL:https://nbhap.org/event/preventionworks-012022/
LOCATION:online
CATEGORIES:conference or summit
END:VEVENT
BEGIN:VEVENT
DTSTART;VALUE=DATE:20220111
DTEND;VALUE=DATE:20220113
DTSTAMP:20260419T234959
CREATED:20211018T233315Z
LAST-MODIFIED:20211018T233315Z
UID:4300000530-1641859200-1642031999@nbhap.org
SUMMARY:TPAS Winter Virtual Collaborative
DESCRIPTION:TPAS invites all alumni and recovery support professionals to come with their ideas\, questions and challenges. At the TPAS Collaborative\, Open Space Technology is our special approach that favors active participation and collaboration rather than constraining agendas and lectures. Come with questions\, ideas\, thoughts\, concerns\, road blocks\, difficulties and together we will continue creating best practices for alumni services and recovery support. 
URL:https://nbhap.org/event/tpas-winter-virtual-collaborative-2022/
LOCATION:online
CATEGORIES:conference or summit
END:VEVENT
BEGIN:VEVENT
DTSTART;VALUE=DATE:20220103
DTEND;VALUE=DATE:20220115
DTSTAMP:20260419T234959
CREATED:20211223T204715Z
LAST-MODIFIED:20211223T204715Z
UID:4300000699-1641168000-1642204799@nbhap.org
SUMMARY:Behavioral Health Peer Support Training
DESCRIPTION:The Behavioral Health Peer Support training is an innovative new approach to healing people’s lives that is unlike any other training. Utilizing a dynamic approach to learning that blends both process and content\, this training satisfies education requirements for the Certified Mental Health Peer Credential and SUD Peer Recovery Mentor Credential.
URL:https://nbhap.org/event/behavioral-health-peer-support-training-010321/
LOCATION:online
CATEGORIES:partner event
END:VEVENT
BEGIN:VEVENT
DTSTART;VALUE=DATE:20211209
DTEND;VALUE=DATE:20211213
DTSTAMP:20260419T234959
CREATED:20210809T172655Z
LAST-MODIFIED:20210809T173346Z
UID:4300000550-1639008000-1639353599@nbhap.org
SUMMARY:AAAP Annual Meeting
DESCRIPTION:This event provides the latest scientific developments in substance use disorders and co-occurring psychiatric disorders for psychiatrists\, primary care physicians\, and allied health professionals. The goal of the conference is to recognize emerging issues and trends in addiction psychiatry and be on the forefront of diagnosis and treatment of substance use disorders and co-occurring psychiatric disorders. Proposals due 04/08/21.
URL:https://nbhap.org/event/aaap-annual-meeting-2021/
LOCATION:online
CATEGORIES:annual meeting
END:VEVENT
BEGIN:VEVENT
DTSTART;TZID=America/Los_Angeles:20211208T120000
DTEND;TZID=America/Los_Angeles:20211208T130000
DTSTAMP:20260419T234959
CREATED:20211119T193343Z
LAST-MODIFIED:20211119T193343Z
UID:4300000675-1638964800-1638968400@nbhap.org
SUMMARY:Webinar: Behavioral Health Insurance Forum
DESCRIPTION:Please join Nelson Hardiman for an informal quarterly forum for the behavioral health community to discuss industry-wide trends\, challenges\, and hot-topics in billing and reimbursement. \nThe moderators will also address several other recent events affecting the commercial reimbursement landscape for behavioral health providers.
URL:https://nbhap.org/event/webinar-behavioral-health-insurance-forum/
LOCATION:online
CATEGORIES:partner event,webinar or workshop
END:VEVENT
BEGIN:VEVENT
DTSTART;VALUE=DATE:20211206
DTEND;VALUE=DATE:20211211
DTSTAMP:20260419T234959
CREATED:20211102T200419Z
LAST-MODIFIED:20211102T200419Z
UID:4300000638-1638748800-1639180799@nbhap.org
SUMMARY:Annual Program Meeting
DESCRIPTION:The Council on Social Work Education’s (CSWE) Annual Program Meeting (APM) is the place where social work education professionals collaborate\, learn\, teach\, and grow. This year’s APM is focused on “Leading Critical Conversations: Racial\, Economic\, & Environmental Justice” and will feature social work education presentations\, an exhibit hall\, and networking opportunities.
URL:https://nbhap.org/event/annual-program-meeting/
LOCATION:online
CATEGORIES:annual meeting
END:VEVENT
BEGIN:VEVENT
DTSTART;VALUE=DATE:20211115
DTEND;VALUE=DATE:20211120
DTSTAMP:20260419T234959
CREATED:20211102T195201Z
LAST-MODIFIED:20211102T195329Z
UID:4300000636-1636934400-1637366399@nbhap.org
SUMMARY:Reimagine: A Week of Action
DESCRIPTION:Throughout the week of November 15-19\, 2021\, REIMAGINE will bring together leading organizations to elevate crisis response and coordinate federal and state advocacy efforts to establish and fully fund our country’s crisis response systems before a new three-digit number for mental health\, substance use and suicidal crises\, 9-8-8\, goes live nationwide by July 2022.
URL:https://nbhap.org/event/reimagine-a-week-of-action-2021/
LOCATION:online
CATEGORIES:conference or summit
END:VEVENT
END:VCALENDAR